Workbook

Sheet Mau A2
Q1: Mẫu A2
A2: UBND THÀNH PHỐ HỒ CHÍ MINH | K2: CỘNG HÒA XÃ HỘI CHỦ NGHĨA VIỆT NAM
A3: TRƯỜNG CAO ĐẲNG LÝ TỰ TRỌNG THÀNH PHỐ HỒ CHÍ MINH | K3: Độc lập - Tự do - Hạnh phúc
A4: BẢNG TỔNG KẾT KHỐI LƯỢNG CÔNG VIỆC CỦA GIẢNG VIÊN TRONG NĂM HỌC 2018 - 2019
A5: KHOA : CÔNG NGHỆ THÔNG TIN
A7: TT | B7: Họ và Tên | D7: Thực hiện trong năm học | J7: Số tiết chuẩn giảng dạy cả năm còn lại | K7: Số tiết chuẩn "Học tập, bồi dưỡng chuẩn hóa, bồi dưỡng nâng cao, nghiên cứu khoa học" còn lại | L7: Số tiết chuẩn "Thực tập tại doanh nghiệp hoặc cơ quan chuyên môn" còn lại | M7: Số tiết thừa, thiếu giảng dạy | N7: Số tiết thừa, thiếu "Học tập, bồi dưỡng chuẩn hóa, bồi dưỡng nâng cao, nghiên cứu khoa học" | O7: Số tiết thừa, thiếu "Thực tập tại doanh nghiệp hoặc cơ quan chuyên môn" | P7: Tổng số tiết thừa, thiếu năm học 2018-2019 | Q7: Số tiết thiếu năm học 2017-2018 | R7: Tổng số tiết thừa, thiếu (sau khi cộng số tiết thiếu năm học 2016-2017)
D8: Số tiết quy đổi và đã nhân hệ số | E8: Kiêm nhiệm | F8: Số tiết soạn đề, coi thi, chấm thi | G8: Tổng tiết thực hiện | H8: Số tiết "Học tập, bồi dưỡng chuẩn hóa, bồi dưỡng nâng cao, nghiên cứu khoa học" | I8: Số tiết "Thực tập tại doanh nghiệp hoặc cơ quan chuyên môn"
R9: Khối lượng vượt giờ (tính phụ trội) | S9: Khối lượng thỉnh giảng (tiết thỉnh giảng) | T9: Số tiết thiếu năm học 2017-2018
A10: (1) | B10: (2) | D10: (3) | E10: (4) | F10: (5) | G10: (6) | H10: (7) | I10: (8) | J10: (9) | K10: (10) | L10: (11) | M10: (12) | N10: (13) | O10: (14) | Q10: (15) | R10: (16) | S10: (17) | T10: (18)
A11: 1 | B11: =IF('Mau A1'!B11="","",'Mau A1'!B11) -> Nguyễn Vân | C11: =IF('Mau A1'!C11="","",'Mau A1'!C11) -> Giang | D11: =SUM('Mau A1'!M11:M30) -> 697.5 | E11: =SUM('Mau A1'!N11:N30) -> 86 | F11: =SUM('Mau A1'!O11:O30) -> 0 | G11: =SUM('Mau A1'!P11:P30) -> 783.5 | H11: =SUM('Mau A1'!Q11:Q30) -> 21.4 | I11: =SUM('Mau A1'!R11:R30) -> 0 | J11: =SUM('Mau A1'!T11:T30) -> 430 | K11: =SUM('Mau A1'!V11:V30) -> 112 | L11: =SUM('Mau A1'!X11:X30) -> 56 | M11: =SUM('Mau A1'!Y11:Y30) -> 353.5 | N11: =SUM('Mau A1'!Z11:Z30) -> -90.6 | O11: =SUM('Mau A1'!AA11:AA30) -> -56 | P11: =SUM('Mau A1'!AC11:AC30) -> 206.9 | Q11: =SUM('Mau A1'!AB11:AB30) -> 0 | R11: =ROUND(IF(AND(0<M11<200,0<(M11-Q11)<200,N11>=0,O11>=0),M11-Q11,IF(OR(AND(P11>0,P11>200),(P11-Q11)>200),"200",IF(OR(AND(N11<=0,O11=0,P11<200),AND(N11=0,O11<0,P11<200),AND(N11<0,O11<0,P11<200)),P11-Q11, ))),1) -> 200 | S11: =ROUND(IF(AND(N11>0,O11>0,M11<=0,R11=0),P11-Q11,IF(AND(P11>0,R11=200),P11-Q11-R11, )),1) -> 6.9 | T11: =ROUND(IF(SUM(M11:O11)-Q11<0,SUM(M11:O11)-Q11, ),1) -> 0
A12: 2 | B12: =IF('Mau A1'!B31="","",'Mau A1'!B31) -> Nguyễn | C12: =IF('Mau A1'!C31="","",'Mau A1'!C31) -> Khoa | D12: =SUM('Mau A1'!M31:M50) -> 736.1 | E12: =SUM('Mau A1'!N31:N50) -> 129 | F12: =SUM('Mau A1'!O31:O50) -> 0 | G12: =SUM('Mau A1'!P31:P50) -> 865.1 | H12: =SUM('Mau A1'!Q31:Q50) -> 21.4 | I12: =SUM('Mau A1'!R31:R50) -> 0 | J12: =SUM('Mau A1'!T31:T50) -> 430 | K12: =SUM('Mau A1'!V31:V50) -> 112 | L12: =SUM('Mau A1'!X31:X50) -> 56 | M12: =SUM('Mau A1'!Y31:Y50) -> 435.1 | N12: =SUM('Mau A1'!Z31:Z50) -> -90.6 | O12: =SUM('Mau A1'!AA31:AA50) -> -56 | P12: =SUM('Mau A1'!AC31:AC50) -> 288.5 | Q12: =SUM('Mau A1'!AB31:AB50) -> 0 | R12: =ROUND(IF(AND(0<M12<200,0<(M12-Q12)<200,N12>=0,O12>=0),M12-Q12,IF(OR(AND(P12>0,P12>200),(P12-Q12)>200),"200",IF(OR(AND(N12<=0,O12=0,P12<200),AND(N12=0,O12<0,P12<200),AND(N12<0,O12<0,P12<200)),P12-Q12, ))),1) -> 200 | S12: =ROUND(IF(AND(N12>0,O12>0,M12<=0,R12=0),P12-Q12,IF(AND(P12>0,R12=200),P12-Q12-R12, )),1) -> 88.5 | T12: =ROUND(IF(SUM(M12:O12)-Q12<0,SUM(M12:O12)-Q12, ),1) -> 0
A13: 3 | B13: =IF('Mau A1'!B51="","",'Mau A1'!B51) -> Nguyễn Văn | C13: =IF('Mau A1'!C51="","",'Mau A1'!C51) -> Minh | D13: =SUM('Mau A1'!M51:M70) -> 826.5 | E13: =SUM('Mau A1'!N51:N70) -> 64.5 | F13: =SUM('Mau A1'!O51:O70) -> 0 | G13: =SUM('Mau A1'!P51:P70) -> 891 | H13: =SUM('Mau A1'!Q51:Q70) -> 0 | I13: =SUM('Mau A1'!R51:R70) -> 0 | J13: =SUM('Mau A1'!T51:T70) -> 430 | K13: =SUM('Mau A1'!V51:V70) -> 112 | L13: =SUM('Mau A1'!X51:X70) -> 56 | M13: =SUM('Mau A1'!Y51:Y70) -> 461 | N13: =SUM('Mau A1'!Z51:Z70) -> -112 | O13: =SUM('Mau A1'!AA51:AA70) -> -56 | P13: =SUM('Mau A1'!AC51:AC70) -> 293 | Q13: =SUM('Mau A1'!AB51:AB70) -> 0 | R13: =ROUND(IF(AND(0<M13<200,0<(M13-Q13)<200,N13>=0,O13>=0),M13-Q13,IF(OR(AND(P13>0,P13>200),(P13-Q13)>200),"200",IF(OR(AND(N13<=0,O13=0,P13<200),AND(N13=0,O13<0,P13<200),AND(N13<0,O13<0,P13<200)),P13-Q13, ))),1) -> 200 | S13: =ROUND(IF(AND(N13>0,O13>0,M13<=0,R13=0),P13-Q13,IF(AND(P13>0,R13=200),P13-Q13-R13, )),1) -> 93 | T13: =ROUND(IF(SUM(M13:O13)-Q13<0,SUM(M13:O13)-Q13, ),1) -> 0
A14: 4 | B14: =IF('Mau A1'!B71="","",'Mau A1'!B71) -> Vũ Thị Thái | C14: =IF('Mau A1'!C71="","",'Mau A1'!C71) -> Linh | D14: =SUM('Mau A1'!M71:M90) -> 705 | E14: =SUM('Mau A1'!N71:N90) -> 64.5 | F14: =SUM('Mau A1'!O71:O90) -> 0 | G14: =SUM('Mau A1'!P71:P90) -> 769.5 | H14: =SUM('Mau A1'!Q71:Q90) -> 0 | I14: =SUM('Mau A1'!R71:R90) -> 0 | J14: =SUM('Mau A1'!T71:T90) -> 430 | K14: =SUM('Mau A1'!V71:V90) -> 112 | L14: =SUM('Mau A1'!X71:X90) -> 56 | M14: =SUM('Mau A1'!Y71:Y90) -> 339.5 | N14: =SUM('Mau A1'!Z71:Z90) -> -112 | O14: =SUM('Mau A1'!AA71:AA90) -> -56 | P14: =SUM('Mau A1'!AC71:AC90) -> 171.5 | Q14: =SUM('Mau A1'!AB71:AB90) -> 0 | R14: =ROUND(IF(AND(0<M14<200,0<(M14-Q14)<200,N14>=0,O14>=0),M14-Q14,IF(OR(AND(P14>0,P14>200),(P14-Q14)>200),"200",IF(OR(AND(N14<=0,O14=0,P14<200),AND(N14=0,O14<0,P14<200),AND(N14<0,O14<0,P14<200)),P14-Q14, ))),1) -> 171.5 | S14: =ROUND(IF(AND(N14>0,O14>0,M14<=0,R14=0),P14-Q14,IF(AND(P14>0,R14=200),P14-Q14-R14, )),1) -> 0 | T14: =ROUND(IF(SUM(M14:O14)-Q14<0,SUM(M14:O14)-Q14, ),1) -> 0
A15: 5 | B15: =IF('Mau A1'!B91="","",'Mau A1'!B91) -> Nguyễn Văn | C15: =IF('Mau A1'!C91="","",'Mau A1'!C91) -> Danh | D15: =SUM('Mau A1'!M91:M120) -> 1321.6 | E15: =SUM('Mau A1'!N91:N120) -> 64.5 | F15: =SUM('Mau A1'!O91:O120) -> 0 | G15: =SUM('Mau A1'!P91:P120) -> 1386.1 | H15: =SUM('Mau A1'!Q91:Q120) -> 0 | I15: =SUM('Mau A1'!R91:R120) -> 0 | J15: =SUM('Mau A1'!T91:T120) -> 430 | K15: =SUM('Mau A1'!V91:V120) -> 112 | L15: =SUM('Mau A1'!X91:X120) -> 56 | M15: =SUM('Mau A1'!Y91:Y120) -> 956.1 | N15: =SUM('Mau A1'!Z91:Z120) -> -112 | O15: =SUM('Mau A1'!AA91:AA120) -> -56 | P15: =SUM('Mau A1'!AC91:AC120) -> 788.1 | Q15: =SUM('Mau A1'!AB91:AB120) -> 0 | R15: =ROUND(IF(AND(0<M15<200,0<(M15-Q15)<200,N15>=0,O15>=0),M15-Q15,IF(OR(AND(P15>0,P15>200),(P15-Q15)>200),"200",IF(OR(AND(N15<=0,O15=0,P15<200),AND(N15=0,O15<0,P15<200),AND(N15<0,O15<0,P15<200)),P15-Q15, ))),1) -> 200 | S15: =ROUND(IF(AND(N15>0,O15>0,M15<=0,R15=0),P15-Q15,IF(AND(P15>0,R15=200),P15-Q15-R15, )),1) -> 588.1 | T15: =ROUND(IF(SUM(M15:O15)-Q15<0,SUM(M15:O15)-Q15, ),1) -> 0
A16: 6 | B16: =IF('Mau A1'!B121="","",'Mau A1'!B121) -> Nguyễn Thị | C16: =IF('Mau A1'!C121="","",'Mau A1'!C121) -> Thủy | D16: =SUM('Mau A1'!M121:M141) -> 957 | E16: =SUM('Mau A1'!N121:N141) -> 64.5 | F16: =SUM('Mau A1'!O121:O141) -> 0 | G16: =SUM('Mau A1'!P121:P141) -> 1021.5 | H16: =SUM('Mau A1'!Q121:Q141) -> 0 | I16: =SUM('Mau A1'!R121:R141) -> 0 | J16: =SUM('Mau A1'!T121:T141) -> 430 | K16: =SUM('Mau A1'!V121:V141) -> 112 | L16: =SUM('Mau A1'!X121:X141) -> 56 | M16: =SUM('Mau A1'!Y121:Y141) -> 591.5 | N16: =SUM('Mau A1'!Z121:Z141) -> -112 | O16: =SUM('Mau A1'!AA121:AA141) -> -56 | P16: =SUM('Mau A1'!AC121:AC141) -> 423.5 | Q16: =SUM('Mau A1'!AB121:AB141) -> 0 | R16: =ROUND(IF(AND(0<M16<200,0<(M16-Q16)<200,N16>=0,O16>=0),M16-Q16,IF(OR(AND(P16>0,P16>200),(P16-Q16)>200),"200",IF(OR(AND(N16<=0,O16=0,P16<200),AND(N16=0,O16<0,P16<200),AND(N16<0,O16<0,P16<200)),P16-Q16, ))),1) -> 200 | S16: =ROUND(IF(AND(N16>0,O16>0,M16<=0,R16=0),P16-Q16,IF(AND(P16>0,R16=200),P16-Q16-R16, )),1) -> 223.5 | T16: =ROUND(IF(SUM(M16:O16)-Q16<0,SUM(M16:O16)-Q16, ),1) -> 0
A17: 7 | B17: =IF('Mau A1'!B142="","",'Mau A1'!B142) -> Nguyễn Thị Thu | C17: =IF('Mau A1'!C142="","",'Mau A1'!C142) -> Hồng | D17: =SUM('Mau A1'!M142:M160) -> 761.2 | E17: =SUM('Mau A1'!N142:N160) -> 64.5 | F17: =SUM('Mau A1'!O142:O160) -> 0 | G17: =SUM('Mau A1'!P142:P160) -> 825.7 | H17: =SUM('Mau A1'!Q142:Q160) -> 0 | I17: =SUM('Mau A1'!R142:R160) -> 0 | J17: =SUM('Mau A1'!T142:T160) -> 430 | K17: =SUM('Mau A1'!V142:V160) -> 112 | L17: =SUM('Mau A1'!X142:X160) -> 56 | M17: =SUM('Mau A1'!Y142:Y160) -> 395.7 | N17: =SUM('Mau A1'!Z142:Z160) -> -112 | O17: =SUM('Mau A1'!AA142:AA160) -> -56 | P17: =SUM('Mau A1'!AC142:AC160) -> 227.7 | Q17: =SUM('Mau A1'!AB142:AB160) -> 0 | R17: =ROUND(IF(AND(0<M17<200,0<(M17-Q17)<200,N17>=0,O17>=0),M17-Q17,IF(OR(AND(P17>0,P17>200),(P17-Q17)>200),"200",IF(OR(AND(N17<=0,O17=0,P17<200),AND(N17=0,O17<0,P17<200),AND(N17<0,O17<0,P17<200)),P17-Q17, ))),1) -> 200 | S17: =ROUND(IF(AND(N17>0,O17>0,M17<=0,R17=0),P17-Q17,IF(AND(P17>0,R17=200),P17-Q17-R17, )),1) -> 27.7 | T17: =ROUND(IF(SUM(M17:O17)-Q17<0,SUM(M17:O17)-Q17, ),1) -> 0
A18: 8 | B18: =IF('Mau A1'!B161="","",'Mau A1'!B161) -> Lê Hồng | C18: =IF('Mau A1'!C161="","",'Mau A1'!C161) -> Thái | D18: =SUM('Mau A1'!M161:M180) -> 681 | E18: =SUM('Mau A1'!N161:N180) -> 0 | F18: =SUM('Mau A1'!O161:O180) -> 0 | G18: =SUM('Mau A1'!P161:P180) -> 681 | H18: =SUM('Mau A1'!Q161:Q180) -> 0 | I18: =SUM('Mau A1'!R161:R180) -> 0 | J18: =SUM('Mau A1'!T161:T180) -> 312.72727 | K18: =SUM('Mau A1'!V161:V180) -> 112 | L18: =SUM('Mau A1'!X161:X180) -> 56 | M18: =SUM('Mau A1'!Y161:Y180) -> 368.3 | N18: =SUM('Mau A1'!Z161:Z180) -> -112 | O18: =SUM('Mau A1'!AA161:AA180) -> -56 | P18: =SUM('Mau A1'!AC161:AC180) -> 200.3 | Q18: =SUM('Mau A1'!AB161:AB180) -> 0 | R18: =ROUND(IF(AND(0<M18<200,0<(M18-Q18)<200,N18>=0,O18>=0),M18-Q18,IF(OR(AND(P18>0,P18>200),(P18-Q18)>200),"200",IF(OR(AND(N18<=0,O18=0,P18<200),AND(N18=0,O18<0,P18<200),AND(N18<0,O18<0,P18<200)),P18-Q18, ))),1) -> 200 | S18: =ROUND(IF(AND(N18>0,O18>0,M18<=0,R18=0),P18-Q18,IF(AND(P18>0,R18=200),P18-Q18-R18, )),1) -> 0.3 | T18: =ROUND(IF(SUM(M18:O18)-Q18<0,SUM(M18:O18)-Q18, ),1) -> 0
A19: 9 | B19: =IF('Mau A1'!B181="","",'Mau A1'!B181) -> Huỳnh Quốc | C19: =IF('Mau A1'!C181="","",'Mau A1'!C181) -> Dũng | D19: =SUM('Mau A1'!M181:M200) -> 661.6 | E19: =SUM('Mau A1'!N181) -> 64.5 | F19: =SUM('Mau A1'!O181) -> 0 | G19: =SUM('Mau A1'!P181) -> 726.1 | H19: =SUM('Mau A1'!Q181) -> 0 | I19: =SUM('Mau A1'!R181) -> 0 | J19: =SUM('Mau A1'!T181) -> 430 | K19: =SUM('Mau A1'!V181) -> 112 | L19: =SUM('Mau A1'!X181) -> 56 | M19: =SUM('Mau A1'!Y181) -> 296.1 | N19: =SUM('Mau A1'!$Z$181) -> -112 | O19: =SUM('Mau A1'!AA181) -> -56 | P19: =SUM('Mau A1'!AC181) -> 128.1 | Q19: =SUM('Mau A1'!AB181) -> 0 | R19: =ROUND(IF(AND(0<M19<200,0<(M19-Q19)<200,N19>=0,O19>=0),M19-Q19,IF(OR(AND(P19>0,P19>200),(P19-Q19)>200),"200",IF(OR(AND(N19<=0,O19=0,P19<200),AND(N19=0,O19<0,P19<200),AND(N19<0,O19<0,P19<200)),P19-Q19, ))),1) -> 128.1 | S19: =ROUND(IF(AND(N19>0,O19>0,M19<=0,R19=0),P19-Q19,IF(AND(P19>0,R19=200),P19-Q19-R19, )),1) -> 0 | T19: =ROUND(IF(SUM(M19:O19)-Q19<0,SUM(M19:O19)-Q19, ),1) -> 0
A20: 10 | B20: =IF('Mau A1'!B201="","",'Mau A1'!B201) -> Hồ Ngọc | C20: =IF('Mau A1'!C201="","",'Mau A1'!C201) -> Chi | D20: =SUM('Mau A1'!M201:M220) -> 799.6 | E20: =SUM('Mau A1'!N201) -> 64.5 | F20: =SUM('Mau A1'!O201) -> 0 | G20: =SUM('Mau A1'!P201:P220) -> 864.1 | H20: =SUM('Mau A1'!Q201) -> 0 | I20: =SUM('Mau A1'!R201) -> 0 | J20: =SUM('Mau A1'!T201) -> 430 | K20: =SUM('Mau A1'!V201) -> 112 | L20: =SUM('Mau A1'!X163:X182) -> 56 | M20: =SUM('Mau A1'!Y201) -> 434.1 | N20: =SUM('Mau A1'!$Z$201) -> -112 | O20: =SUM('Mau A1'!AA201) -> -56 | P20: =SUM('Mau A1'!AC201) -> 266.1 | Q20: =SUM('Mau A1'!AB201) -> 0 | R20: =ROUND(IF(AND(0<M20<200,0<(M20-Q20)<200,N20>=0,O20>=0),M20-Q20,IF(OR(AND(P20>0,P20>200),(P20-Q20)>200),"200",IF(OR(AND(N20<=0,O20=0,P20<200),AND(N20=0,O20<0,P20<200),AND(N20<0,O20<0,P20<200)),P20-Q20, ))),1) -> 200 | S20: =ROUND(IF(AND(N20>0,O20>0,M20<=0,R20=0),P20-Q20,IF(AND(P20>0,R20=200),P20-Q20-R20, )),1) -> 66.1 | T20: =ROUND(IF(SUM(M20:O20)-Q20<0,SUM(M20:O20)-Q20, ),1) -> 0
A21: 11 | B21: =IF('Mau A1'!B221="","",'Mau A1'!B221) -> Nguyễn Thị Khánh | C21: =IF('Mau A1'!C221="","",'Mau A1'!C221) -> Thư | D21: =SUM('Mau A1'!M221:M239) -> 740.3 | E21: =SUM('Mau A1'!N221:N239) -> 64.5 | F21: =SUM('Mau A1'!O221:O239) -> 0 | G21: =SUM('Mau A1'!P221:P239) -> 804.8 | H21: =SUM('Mau A1'!Q221:Q239) -> 0 | I21: =SUM('Mau A1'!R221:R239) -> 0 | J21: =SUM('Mau A1'!T221:T239) -> 430 | K21: =SUM('Mau A1'!V221:V239) -> 112 | L21: =SUM('Mau A1'!X221:X239) -> 56 | M21: =SUM('Mau A1'!Y221:Y239) -> 374.8 | N21: =SUM('Mau A1'!Z221:Z239) -> -112 | O21: =SUM('Mau A1'!AA221:AA239) -> -56 | P21: =SUM('Mau A1'!AC221:AC239) -> 206.8 | Q21: =SUM('Mau A1'!AB221:AB239) -> 0 | R21: =ROUND(IF(AND(0<M21<200,0<(M21-Q21)<200,N21>=0,O21>=0),M21-Q21,IF(OR(AND(P21>0,P21>200),(P21-Q21)>200),"200",IF(OR(AND(N21<=0,O21=0,P21<200),AND(N21=0,O21<0,P21<200),AND(N21<0,O21<0,P21<200)),P21-Q21, ))),1) -> 200 | S21: =ROUND(IF(AND(N21>0,O21>0,M21<=0,R21=0),P21-Q21,IF(AND(P21>0,R21=200),P21-Q21-R21, )),1) -> 6.8 | T21: =ROUND(IF(SUM(M21:O21)-Q21<0,SUM(M21:O21)-Q21, ),1) -> 0
A22: 12 | B22: =IF('Mau A1'!B240="","",'Mau A1'!B240) -> Nguyễn Sanh | C22: Cường | D22: =SUM('Mau A1'!M240:M256) -> 665.3 | E22: =SUM('Mau A1'!N240:N256) -> 64.5 | F22: =SUM('Mau A1'!O240:O256) -> 0 | G22: =SUM('Mau A1'!P240:P256) -> 729.8 | H22: =SUM('Mau A1'!Q240:Q256) -> 0 | I22: =SUM('Mau A1'!R240:R256) -> 0 | J22: =SUM('Mau A1'!T240:T256) -> 430 | K22: =SUM('Mau A1'!V240:V256) -> 112 | L22: =SUM('Mau A1'!X240:X256) -> 56 | M22: =SUM('Mau A1'!Y240:Y256) -> 299.8 | N22: =SUM('Mau A1'!Z240:Z256) -> -112 | O22: =SUM('Mau A1'!AA240:AA256) -> -56 | P22: =SUM('Mau A1'!AC240:AC256) -> 131.8 | Q22: =SUM('Mau A1'!AB240:AB256) -> 0 | R22: =ROUND(IF(AND(0<M22<200,0<(M22-Q22)<200,N22>=0,O22>=0),M22-Q22,IF(OR(AND(P22>0,P22>200),(P22-Q22)>200),"200",IF(OR(AND(N22<=0,O22=0,P22<200),AND(N22=0,O22<0,P22<200),AND(N22<0,O22<0,P22<200)),P22-Q22, ))),1) -> 131.8 | S22: =ROUND(IF(AND(N22>0,O22>0,M22<=0,R22=0),P22-Q22,IF(AND(P22>0,R22=200),P22-Q22-R22, )),1) -> 0 | T22: =ROUND(IF(SUM(M22:O22)-Q22<0,SUM(M22:O22)-Q22, ),1) -> 0
A23: 13 | B23: =IF('Mau A1'!B260="","",'Mau A1'!B260) -> Võ Anh | C23: Trang | D23: =SUM('Mau A1'!M260:M277) -> 767.9 | E23: =SUM('Mau A1'!N260:N277) -> 64.5 | F23: =SUM('Mau A1'!O260:O277) -> 0 | G23: =SUM('Mau A1'!P260:P277) -> 832.4 | H23: =SUM('Mau A1'!Q260:Q277) -> 0 | I23: =SUM('Mau A1'!R260:R277) -> 0 | J23: =SUM('Mau A1'!T260:T277) -> 430 | K23: =SUM('Mau A1'!V260:V277) -> 112 | L23: =SUM('Mau A1'!X260:X277) -> 56 | M23: =SUM('Mau A1'!Y260:Y277) -> 402.4 | N23: =SUM('Mau A1'!Z260:Z277) -> -112 | O23: =SUM('Mau A1'!AA260:AA277) -> -56 | P23: =SUM('Mau A1'!AC260:AC277) -> 234.4 | Q23: =SUM('Mau A1'!AB260:AB277) -> 0 | R23: =ROUND(IF(AND(0<M23<200,0<(M23-Q23)<200,N23>=0,O23>=0),M23-Q23,IF(OR(AND(P23>0,P23>200),(P23-Q23)>200),"200",IF(OR(AND(N23<=0,O23=0,P23<200),AND(N23=0,O23<0,P23<200),AND(N23<0,O23<0,P23<200)),P23-Q23, ))),1) -> 200 | S23: =ROUND(IF(AND(N23>0,O23>0,M23<=0,R23=0),P23-Q23,IF(AND(P23>0,R23=200),P23-Q23-R23, )),1) -> 34.4 | T23: =ROUND(IF(SUM(M23:O23)-Q23<0,SUM(M23:O23)-Q23, ),1) -> 0
A24: 14 | B24: =IF('Mau A1'!B280="","",'Mau A1'!B280) -> Ng Ng Hoàng Ngọc | C24: Quyên | D24: =SUM('Mau A1'!M280:M299) -> 807.9 | E24: =SUM('Mau A1'!N280:N299) -> 64.5 | F24: =SUM('Mau A1'!O280:O299) -> 0 | G24: =SUM('Mau A1'!P280:P299) -> 872.4 | H24: =SUM('Mau A1'!Q280:Q299) -> 0 | I24: =SUM('Mau A1'!R280:R299) -> 0 | J24: =SUM('Mau A1'!S280:S299) -> 430 | K24: =SUM('Mau A1'!V280:V299) -> 112 | L24: =SUM('Mau A1'!X280:X299) -> 56 | M24: =SUM('Mau A1'!Y280:Y299) -> 442.4 | N24: =SUM('Mau A1'!Z280:Z299) -> -112 | O24: =SUM('Mau A1'!AA280:AA299) -> -56 | P24: =SUM('Mau A1'!AC280:AC299) -> 274.4 | Q24: =SUM('Mau A1'!AB280:AB299) -> 0 | R24: =ROUND(IF(AND(0<M24<200,0<(M24-Q24)<200,N24>=0,O24>=0),M24-Q24,IF(OR(AND(P24>0,P24>200),(P24-Q24)>200),"200",IF(OR(AND(N24<=0,O24=0,P24<200),AND(N24=0,O24<0,P24<200),AND(N24<0,O24<0,P24<200)),P24-Q24, ))),1) -> 200 | S24: =ROUND(IF(AND(N24>0,O24>0,M24<=0,R24=0),P24-Q24,IF(AND(P24>0,R24=200),P24-Q24-R24, )),1) -> 74.4 | T24: =ROUND(IF(SUM(M24:O24)-Q24<0,SUM(M24:O24)-Q24, ),1) -> 0
A25: 15 | B25: =IF('Mau A1'!B300="","",'Mau A1'!B300) -> Trần Việt | C25: =IF('Mau A1'!C300="","",'Mau A1'!C300) -> Khánh | D25: =SUM('Mau A1'!M300:M319) -> 915.1 | E25: =SUM('Mau A1'!N300:N319) -> 64.5 | F25: =SUM('Mau A1'!O300:O319) -> 0 | G25: =SUM('Mau A1'!P300:P319) -> 979.6 | H25: =SUM('Mau A1'!Q300:Q319) -> 0 | I25: =SUM('Mau A1'!R300:R319) -> 0 | J25: =SUM('Mau A1'!T300:T319) -> 430 | K25: =SUM('Mau A1'!V300:V319) -> 112 | L25: =SUM('Mau A1'!X300:X319) -> 56 | M25: =SUM('Mau A1'!Y300:Y319) -> 549.6 | N25: =SUM('Mau A1'!Z300:Z319) -> -112 | O25: =SUM('Mau A1'!AA300:AA319) -> -56 | P25: =SUM('Mau A1'!AC300:AC319) -> 381.6 | Q25: =SUM('Mau A1'!AB300:AB319) -> 0 | R25: =ROUND(IF(AND(0<M25<200,0<(M25-Q25)<200,N25>=0,O25>=0),M25-Q25,IF(OR(AND(P25>0,P25>200),(P25-Q25)>200),"200",IF(OR(AND(N25<=0,O25=0,P25<200),AND(N25=0,O25<0,P25<200),AND(N25<0,O25<0,P25<200)),P25-Q25, ))),1) -> 200 | S25: =ROUND(IF(AND(N25>0,O25>0,M25<=0,R25=0),P25-Q25,IF(AND(P25>0,R25=200),P25-Q25-R25, )),1) -> 181.6 | T25: =ROUND(IF(SUM(M25:O25)-Q25<0,SUM(M25:O25)-Q25, ),1) -> 0
A26: 16 | B26: =IF('Mau A1'!B320="","",'Mau A1'!B320) -> Đỗ Thị Hải | C26: =IF('Mau A1'!C320="","",'Mau A1'!C320) -> Yến | D26: =SUM('Mau A1'!M320:M339) -> 946.7 | E26: =SUM('Mau A1'!N320:N339) -> 64.5 | F26: =SUM('Mau A1'!O320:O339) -> 0 | G26: =SUM('Mau A1'!P320:P339) -> 1011.2 | H26: =SUM('Mau A1'!Q320:Q339) -> 0 | I26: =SUM('Mau A1'!R320:R339) -> 0 | J26: =SUM('Mau A1'!T320:T339) -> 430 | K26: =SUM('Mau A1'!V320:V339) -> 112 | L26: =SUM('Mau A1'!X320:X339) -> 56 | M26: =SUM('Mau A1'!Y320:Y339) -> 581.2 | N26: =SUM('Mau A1'!Z320:Z339) -> -112 | O26: =SUM('Mau A1'!AA320:AA339) -> -56 | P26: =SUM('Mau A1'!AC320:AC339) -> 413.2 | Q26: =SUM('Mau A1'!AB320:AB339) -> 0 | R26: =ROUND(IF(AND(0<M26<200,0<(M26-Q26)<200,N26>=0,O26>=0),M26-Q26,IF(OR(AND(P26>0,P26>200),(P26-Q26)>200),"200",IF(OR(AND(N26<=0,O26=0,P26<200),AND(N26=0,O26<0,P26<200),AND(N26<0,O26<0,P26<200)),P26-Q26, ))),1) -> 200 | S26: =ROUND(IF(AND(N26>0,O26>0,M26<=0,R26=0),P26-Q26,IF(AND(P26>0,R26=200),P26-Q26-R26, )),1) -> 213.2 | T26: =ROUND(IF(SUM(M26:O26)-Q26<0,SUM(M26:O26)-Q26, ),1) -> 0
A27: 17 | B27: =IF('Mau A1'!B340="","",'Mau A1'!B340) -> Trần Vĩnh | C27: =IF('Mau A1'!C340="","",'Mau A1'!C340) -> Xuyên | D27: =SUM('Mau A1'!M340:M359) -> 796 | E27: =SUM('Mau A1'!N340:N359) -> 97.727273 | F27: =SUM('Mau A1'!O340:O359) -> 0 | G27: =SUM('Mau A1'!P340:P359) -> 893.72727 | H27: =SUM('Mau A1'!Q340:Q359) -> 21.4 | I27: =SUM('Mau A1'!R340:R359) -> 0 | J27: =SUM('Mau A1'!T340:T359) -> 430 | K27: =SUM('Mau A1'!V340:V359) -> 112 | L27: =SUM('Mau A1'!X340:X359) -> 56 | M27: =SUM('Mau A1'!Y340:Y359) -> 463.7 | N27: =SUM('Mau A1'!Z340:Z359) -> -90.6 | O27: =SUM('Mau A1'!AA340:AA359) -> -56 | P27: =SUM('Mau A1'!AC340:AC359) -> 317.1 | Q27: =SUM('Mau A1'!AB340:AB359) -> 0 | R27: =ROUND(IF(AND(0<M27<200,0<(M27-Q27)<200,N27>=0,O27>=0),M27-Q27,IF(OR(AND(P27>0,P27>200),(P27-Q27)>200),"200",IF(OR(AND(N27<=0,O27=0,P27<200),AND(N27=0,O27<0,P27<200),AND(N27<0,O27<0,P27<200)),P27-Q27, ))),1) -> 200 | S27: =ROUND(IF(AND(N27>0,O27>0,M27<=0,R27=0),P27-Q27,IF(AND(P27>0,R27=200),P27-Q27-R27, )),1) -> 117.1 | T27: =ROUND(IF(SUM(M27:O27)-Q27<0,SUM(M27:O27)-Q27, ),1) -> 0
A28: 18 | B28: =IF('Mau A1'!B360="","",'Mau A1'!B360) -> Nguyễn Cao | C28: =IF('Mau A1'!C360="","",'Mau A1'!C360) -> Phong | D28: =SUM('Mau A1'!M360:M387) -> 670.6 | E28: =SUM('Mau A1'!N360:N387) -> 86.5 | F28: =SUM('Mau A1'!O360:O387) -> 0 | G28: =SUM('Mau A1'!P360:P387) -> 757.1 | H28: =SUM('Mau A1'!Q360:Q387) -> 0 | I28: =SUM('Mau A1'!R360:R387) -> 0 | J28: =SUM('Mau A1'!T360:T387) -> 430 | K28: =SUM('Mau A1'!V360:V387) -> 112 | L28: =SUM('Mau A1'!X360:X387) -> 56 | M28: =SUM('Mau A1'!Y360:Y387) -> 327.1 | N28: =SUM('Mau A1'!Z360:Z387) -> -112 | O28: =SUM('Mau A1'!AA360:AA387) -> -21 | P28: =SUM('Mau A1'!AC360:AC387) -> 194.1 | Q28: =SUM('Mau A1'!AB360:AB387) -> 0 | R28: =ROUND(IF(AND(0<M28<200,0<(M28-Q28)<200,N28>=0,O28>=0),M28-Q28,IF(OR(AND(P28>0,P28>200),(P28-Q28)>200),"200",IF(OR(AND(N28<=0,O28=0,P28<200),AND(N28=0,O28<0,P28<200),AND(N28<0,O28<0,P28<200)),P28-Q28, ))),1) -> 194.1 | S28: =ROUND(IF(AND(N28>0,O28>0,M28<=0,R28=0),P28-Q28,IF(AND(P28>0,R28=200),P28-Q28-R28, )),1) -> 0 | T28: =ROUND(IF(SUM(M28:O28)-Q28<0,SUM(M28:O28)-Q28, ),1) -> 0
A29: 19 | B29: =IF('Mau A1'!B388="","",'Mau A1'!B388) -> Mai Chiếm | C29: =IF('Mau A1'!C388="","",'Mau A1'!C388) -> Tuấn | D29: =SUM('Mau A1'!M388:M400) -> 691 | E29: =SUM('Mau A1'!N388:N400) -> 64.5 | F29: =SUM('Mau A1'!O388:O400) -> 0 | G29: =SUM('Mau A1'!P388:P400) -> 755.5 | H29: =SUM('Mau A1'!Q388:Q400) -> 0 | I29: =SUM('Mau A1'!R388:R400) -> 0 | J29: =SUM('Mau A1'!T388:T400) -> 430 | K29: =SUM('Mau A1'!V388:V400) -> 112 | L29: =SUM('Mau A1'!X388:X400) -> 56 | M29: =SUM('Mau A1'!Y388:Y400) -> 325.5 | N29: =SUM('Mau A1'!Z388:Z400) -> -112 | O29: =SUM('Mau A1'!AA388:AA400) -> -56 | P29: =SUM('Mau A1'!AC388:AC400) -> 157.5 | Q29: =SUM('Mau A1'!AB388:AB400) -> 0 | R29: =ROUND(IF(AND(0<M29<200,0<(M29-Q29)<200,N29>=0,O29>=0),M29-Q29,IF(OR(AND(P29>0,P29>200),(P29-Q29)>200),"200",IF(OR(AND(N29<=0,O29=0,P29<200),AND(N29=0,O29<0,P29<200),AND(N29<0,O29<0,P29<200)),P29-Q29, ))),1) -> 157.5 | S29: =ROUND(IF(AND(N29>0,O29>0,M29<=0,R29=0),P29-Q29,IF(AND(P29>0,R29=200),P29-Q29-R29, )),1) -> 0 | T29: =ROUND(IF(SUM(M29:O29)-Q29<0,SUM(M29:O29)-Q29, ),1) -> 0
A30: 20 | B30: =IF('Mau A1'!B401="","",'Mau A1'!B401) -> Lê Quý Hưng | C30: =IF('Mau A1'!C401="","",'Mau A1'!C401) -> Quốc | D30: =SUM('Mau A1'!M401:M422) -> 1042.7 | E30: =SUM('Mau A1'!N401:N422) -> 64.5 | F30: =SUM('Mau A1'!O401:O422) -> 0 | G30: =SUM('Mau A1'!P401:P422) -> 1107.2 | H30: =SUM('Mau A1'!Q401:Q422) -> 0 | I30: =SUM('Mau A1'!R401:R422) -> 0 | J30: =SUM('Mau A1'!T401:T422) -> 430 | K30: =SUM('Mau A1'!V401:V422) -> 112 | L30: =SUM('Mau A1'!X401:X422) -> 56 | M30: =SUM('Mau A1'!Y401:Y422) -> 677.2 | N30: =SUM('Mau A1'!Z401:Z422) -> -112 | O30: =SUM('Mau A1'!AA401:AA422) -> -56 | P30: =SUM('Mau A1'!AC401:AC422) -> 509.2 | Q30: =SUM('Mau A1'!AB401:AB422) -> 0 | R30: =ROUND(IF(AND(0<M30<200,0<(M30-Q30)<200,N30>=0,O30>=0),M30-Q30,IF(OR(AND(P30>0,P30>200),(P30-Q30)>200),"200",IF(OR(AND(N30<=0,O30=0,P30<200),AND(N30=0,O30<0,P30<200),AND(N30<0,O30<0,P30<200)),P30-Q30, ))),1) -> 200 | S30: =ROUND(IF(AND(N30>0,O30>0,M30<=0,R30=0),P30-Q30,IF(AND(P30>0,R30=200),P30-Q30-R30, )),1) -> 309.2 | T30: =ROUND(IF(SUM(M30:O30)-Q30<0,SUM(M30:O30)-Q30, ),1) -> 0
A31: 21 | B31: =IF('Mau A1'!B423="","",'Mau A1'!B423) -> Nguyễn Văn | C31: =IF('Mau A1'!C423="","",'Mau A1'!C423) -> Đôn | D31: =SUM('Mau A1'!M423:M461) -> 1387.6 | E31: =SUM('Mau A1'!N423:N461) -> 64.5 | F31: =SUM('Mau A1'!O423:O461) -> 0 | G31: =SUM('Mau A1'!P423:P461) -> 1452.1 | H31: =SUM('Mau A1'!Q423:Q461) -> 42.9 | I31: =SUM('Mau A1'!R423:R461) -> 0 | J31: =SUM('Mau A1'!T423:T461) -> 430 | K31: =SUM('Mau A1'!V423:V461) -> 112 | L31: =SUM('Mau A1'!X423:X461) -> 56 | M31: =SUM('Mau A1'!Y423:Y461) -> 1022.1 | N31: =SUM('Mau A1'!Z423:Z461) -> -69.1 | O31: =SUM('Mau A1'!AA423:AA461) -> -56 | P31: =SUM('Mau A1'!AC423:AC461) -> 897 | Q31: =SUM('Mau A1'!AB423:AB461) -> 0 | R31: =ROUND(IF(AND(0<M31<200,0<(M31-Q31)<200,N31>=0,O31>=0),M31-Q31,IF(OR(AND(P31>0,P31>200),(P31-Q31)>200),"200",IF(OR(AND(N31<=0,O31=0,P31<200),AND(N31=0,O31<0,P31<200),AND(N31<0,O31<0,P31<200)),P31-Q31, ))),1) -> 200 | S31: =ROUND(IF(AND(N31>0,O31>0,M31<=0,R31=0),P31-Q31,IF(AND(P31>0,R31=200),P31-Q31-R31, )),1) -> 697 | T31: =ROUND(IF(SUM(M31:O31)-Q31<0,SUM(M31:O31)-Q31, ),1) -> 0
A32: 22 | B32: =IF('Mau A1'!B462="","",'Mau A1'!B462) -> Bùi Văn | C32: =IF('Mau A1'!C462="","",'Mau A1'!C462) -> Dũng | D32: =SUM('Mau A1'!M462:M483) -> 754.3 | E32: =SUM('Mau A1'!N462:N483) -> 65.5 | F32: =SUM('Mau A1'!O462:O483) -> 0 | G32: =SUM('Mau A1'!P462:P483) -> 819.8 | H32: =SUM('Mau A1'!Q462:Q483) -> 0 | I32: =SUM('Mau A1'!R462:R483) -> 0 | J32: =SUM('Mau A1'!T462:T483) -> 430 | K32: =SUM('Mau A1'!V462:V483) -> 112 | L32: =SUM('Mau A1'!X462:X483) -> 56 | M32: =SUM('Mau A1'!Y462:Y483) -> 389.8 | N32: =SUM('Mau A1'!Z462:Z483) -> -112 | O32: =SUM('Mau A1'!AA462:AA483) -> -56 | P32: =SUM('Mau A1'!AC462:AC483) -> 221.8 | Q32: =SUM('Mau A1'!AB462:AB483) -> 0 | R32: =ROUND(IF(AND(0<M32<200,0<(M32-Q32)<200,N32>=0,O32>=0),M32-Q32,IF(OR(AND(P32>0,P32>200),(P32-Q32)>200),"200",IF(OR(AND(N32<=0,O32=0,P32<200),AND(N32=0,O32<0,P32<200),AND(N32<0,O32<0,P32<200)),P32-Q32, ))),1) -> 200 | S32: =ROUND(IF(AND(N32>0,O32>0,M32<=0,R32=0),P32-Q32,IF(AND(P32>0,R32=200),P32-Q32-R32, )),1) -> 21.8 | T32: =ROUND(IF(SUM(M32:O32)-Q32<0,SUM(M32:O32)-Q32, ),1) -> 0
A33: 23 | B33: =IF('Mau A1'!B484="","",'Mau A1'!B484) -> Đậng Ngọc | C33: =IF('Mau A1'!C484="","",'Mau A1'!C484) -> Đoàn | D33: =SUM('Mau A1'!M484:M505) -> 826.3 | E33: =SUM('Mau A1'!N484:N505) -> 64.5 | F33: =SUM('Mau A1'!O484:O505) -> 0 | G33: =SUM('Mau A1'!P484:P505) -> 890.8 | H33: =SUM('Mau A1'!Q484:Q505) -> 0 | I33: =SUM('Mau A1'!R484:R505) -> 0 | J33: =SUM('Mau A1'!T484:T505) -> 430 | K33: =SUM('Mau A1'!V484:V505) -> 112 | L33: =SUM('Mau A1'!X484:X505) -> 56 | M33: =SUM('Mau A1'!Y484:Y505) -> 460.8 | N33: =SUM('Mau A1'!Z484:Z505) -> -112 | O33: =SUM('Mau A1'!AA484:AA505) -> -56 | P33: =SUM('Mau A1'!AC484:AC505) -> 292.8 | Q33: =SUM('Mau A1'!AB484:AB505) -> 0 | R33: =ROUND(IF(AND(0<M33<200,0<(M33-Q33)<200,N33>=0,O33>=0),M33-Q33,IF(OR(AND(P33>0,P33>200),(P33-Q33)>200),"200",IF(OR(AND(N33<=0,O33=0,P33<200),AND(N33=0,O33<0,P33<200),AND(N33<0,O33<0,P33<200)),P33-Q33, ))),1) -> 200 | S33: =ROUND(IF(AND(N33>0,O33>0,M33<=0,R33=0),P33-Q33,IF(AND(P33>0,R33=200),P33-Q33-R33, )),1) -> 92.8 | T33: =ROUND(IF(SUM(M33:O33)-Q33<0,SUM(M33:O33)-Q33, ),1) -> 0
A34: 24 | B34: =IF('Mau A1'!B506="","",'Mau A1'!B506) -> Lê Tất | C34: =IF('Mau A1'!C506="","",'Mau A1'!C506) -> Đạt | D34: =SUM('Mau A1'!M506:M519) -> 55.3 | E34: =SUM('Mau A1'!N506:N519) -> 4.5 | F34: =SUM('Mau A1'!O506:O519) -> 0 | G34: =SUM('Mau A1'!P506:P519) -> 59.8 | H34: =SUM('Mau A1'!Q506:Q519) -> 0 | I34: =SUM('Mau A1'!R506:R519) -> 0 | J34: =SUM('Mau A1'!T506:T519) -> 0 | K34: =SUM('Mau A1'!V506:V519) -> 0 | L34: =SUM('Mau A1'!X506:X519) -> 0 | M34: =SUM('Mau A1'!Y506:Y519) -> 0 | N34: =SUM('Mau A1'!Z506:Z519) -> 0 | O34: =SUM('Mau A1'!AA506:AA519) -> 0 | P34: =SUM('Mau A1'!AC506:AC519) -> 0 | Q34: =SUM('Mau A1'!AB506:AB519) -> 0 | R34: =ROUND(IF(AND(0<M34<200,0<(M34-Q34)<200,N34>=0,O34>=0),M34-Q34,IF(OR(AND(P34>0,P34>200),(P34-Q34)>200),"200",IF(OR(AND(N34<=0,O34=0,P34<200),AND(N34=0,O34<0,P34<200),AND(N34<0,O34<0,P34<200)),P34-Q34, ))),1) -> 0 | S34: =ROUND(IF(AND(N34>0,O34>0,M34<=0,R34=0),P34-Q34,IF(AND(P34>0,R34=200),P34-Q34-R34, )),1) -> 0 | T34: =ROUND(IF(SUM(M34:O34)-Q34<0,SUM(M34:O34)-Q34, ),1) -> 0
A35: 25 | B35: =IF('Mau A1'!B520="","",'Mau A1'!B520) -> Dương Ngọc | C35: =IF('Mau A1'!C520="","",'Mau A1'!C520) -> Vọng | D35: =SUM('Mau A1'!M520:M543) -> 1245.1 | E35: =SUM('Mau A1'!N520:N543) -> 64.5 | F35: =SUM('Mau A1'!O520:O543) -> 0 | G35: =SUM('Mau A1'!P520:P543) -> 1309.6 | H35: =SUM('Mau A1'!Q520:Q543) -> 0 | I35: =SUM('Mau A1'!R520:R543) -> 0 | J35: =SUM('Mau A1'!T520:T543) -> 430 | K35: =SUM('Mau A1'!V520:V543) -> 112 | L35: =SUM('Mau A1'!X520:X543) -> 56 | M35: =SUM('Mau A1'!Y520:Y543) -> 879.6 | N35: =SUM('Mau A1'!Z520:Z543) -> -112 | O35: =SUM('Mau A1'!AA520:AA543) -> -56 | P35: =SUM('Mau A1'!AC520:AC543) -> 711.6 | Q35: =SUM('Mau A1'!AB520:AB543) -> 0 | R35: =ROUND(IF(AND(0<M35<200,0<(M35-Q35)<200,N35>=0,O35>=0),M35-Q35,IF(OR(AND(P35>0,P35>200),(P35-Q35)>200),"200",IF(OR(AND(N35<=0,O35=0,P35<200),AND(N35=0,O35<0,P35<200),AND(N35<0,O35<0,P35<200)),P35-Q35, ))),1) -> 200 | S35: =ROUND(IF(AND(N35>0,O35>0,M35<=0,R35=0),P35-Q35,IF(AND(P35>0,R35=200),P35-Q35-R35, )),1) -> 511.6 | T35: =ROUND(IF(SUM(M35:O35)-Q35<0,SUM(M35:O35)-Q35, ),1) -> 0
A36: 26 | B36: =IF('Mau A1'!B544="","",'Mau A1'!B544) -> Lê Phi | C36: =IF('Mau A1'!C544="","",'Mau A1'!C544) -> Trường | D36: =SUM('Mau A1'!M544:M563) -> 742 | E36: =SUM('Mau A1'!N544:N563) -> 64.5 | F36: =SUM('Mau A1'!O544:O563) -> 0 | G36: =SUM('Mau A1'!P544:P563) -> 806.5 | H36: =SUM('Mau A1'!Q544:Q563) -> 0 | I36: =SUM('Mau A1'!R544:R563) -> 0 | J36: =SUM('Mau A1'!T544:T563) -> 430 | K36: =SUM('Mau A1'!V544:V563) -> 112 | L36: =SUM('Mau A1'!X544:X563) -> 56 | M36: =SUM('Mau A1'!Y544:Y563) -> 376.5 | N36: =SUM('Mau A1'!Z544:Z563) -> -112 | O36: =SUM('Mau A1'!AA544:AA563) -> -56 | P36: =SUM('Mau A1'!AC544:AC563) -> 208.5 | Q36: =SUM('Mau A1'!AB544:AB563) -> 0 | R36: =ROUND(IF(AND(0<M36<200,0<(M36-Q36)<200,N36>=0,O36>=0),M36-Q36,IF(OR(AND(P36>0,P36>200),(P36-Q36)>200),"200",IF(OR(AND(N36<=0,O36=0,P36<200),AND(N36=0,O36<0,P36<200),AND(N36<0,O36<0,P36<200)),P36-Q36, ))),1) -> 200 | S36: =ROUND(IF(AND(N36>0,O36>0,M36<=0,R36=0),P36-Q36,IF(AND(P36>0,R36=200),P36-Q36-R36, )),1) -> 8.5 | T36: =ROUND(IF(SUM(M36:O36)-Q36<0,SUM(M36:O36)-Q36, ),1) -> 0
A37: 27 | B37: =IF('Mau A1'!B564="","",'Mau A1'!B564) -> Nguyễn Ngọc | C37: =IF('Mau A1'!C564="","",'Mau A1'!C564) -> Tuyên | D37: =SUM('Mau A1'!M564:M584) -> 1170.2 | E37: =SUM('Mau A1'!N564:N584) -> 64.5 | F37: =SUM('Mau A1'!O564:O584) -> 0 | G37: =SUM('Mau A1'!P564:P584) -> 1234.7 | H37: =SUM('Mau A1'!Q564:Q584) -> 21.4 | I37: =SUM('Mau A1'!R564:R584) -> 0 | J37: =SUM('Mau A1'!T564:T584) -> 430 | K37: =SUM('Mau A1'!V564:V584) -> 112 | L37: =SUM('Mau A1'!X564:X584) -> 56 | M37: =SUM('Mau A1'!Y564:Y584) -> 804.7 | N37: =SUM('Mau A1'!Z564:Z584) -> -90.6 | O37: =SUM('Mau A1'!AA564:AA584) -> -56 | P37: =SUM('Mau A1'!AC564:AC584) -> 658.1 | Q37: =SUM('Mau A1'!AB564:AB584) -> 0 | R37: =ROUND(IF(AND(0<M37<200,0<(M37-Q37)<200,N37>=0,O37>=0),M37-Q37,IF(OR(AND(P37>0,P37>200),(P37-Q37)>200),"200",IF(OR(AND(N37<=0,O37=0,P37<200),AND(N37=0,O37<0,P37<200),AND(N37<0,O37<0,P37<200)),P37-Q37, ))),1) -> 200 | S37: =ROUND(IF(AND(N37>0,O37>0,M37<=0,R37=0),P37-Q37,IF(AND(P37>0,R37=200),P37-Q37-R37, )),1) -> 458.1 | T37: =ROUND(IF(SUM(M37:O37)-Q37<0,SUM(M37:O37)-Q37, ),1) -> 0
A38: 28 | B38: ='Mau A1'!B585 -> Đỗ Tuấn | C38: ='Mau A1'!C585 -> Việt | D38: =SUM('Mau A1'!M585:M593) -> 109.2 | E38: =SUM('Mau A1'!N585:N593) -> 64.5 | F38: =SUM('Mau A1'!O585:O593) -> 0 | G38: =SUM('Mau A1'!P585:P593) -> 173.7 | H38: 0 | I38: 0 | J38: 0 | K38: 0 | L38: 0 | M38: 0 | N38: 0 | O38: 0 | P38: ='Mau A1'!AC585 -> 173.7 | Q38: =SUM('Mau A1'!Z585:Z593) -> 0 | R38: =P38 -> 173.7 | S38: =R38 -> 173.7 | T38: =SUM('Mau A1'!AC585:AC593) -> 173.7
A39: 29 | B39: ='Mau A1'!B594 -> Nguyễn Hữu | C39: ='Mau A1'!C594 -> Thiện | D39: =SUM('Mau A1'!M594:M603) -> 162 | E39: =SUM('Mau A1'!N594:N603) -> 0 | F39: =SUM('Mau A1'!O594:O603) -> 0 | G39: =SUM('Mau A1'!P594:P603) -> 162 | H39: 0 | I39: 0 | J39: 0 | K39: 0 | L39: 0 | M39: 0 | N39: 0 | O39: 0 | P39: ='Mau A1'!AC594 -> 162 | Q39: =SUM('Mau A1'!Z594:Z603) -> 0 | R39: =P39 -> 162 | S39: =R39 -> 162 | T39: =SUM('Mau A1'!AC594:AC603) -> 162
A40: 30 | B40: ='Mau A1'!B604 -> Trần Thị Thu | C40: ='Mau A1'!C604 -> Hà | D40: =SUM('Mau A1'!M604:M613) -> 90 | E40: =SUM('Mau A1'!N604:N613) -> 0 | F40: =SUM('Mau A1'!O604:O613) -> 0 | G40: =SUM('Mau A1'!P604:P613) -> 90 | H40: 0 | I40: 0 | J40: 0 | K40: 0 | L40: 0 | M40: 0 | N40: 0 | O40: 0 | P40: ='Mau A1'!AC604 -> 90 | Q40: =SUM('Mau A1'!Z604:Z613) -> 0 | R40: =P40 -> 90 | S40: =R40 -> 90 | T40: =SUM('Mau A1'!AC604:AC613) -> 90
A41: 31 | B41: ='Mau A1'!B614 -> Nguyễn Ngọc | C41: ='Mau A1'!C614 -> Trang | D41: =SUM('Mau A1'!M614:M623) -> 90 | E41: =SUM('Mau A1'!N614:N623) -> 64.5 | F41: =SUM('Mau A1'!O614:O623) -> 0 | G41: =SUM('Mau A1'!P614:P623) -> 154.5 | H41: 0 | I41: 0 | J41: 0 | K41: 0 | L41: 0 | M41: 0 | N41: 0 | O41: 0 | P41: ='Mau A1'!AC614 -> 154.5 | Q41: =SUM('Mau A1'!Z614:Z623) -> 0 | R41: =P41 -> 154.5 | S41: =R41 -> 154.5 | T41: =SUM('Mau A1'!AC614:AC623) -> 154.5
A42: 32 | B42: =IF('Mau A1'!B624="","",'Mau A1'!B624) -> Nguyễn Thanh | C42: =IF('Mau A1'!C624="","",'Mau A1'!C624) -> Lâm | D42: =SUM('Mau A1'!M624:M633) -> 72 | E42: =SUM('Mau A1'!N624:N633) -> 64.5 | F42: =SUM('Mau A1'!O624:O633) -> 0 | G42: =SUM('Mau A1'!P624:P633) -> 136.5 | H42: 0 | I42: 0 | J42: 0 | K42: 0 | L42: 0 | M42: 0 | N42: 0 | O42: 0 | P42: ='Mau A1'!AC624 -> 136.5 | Q42: =SUM('Mau A1'!Z624:Z633) -> 0 | R42: =P42 -> 136.5 | S42: =R42 -> 136.5 | T42: =SUM('Mau A1'!AC624:AC633) -> 136.5
A43: 33 | B43: =IF('Mau A1'!B634="","",'Mau A1'!B634) -> Huỳnh Thị Minh Ly | C43: =IF('Mau A1'!C634="","",'Mau A1'!C634) -> Ly | D43: =SUM('Mau A1'!M634:M643) -> 90 | E43: =SUM('Mau A1'!N634:N643) -> 0 | F43: =SUM('Mau A1'!O634:O643) -> 0 | G43: =SUM('Mau A1'!P634:P643) -> 90 | H43: 0 | I43: 0 | J43: 0 | K43: 0 | L43: 0 | M43: 0 | N43: 0 | O43: 0 | P43: ='Mau A1'!AC634 -> 90 | Q43: =SUM('Mau A1'!Z634:Z643) -> 0 | R43: =P43 -> 90 | S43: =R43 -> 90 | T43: =SUM('Mau A1'!AC616:AC625) -> 136.5
A44: 34 | B44: =IF('Mau A1'!B644="","",'Mau A1'!B644) -> Nguyễn Hữu | C44: =IF('Mau A1'!C644="","",'Mau A1'!C644) -> Lộc | D44: =SUM('Mau A1'!M644:M653) -> 90 | E44: =SUM('Mau A1'!N644:N653) -> 0 | F44: =SUM('Mau A1'!O644:O653) -> 0 | G44: =SUM('Mau A1'!P644:P653) -> 90 | H44: 0 | I44: 0 | J44: 0 | K44: 0 | L44: 0 | M44: 0 | N44: 0 | O44: 0 | P44: ='Mau A1'!AC644 -> 90 | Q44: =SUM('Mau A1'!Z644:Z653) -> 0 | R44: =P44 -> 90 | S44: =R44 -> 90 | T44: =SUM('Mau A1'!AC626:AC635) -> 90
A45: 35 | B45: =IF('Mau A1'!B654="","",'Mau A1'!B654) -> Huỳnh Thị Mai | C45: =IF('Mau A1'!C654="","",'Mau A1'!C654) -> Mai | D45: =SUM('Mau A1'!M654:M663) -> 90 | E45: =SUM('Mau A1'!N654:N663) -> 0 | F45: =SUM('Mau A1'!O654:O663) -> 0 | G45: =SUM('Mau A1'!P654:P663) -> 90 | H45: 0 | I45: 0 | J45: 0 | K45: 0 | L45: 0 | M45: 0 | N45: 0 | O45: 0 | P45: ='Mau A1'!AC654 -> 90 | Q45: =SUM('Mau A1'!Z654:Z663) -> 0 | R45: =P45 -> 90 | S45: =R45 -> 90 | T45: =SUM('Mau A1'!AC618:AC627) -> 136.5
A46: 36 | B46: ='Mau A1'!B664 -> TG1 | D46: =SUM('Mau A1'!M664:M673) -> 67.6 | E46: =SUM('Mau A1'!N664:N673) -> 0 | F46: =SUM('Mau A1'!O664:O673) -> 0 | G46: =SUM('Mau A1'!P664:P673) -> 67.6 | H46: 0 | I46: 0 | J46: 0 | K46: 0 | L46: 0 | M46: 0 | N46: 0 | O46: 0 | P46: ='Mau A1'!AC664 -> 67.6 | Q46: =SUM('Mau A1'!Z655:Z664) -> 0 | R46: =P46 -> 67.6 | S46: =R46 -> 67.6 | T46: =SUM('Mau A1'!AC619:AC628) -> 136.5
A47: 37 | B47: ='Mau A1'!B674 -> TG 2 | D47: =SUM('Mau A1'!M674:M683) -> 108 | E47: =SUM('Mau A1'!N674:N683) -> 0 | F47: =SUM('Mau A1'!O674:O683) -> 0 | G47: =SUM('Mau A1'!P674:P683) -> 108 | H47: 0 | I47: 0 | J47: 0 | K47: 0 | L47: 0 | M47: 0 | N47: 0 | O47: 0 | P47: ='Mau A1'!AC674 -> 108 | Q47: =SUM('Mau A1'!Z674:Z683) -> 0 | R47: =P47 -> 108 | S47: =R47 -> 108 | T47: =SUM('Mau A1'!AC628:AC637) -> 90
A48: 38 | B48: =IF('Mau A1'!B684="","",'Mau A1'!B684) -> TG 3 | C48: =IF('Mau A1'!C684="","",'Mau A1'!C684) | D48: =SUM('Mau A1'!M684:M693) -> 639 | E48: =SUM('Mau A1'!N684:N693) -> 0 | F48: =SUM('Mau A1'!O684:O693) -> 0 | G48: =SUM('Mau A1'!P684:P693) -> 639 | H48: 0 | I48: 0 | J48: 0 | K48: 0 | L48: 0 | M48: 0 | N48: 0 | O48: 0 | P48: ='Mau A1'!AC684 -> 639 | Q48: =SUM('Mau A1'!Z684:Z693) -> 0 | R48: =P48 -> 639 | S48: =R48 -> 639 | T48: =SUM('Mau A1'!AC620:AC629) -> 136.5
A49: TỔNG CỘNG | D49: =SUM(D11:D48) -> 23979.2 | E49: =SUM(E11:E48) -> 1952.7273 | F49: =SUM(F11:F48) -> 0 | G49: =SUM(G11:G48) -> 25931.927 | H49: =SUM(H11:H48) -> 128.5 | I49: =SUM(I11:I48) -> 0 | J49: =SUM(J11:J48) -> 11062.727 | K49: =SUM(K11:K48) -> 2912 | ... T49: =SUM(T11:T48) -> 1442.7
B51: Lưu ý: Không cần nhập số liệu, vì tất cả các số liệu được cài sẵn công thức chuyển từ mẫu A1 sang
T52: Thành phố Hồ Chí Minh, ngày tháng năm 2018
A53: HIỆU TRƯỞNG | C53: TRƯỞNG P. TS-ĐT | G53: TRƯỞNG TỔ TT - PC | I53: TRƯỞNG P. QLKH-HTQT | L53: TRƯỞNG PHÒNG KT&ĐBCL | O53: TRƯỞNG P. TC-HC-TH | S53: TRƯỞNG KHOA

Sheet Mau A1
AB1: Mẫu A1
A2: UBND THÀNH PHỐ HỒ CHÍ MINH | V2: CỘNG HÒA XÃ HỘI CHỦ NGHĨA VIỆT NAM
A3: TRƯỜNG CAO ĐẲNG LÝ TỰ TRỌNG THÀNH PHỐ HỒ CHÍ MINH | V3: Độc lập - Tự do - Hạnh phúc
A4: BẢNG TÍNH KHỐI LƯỢNG CÔNG VIỆC CỦA GIẢNG VIÊN TRONG NĂM HỌC 2018 - 2019
A5: KHOA : CÔNG NGHỆ THÔNG TIN
A7: TT | B7: Họ và Tên | D7: MÃ LỚP HP | E7: Môn dạy | F7: lớp dạy | G7: Học kỳ | H7: Thực hiện trong năm học | S7: Số tiết chuẩn giảng dạy | T7: Số tiết chuẩn giảng dạy còn lại | U7: Số tiết chuẩn "Học tập, bồi dưỡng chuẩn hóa, bồi dưỡng nâng cao, nghiên cứu khoa học" | V7: Số tiết chuẩn "Học tập, bồi dưỡng chuẩn hóa, bồi dưỡng nâng cao, nghiên cứu khoa học" còn lại | W7: Số tiết chuẩn "Thực tập tại doanh nghiệp hoặc cơ quan chuyên môn" | X7: Số tiết chuẩn "Thực tập tại doanh nghiệp hoặc cơ quan chuyên môn" còn lại | Y7: Số tiết thừa, thiếu giảng dạy | Z7: Số tiết thừa, thiếu "Học tập, bồi dưỡng chuẩn hóa, bồi dưỡng nâng cao, nghiên cứu khoa học" | AA7: Số tiết thừa, thiếu "Thực tập tại doanh nghiệp hoặc cơ quan chuyên môn" | AB7: Số tiết thiếu năm học 2017-2018 | AC7: Tổng số tiết thừa, thiếu năm học 2018-2019
H8: Chưa nhân hệ số | J8: Sĩ số LHP | K8: Hệ số | M8: Số tiết quy đổi và đã nhân hệ số | N8: Kiêm nhiệm | O8: Số tiết soạn đề, coi thi, chấm thi | P8: Tổng tiết thực hiện | Q8: Số tiết "Học tập, bồi dưỡng chuẩn hóa, bồi dưỡng nâng cao, nghiên cứu khoa học" | R8: Số tiết "Thực tập tại doanh nghiệp hoặc cơ quan chuyên môn"
H9: LT | I9: TH | J9: Chính thức và học lại | K9: LT | L9: TH
A10: (1) | B10: (2) | E10: (3) | F10: (4) | G10: (5) | H10: (6) | I10: (7) | K10: =IF(OR(LEFT(E10,2)="ĐA",LEFT(E10,2)="DA",LEFT(E10,5)="Đồ án",LEFT(E10,5)="Đồán ",LEFT(E10,9)="Sinh hoạt",LEFT(E10,9)="sinh hoạt",LEFT(E10,6)="Cố vấn",LEFT(E10,6)="cố vấn",LEFT(E10,4)="cvht",LEFT(E10,4)="CVHT",LEFT(E10,4)="shcn",LEFT(E10,4)="SHCN"),0,(IF(AND(H10>0,J10>0),IF(J10>60,1.3,IF(J10>35,1.2,1)),0))) -> 0 | L10: =IF(OR(LEFT(E10,2)="ĐA",LEFT(E10,2)="DA",LEFT(E10,5)="Đồ án",LEFT(E10,5)="Đồán "),0,IF(AND(J10>0,I10>0),IF(AND(OR(LEFT(E10,4)="GDQP",LEFT(E10,4)="gdqp",LEFT(E10,19)="Giáo dục quốc phòng"),J10>50),1.3,IF(J10>35,1.2,IF(J10>29,1.1,1))),0)) -> 0 | M10: =ROUND(IF(OR(LEFT(E10,2)="ĐA",LEFT(E10,2)="DA",LEFT(E10,5)="Đồ án",LEFT(E10,5)="Đồán "),J10*0.5,(IF(H10>0,H10*K10,"0")+IF(I10>0,(I10*0.75)*L10,"0"))),1) -> 0 | N10: (11) | O10: (12) | P10: (13) | Q10: (14) | R10: (15) | T10: (16) | V10: (17) | X10: (18) | Y10: (19) | Z10: (20) | AA10: (21) | AB10: (22) | AC10: (23)
A11: 1 | B11: Nguyễn Vân | C11: Giang | D11: 21100094402 | E11: Cấu trúc dữ liệu và giải thuật | F11: 17C1-CTM1 | G11: 1 | H11: 15 | I11: 60 | J11: 37 | K11: =IF(OR(LEFT(E11,2)="ĐA",LEFT(E11,2)="DA",LEFT(E11,5)="Đồ án",LEFT(E11,5)="Đồán ",LEFT(E11,9)="Sinh hoạt",LEFT(E11,9)="sinh hoạt",LEFT(E11,6)="Cố vấn",LEFT(E11,6)="cố vấn",LEFT(E11,4)="cvht",LEFT(E11,4)="CVHT",LEFT(E11,4)="shcn",LEFT(E11,4)="SHCN"),0,(IF(AND(H11>0,J11>0),IF(J11>60,1.3,IF(J11>35,1.2,1)),0))) -> 1.2 | L11: =IF(OR(LEFT(E11,2)="ĐA",LEFT(E11,2)="DA",LEFT(E11,5)="Đồ án",LEFT(E11,5)="Đồán "),0,IF(AND(J11>0,I11>0),IF(AND(OR(LEFT(E11,4)="GDQP",LEFT(E11,4)="gdqp",LEFT(E11,19)="Giáo dục quốc phòng"),J11>50),1.3,IF(J11>35,1.2,IF(J11>29,1.1,1))),0)) -> 1.2 | M11: =ROUND(IF(OR(LEFT(E11,2)="ĐA",LEFT(E11,2)="DA",LEFT(E11,5)="Đồ án",LEFT(E11,5)="Đồán "),J11*0.5,(IF(H11>0,H11*K11,"0")+IF(I11>0,(I11*0.75)*L11,"0"))),1) -> 72 | N11: =430*20% -> 86 | O11: 0 | P11: =SUM(M11:M30)+N11+O11 -> 783.5 | Q11: 21.4 | R11: 0 | S11: 430 | T11: 430 | U11: 112 | V11: 112 | W11: 56 | X11: 56 | Y11: =ROUND((P11-T11),1) -> 353.5 | Z11: =Q11-V11 -> -90.6 | AA11: =IF(OR(SUM(X11:X30)="",SUM(R11:R30)=""),0,IF(OR(SUM(W11:W30)=160,SUM(X11:X30)>0),ROUND((SUM(R11:R30)-SUM(X11:X30)),1),0)) -> -56 | AC11: =SUM(Y11:AA30) -> 206.9
D12: 21100094403 | E12: Cấu trúc dữ liệu và giải thuật | F12: 17C1-CTM2 | G12: 1 | H12: 15 | I12: 60 | J12: 33 | K12: =IF(OR(LEFT(E12,2)="ĐA",LEFT(E12,2)="DA",LEFT(E12,5)="Đồ án",LEFT(E12,5)="Đồán ",LEFT(E12,9)="Sinh hoạt",LEFT(E12,9)="sinh hoạt",LEFT(E12,6)="Cố vấn",LEFT(E12,6)="cố vấn",LEFT(E12,4)="cvht",LEFT(E12,4)="CVHT",LEFT(E12,4)="shcn",LEFT(E12,4)="SHCN"),0,(IF(AND(H12>0,J12>0),IF(J12>60,1.3,IF(J12>35,1.2,1)),0))) -> 1 | L12: =IF(OR(LEFT(E12,2)="ĐA",LEFT(E12,2)="DA",LEFT(E12,5)="Đồ án",LEFT(E12,5)="Đồán "),0,IF(AND(J12>0,I12>0),IF(AND(OR(LEFT(E12,4)="GDQP",LEFT(E12,4)="gdqp",LEFT(E12,19)="Giáo dục quốc phòng"),J12>50),1.3,IF(J12>35,1.2,IF(J12>29,1.1,1))),0)) -> 1.1 | M12: =ROUND(IF(OR(LEFT(E12,2)="ĐA",LEFT(E12,2)="DA",LEFT(E12,5)="Đồ án",LEFT(E12,5)="Đồán "),J12*0.5,(IF(H12>0,H12*K12,"0")+IF(I12>0,(I12*0.75)*L12,"0"))),1) -> 64.5
D13: 71400106704 | E13: Kỹ thuật lập trình 1 | F13: 18T4-LTM | G13: 1 | H13: 15 | I13: 60 | J13: 46 | K13: =IF(OR(LEFT(E13,2)="ĐA",LEFT(E13,2)="DA",LEFT(E13,5)="Đồ án",LEFT(E13,5)="Đồán ",LEFT(E13,9)="Sinh hoạt",LEFT(E13,9)="sinh hoạt",LEFT(E13,6)="Cố vấn",LEFT(E13,6)="cố vấn",LEFT(E13,4)="cvht",LEFT(E13,4)="CVHT",LEFT(E13,4)="shcn",LEFT(E13,4)="SHCN"),0,(IF(AND(H13>0,J13>0),IF(J13>60,1.3,IF(J13>35,1.2,1)),0))) -> 1.2 | L13: =IF(OR(LEFT(E13,2)="ĐA",LEFT(E13,2)="DA",LEFT(E13,5)="Đồ án",LEFT(E13,5)="Đồán "),0,IF(AND(J13>0,I13>0),IF(AND(OR(LEFT(E13,4)="GDQP",LEFT(E13,4)="gdqp",LEFT(E13,19)="Giáo dục quốc phòng"),J13>50),1.3,IF(J13>35,1.2,IF(J13>29,1.1,1))),0)) -> 1.2 | M13: =ROUND(IF(OR(LEFT(E13,2)="ĐA",LEFT(E13,2)="DA",LEFT(E13,5)="Đồ án",LEFT(E13,5)="Đồán "),J13*0.5,(IF(H13>0,H13*K13,"0")+IF(I13>0,(I13*0.75)*L13,"0"))),1) -> 72
D14: 71400119002 | E14: Cơ sở dữ liệu | F14: 17T4-LTM | G14: 1 | H14: 15 | I14: 30 | J14: 60 | K14: =IF(OR(LEFT(E14,2)="ĐA",LEFT(E14,2)="DA",LEFT(E14,5)="Đồ án",LEFT(E14,5)="Đồán ",LEFT(E14,9)="Sinh hoạt",LEFT(E14,9)="sinh hoạt",LEFT(E14,6)="Cố vấn",LEFT(E14,6)="cố vấn",LEFT(E14,4)="cvht",LEFT(E14,4)="CVHT",LEFT(E14,4)="shcn",LEFT(E14,4)="SHCN"),0,(IF(AND(H14>0,J14>0),IF(J14>60,1.3,IF(J14>35,1.2,1)),0))) -> 1.2 | L14: =IF(OR(LEFT(E14,2)="ĐA",LEFT(E14,2)="DA",LEFT(E14,5)="Đồ án",LEFT(E14,5)="Đồán "),0,IF(AND(J14>0,I14>0),IF(AND(OR(LEFT(E14,4)="GDQP",LEFT(E14,4)="gdqp",LEFT(E14,19)="Giáo dục quốc phòng"),J14>50),1.3,IF(J14>35,1.2,IF(J14>29,1.1,1))),0)) -> 1.2 | M14: =ROUND(IF(OR(LEFT(E14,2)="ĐA",LEFT(E14,2)="DA",LEFT(E14,5)="Đồ án",LEFT(E14,5)="Đồán "),J14*0.5,(IF(H14>0,H14*K14,"0")+IF(I14>0,(I14*0.75)*L14,"0"))),1) -> 45
D15: 71400119001 | E15: Cơ sở dữ liệu | F15: 17T4-TKW | G15: 1 | H15: 15 | I15: 30 | J15: 27 | K15: =IF(OR(LEFT(E15,2)="ĐA",LEFT(E15,2)="DA",LEFT(E15,5)="Đồ án",LEFT(E15,5)="Đồán ",LEFT(E15,9)="Sinh hoạt",LEFT(E15,9)="sinh hoạt",LEFT(E15,6)="Cố vấn",LEFT(E15,6)="cố vấn",LEFT(E15,4)="cvht",LEFT(E15,4)="CVHT",LEFT(E15,4)="shcn",LEFT(E15,4)="SHCN"),0,(IF(AND(H15>0,J15>0),IF(J15>60,1.3,IF(J15>35,1.2,1)),0))) -> 1 | L15: =IF(OR(LEFT(E15,2)="ĐA",LEFT(E15,2)="DA",LEFT(E15,5)="Đồ án",LEFT(E15,5)="Đồán "),0,IF(AND(J15>0,I15>0),IF(AND(OR(LEFT(E15,4)="GDQP",LEFT(E15,4)="gdqp",LEFT(E15,19)="Giáo dục quốc phòng"),J15>50),1.3,IF(J15>35,1.2,IF(J15>29,1.1,1))),0)) -> 1 | M15: =ROUND(IF(OR(LEFT(E15,2)="ĐA",LEFT(E15,2)="DA",LEFT(E15,5)="Đồ án",LEFT(E15,5)="Đồán "),J15*0.5,(IF(H15>0,H15*K15,"0")+IF(I15>0,(I15*0.75)*L15,"0"))),1) -> 37.5
D16: 21100093903 | E16: Cơ sở dữ liệu | F16: 18C1-LTM1 | G16: 1 | H16: 15 | I16: 30 | J16: 57 | K16: =IF(OR(LEFT(E16,2)="ĐA",LEFT(E16,2)="DA",LEFT(E16,5)="Đồ án",LEFT(E16,5)="Đồán ",LEFT(E16,9)="Sinh hoạt",LEFT(E16,9)="sinh hoạt",LEFT(E16,6)="Cố vấn",LEFT(E16,6)="cố vấn",LEFT(E16,4)="cvht",LEFT(E16,4)="CVHT",LEFT(E16,4)="shcn",LEFT(E16,4)="SHCN"),0,(IF(AND(H16>0,J16>0),IF(J16>60,1.3,IF(J16>35,1.2,1)),0))) -> 1.2 | L16: =IF(OR(LEFT(E16,2)="ĐA",LEFT(E16,2)="DA",LEFT(E16,5)="Đồ án",LEFT(E16,5)="Đồán "),0,IF(AND(J16>0,I16>0),IF(AND(OR(LEFT(E16,4)="GDQP",LEFT(E16,4)="gdqp",LEFT(E16,19)="Giáo dục quốc phòng"),J16>50),1.3,IF(J16>35,1.2,IF(J16>29,1.1,1))),0)) -> 1.2 | M16: =ROUND(IF(OR(LEFT(E16,2)="ĐA",LEFT(E16,2)="DA",LEFT(E16,5)="Đồ án",LEFT(E16,5)="Đồán "),J16*0.5,(IF(H16>0,H16*K16,"0")+IF(I16>0,(I16*0.75)*L16,"0"))),1) -> 45
D17: 21100093901 | E17: Cơ sở dữ liệu | F17: 18C1-CTM1 | G17: 1 | H17: 15 | I17: 30 | J17: 39 | K17: =IF(OR(LEFT(E17,2)="ĐA",LEFT(E17,2)="DA",LEFT(E17,5)="Đồ án",LEFT(E17,5)="Đồán ",LEFT(E17,9)="Sinh hoạt",LEFT(E17,9)="sinh hoạt",LEFT(E17,6)="Cố vấn",LEFT(E17,6)="cố vấn",LEFT(E17,4)="cvht",LEFT(E17,4)="CVHT",LEFT(E17,4)="shcn",LEFT(E17,4)="SHCN"),0,(IF(AND(H17>0,J17>0),IF(J17>60,1.3,IF(J17>35,1.2,1)),0))) -> 1.2 | L17: =IF(OR(LEFT(E17,2)="ĐA",LEFT(E17,2)="DA",LEFT(E17,5)="Đồ án",LEFT(E17,5)="Đồán "),0,IF(AND(J17>0,I17>0),IF(AND(OR(LEFT(E17,4)="GDQP",LEFT(E17,4)="gdqp",LEFT(E17,19)="Giáo dục quốc phòng"),J17>50),1.3,IF(J17>35,1.2,IF(J17>29,1.1,1))),0)) -> 1.2 | M17: =ROUND(IF(OR(LEFT(E17,2)="ĐA",LEFT(E17,2)="DA",LEFT(E17,5)="Đồ án",LEFT(E17,5)="Đồán "),J17*0.5,(IF(H17>0,H17*K17,"0")+IF(I17>0,(I17*0.75)*L17,"0"))),1) -> 45
D18: 21100094302 | E18: Kỹ thuật lập trình | F18: 18C1-LTM1 | G18: 2 | H18: 30 | I18: 60 | J18: 57 | K18: =IF(OR(LEFT(E18,2)="ĐA",LEFT(E18,2)="DA",LEFT(E18,5)="Đồ án",LEFT(E18,5)="Đồán ",LEFT(E18,9)="Sinh hoạt",LEFT(E18,9)="sinh hoạt",LEFT(E18,6)="Cố vấn",LEFT(E18,6)="cố vấn",LEFT(E18,4)="cvht",LEFT(E18,4)="CVHT",LEFT(E18,4)="shcn",LEFT(E18,4)="SHCN"),0,(IF(AND(H18>0,J18>0),IF(J18>60,1.3,IF(J18>35,1.2,1)),0))) -> 1.2 | L18: =IF(OR(LEFT(E18,2)="ĐA",LEFT(E18,2)="DA",LEFT(E18,5)="Đồ án",LEFT(E18,5)="Đồán "),0,IF(AND(J18>0,I18>0),IF(AND(OR(LEFT(E18,4)="GDQP",LEFT(E18,4)="gdqp",LEFT(E18,19)="Giáo dục quốc phòng"),J18>50),1.3,IF(J18>35,1.2,IF(J18>29,1.1,1))),0)) -> 1.2 | M18: =ROUND(IF(OR(LEFT(E18,2)="ĐA",LEFT(E18,2)="DA",LEFT(E18,5)="Đồ án",LEFT(E18,5)="Đồán "),J18*0.5,(IF(H18>0,H18*K18,"0")+IF(I18>0,(I18*0.75)*L18,"0"))),1) -> 90
D19: 21100094304 | E19: Kỹ thuật lập trình | F19: 18C1-LTM2 | G19: 2 | H19: 30 | I19: 60 | J19: 55 | K19: =IF(OR(LEFT(E19,2)="ĐA",LEFT(E19,2)="DA",LEFT(E19,5)="Đồ án",LEFT(E19,5)="Đồán ",LEFT(E19,9)="Sinh hoạt",LEFT(E19,9)="sinh hoạt",LEFT(E19,6)="Cố vấn",LEFT(E19,6)="cố vấn",LEFT(E19,4)="cvht",LEFT(E19,4)="CVHT",LEFT(E19,4)="shcn",LEFT(E19,4)="SHCN"),0,(IF(AND(H19>0,J19>0),IF(J19>60,1.3,IF(J19>35,1.2,1)),0))) -> 1.2 | L19: =IF(OR(LEFT(E19,2)="ĐA",LEFT(E19,2)="DA",LEFT(E19,5)="Đồ án",LEFT(E19,5)="Đồán "),0,IF(AND(J19>0,I19>0),IF(AND(OR(LEFT(E19,4)="GDQP",LEFT(E19,4)="gdqp",LEFT(E19,19)="Giáo dục quốc phòng"),J19>50),1.3,IF(J19>35,1.2,IF(J19>29,1.1,1))),0)) -> 1.2 | M19: =ROUND(IF(OR(LEFT(E19,2)="ĐA",LEFT(E19,2)="DA",LEFT(E19,5)="Đồ án",LEFT(E19,5)="Đồán "),J19*0.5,(IF(H19>0,H19*K19,"0")+IF(I19>0,(I19*0.75)*L19,"0"))),1) -> 90
D20: 21100094401 | E20: Cấu trúc dữ liệu và giải thuật | F20: 18C1-THU1 | G20: 2 | H20: 15 | I20: 60 | J20: 32 | K20: =IF(OR(LEFT(E20,2)="ĐA",LEFT(E20,2)="DA",LEFT(E20,5)="Đồ án",LEFT(E20,5)="Đồán ",LEFT(E20,9)="Sinh hoạt",LEFT(E20,9)="sinh hoạt",LEFT(E20,6)="Cố vấn",LEFT(E20,6)="cố vấn",LEFT(E20,4)="cvht",LEFT(E20,4)="CVHT",LEFT(E20,4)="shcn",LEFT(E20,4)="SHCN"),0,(IF(AND(H20>0,J20>0),IF(J20>60,1.3,IF(J20>35,1.2,1)),0))) -> 1 | L20: =IF(OR(LEFT(E20,2)="ĐA",LEFT(E20,2)="DA",LEFT(E20,5)="Đồ án",LEFT(E20,5)="Đồán "),0,IF(AND(J20>0,I20>0),IF(AND(OR(LEFT(E20,4)="GDQP",LEFT(E20,4)="gdqp",LEFT(E20,19)="Giáo dục quốc phòng"),J20>50),1.3,IF(J20>35,1.2,IF(J20>29,1.1,1))),0)) -> 1.1 | M20: =ROUND(IF(OR(LEFT(E20,2)="ĐA",LEFT(E20,2)="DA",LEFT(E20,5)="Đồ án",LEFT(E20,5)="Đồán "),J20*0.5,(IF(H20>0,H20*K20,"0")+IF(I20>0,(I20*0.75)*L20,"0"))),1) -> 64.5
D21: 71400135403 | E21: Kỹ thuật lập trình 2 | F21: 18T4-LTM | G21: 2 | H21: 15 | I21: 60 | J21: 44 | K21: =IF(OR(LEFT(E21,2)="ĐA",LEFT(E21,2)="DA",LEFT(E21,5)="Đồ án",LEFT(E21,5)="Đồán ",LEFT(E21,9)="Sinh hoạt",LEFT(E21,9)="sinh hoạt",LEFT(E21,6)="Cố vấn",LEFT(E21,6)="cố vấn",LEFT(E21,4)="cvht",LEFT(E21,4)="CVHT",LEFT(E21,4)="shcn",LEFT(E21,4)="SHCN"),0,(IF(AND(H21>0,J21>0),IF(J21>60,1.3,IF(J21>35,1.2,1)),0))) -> 1.2 | L21: =IF(OR(LEFT(E21,2)="ĐA",LEFT(E21,2)="DA",LEFT(E21,5)="Đồ án",LEFT(E21,5)="Đồán "),0,IF(AND(J21>0,I21>0),IF(AND(OR(LEFT(E21,4)="GDQP",LEFT(E21,4)="gdqp",LEFT(E21,19)="Giáo dục quốc phòng"),J21>50),1.3,IF(J21>35,1.2,IF(J21>29,1.1,1))),0)) -> 1.2 | M21: =ROUND(IF(OR(LEFT(E21,2)="ĐA",LEFT(E21,2)="DA",LEFT(E21,5)="Đồ án",LEFT(E21,5)="Đồán "),J21*0.5,(IF(H21>0,H21*K21,"0")+IF(I21>0,(I21*0.75)*L21,"0"))),1) -> 72
K22: =IF(OR(LEFT(E22,2)="ĐA",LEFT(E22,2)="DA",LEFT(E22,5)="Đồ án",LEFT(E22,5)="Đồán ",LEFT(E22,9)="Sinh hoạt",LEFT(E22,9)="sinh hoạt",LEFT(E22,6)="Cố vấn",LEFT(E22,6)="cố vấn",LEFT(E22,4)="cvht",LEFT(E22,4)="CVHT",LEFT(E22,4)="shcn",LEFT(E22,4)="SHCN"),0,(IF(AND(H22>0,J22>0),IF(J22>60,1.3,IF(J22>35,1.2,1)),0))) -> 0 | L22: =IF(OR(LEFT(E22,2)="ĐA",LEFT(E22,2)="DA",LEFT(E22,5)="Đồ án",LEFT(E22,5)="Đồán "),0,IF(AND(J22>0,I22>0),IF(AND(OR(LEFT(E22,4)="GDQP",LEFT(E22,4)="gdqp",LEFT(E22,19)="Giáo dục quốc phòng"),J22>50),1.3,IF(J22>35,1.2,IF(J22>29,1.1,1))),0)) -> 0 | M22: =ROUND(IF(OR(LEFT(E22,2)="ĐA",LEFT(E22,2)="DA",LEFT(E22,5)="Đồ án",LEFT(E22,5)="Đồán "),J22*0.5,(IF(H22>0,H22*K22,"0")+IF(I22>0,(I22*0.75)*L22,"0"))),1) -> 0
K23: =IF(OR(LEFT(E23,2)="ĐA",LEFT(E23,2)="DA",LEFT(E23,5)="Đồ án",LEFT(E23,5)="Đồán ",LEFT(E23,9)="Sinh hoạt",LEFT(E23,9)="sinh hoạt",LEFT(E23,6)="Cố vấn",LEFT(E23,6)="cố vấn",LEFT(E23,4)="cvht",LEFT(E23,4)="CVHT",LEFT(E23,4)="shcn",LEFT(E23,4)="SHCN"),0,(IF(AND(H23>0,J23>0),IF(J23>60,1.3,IF(J23>35,1.2,1)),0))) -> 0 | L23: =IF(OR(LEFT(E23,2)="ĐA",LEFT(E23,2)="DA",LEFT(E23,5)="Đồ án",LEFT(E23,5)="Đồán "),0,IF(AND(J23>0,I23>0),IF(AND(OR(LEFT(E23,4)="GDQP",LEFT(E23,4)="gdqp",LEFT(E23,19)="Giáo dục quốc phòng"),J23>50),1.3,IF(J23>35,1.2,IF(J23>29,1.1,1))),0)) -> 0 | M23: =ROUND(IF(OR(LEFT(E23,2)="ĐA",LEFT(E23,2)="DA",LEFT(E23,5)="Đồ án",LEFT(E23,5)="Đồán "),J23*0.5,(IF(H23>0,H23*K23,"0")+IF(I23>0,(I23*0.75)*L23,"0"))),1) -> 0
K24: =IF(OR(LEFT(E24,2)="ĐA",LEFT(E24,2)="DA",LEFT(E24,5)="Đồ án",LEFT(E24,5)="Đồán ",LEFT(E24,9)="Sinh hoạt",LEFT(E24,9)="sinh hoạt",LEFT(E24,6)="Cố vấn",LEFT(E24,6)="cố vấn",LEFT(E24,4)="cvht",LEFT(E24,4)="CVHT",LEFT(E24,4)="shcn",LEFT(E24,4)="SHCN"),0,(IF(AND(H24>0,J24>0),IF(J24>60,1.3,IF(J24>35,1.2,1)),0))) -> 0 | L24: =IF(OR(LEFT(E24,2)="ĐA",LEFT(E24,2)="DA",LEFT(E24,5)="Đồ án",LEFT(E24,5)="Đồán "),0,IF(AND(J24>0,I24>0),IF(AND(OR(LEFT(E24,4)="GDQP",LEFT(E24,4)="gdqp",LEFT(E24,19)="Giáo dục quốc phòng"),J24>50),1.3,IF(J24>35,1.2,IF(J24>29,1.1,1))),0)) -> 0 | M24: =ROUND(IF(OR(LEFT(E24,2)="ĐA",LEFT(E24,2)="DA",LEFT(E24,5)="Đồ án",LEFT(E24,5)="Đồán "),J24*0.5,(IF(H24>0,H24*K24,"0")+IF(I24>0,(I24*0.75)*L24,"0"))),1) -> 0
K25: =IF(OR(LEFT(E25,2)="ĐA",LEFT(E25,2)="DA",LEFT(E25,5)="Đồ án",LEFT(E25,5)="Đồán ",LEFT(E25,9)="Sinh hoạt",LEFT(E25,9)="sinh hoạt",LEFT(E25,6)="Cố vấn",LEFT(E25,6)="cố vấn",LEFT(E25,4)="cvht",LEFT(E25,4)="CVHT",LEFT(E25,4)="shcn",LEFT(E25,4)="SHCN"),0,(IF(AND(H25>0,J25>0),IF(J25>60,1.3,IF(J25>35,1.2,1)),0))) -> 0 | L25: =IF(OR(LEFT(E25,2)="ĐA",LEFT(E25,2)="DA",LEFT(E25,5)="Đồ án",LEFT(E25,5)="Đồán "),0,IF(AND(J25>0,I25>0),IF(AND(OR(LEFT(E25,4)="GDQP",LEFT(E25,4)="gdqp",LEFT(E25,19)="Giáo dục quốc phòng"),J25>50),1.3,IF(J25>35,1.2,IF(J25>29,1.1,1))),0)) -> 0 | M25: =ROUND(IF(OR(LEFT(E25,2)="ĐA",LEFT(E25,2)="DA",LEFT(E25,5)="Đồ án",LEFT(E25,5)="Đồán "),J25*0.5,(IF(H25>0,H25*K25,"0")+IF(I25>0,(I25*0.75)*L25,"0"))),1) -> 0
K26: =IF(OR(LEFT(E26,2)="ĐA",LEFT(E26,2)="DA",LEFT(E26,5)="Đồ án",LEFT(E26,5)="Đồán ",LEFT(E26,9)="Sinh hoạt",LEFT(E26,9)="sinh hoạt",LEFT(E26,6)="Cố vấn",LEFT(E26,6)="cố vấn",LEFT(E26,4)="cvht",LEFT(E26,4)="CVHT",LEFT(E26,4)="shcn",LEFT(E26,4)="SHCN"),0,(IF(AND(H26>0,J26>0),IF(J26>60,1.3,IF(J26>35,1.2,1)),0))) -> 0 | L26: =IF(OR(LEFT(E26,2)="ĐA",LEFT(E26,2)="DA",LEFT(E26,5)="Đồ án",LEFT(E26,5)="Đồán "),0,IF(AND(J26>0,I26>0),IF(AND(OR(LEFT(E26,4)="GDQP",LEFT(E26,4)="gdqp",LEFT(E26,19)="Giáo dục quốc phòng"),J26>50),1.3,IF(J26>35,1.2,IF(J26>29,1.1,1))),0)) -> 0 | M26: =ROUND(IF(OR(LEFT(E26,2)="ĐA",LEFT(E26,2)="DA",LEFT(E26,5)="Đồ án",LEFT(E26,5)="Đồán "),J26*0.5,(IF(H26>0,H26*K26,"0")+IF(I26>0,(I26*0.75)*L26,"0"))),1) -> 0
K27: =IF(OR(LEFT(E27,2)="ĐA",LEFT(E27,2)="DA",LEFT(E27,5)="Đồ án",LEFT(E27,5)="Đồán ",LEFT(E27,9)="Sinh hoạt",LEFT(E27,9)="sinh hoạt",LEFT(E27,6)="Cố vấn",LEFT(E27,6)="cố vấn",LEFT(E27,4)="cvht",LEFT(E27,4)="CVHT",LEFT(E27,4)="shcn",LEFT(E27,4)="SHCN"),0,(IF(AND(H27>0,J27>0),IF(J27>60,1.3,IF(J27>35,1.2,1)),0))) -> 0 | L27: =IF(OR(LEFT(E27,2)="ĐA",LEFT(E27,2)="DA",LEFT(E27,5)="Đồ án",LEFT(E27,5)="Đồán "),0,IF(AND(J27>0,I27>0),IF(AND(OR(LEFT(E27,4)="GDQP",LEFT(E27,4)="gdqp",LEFT(E27,19)="Giáo dục quốc phòng"),J27>50),1.3,IF(J27>35,1.2,IF(J27>29,1.1,1))),0)) -> 0 | M27: =ROUND(IF(OR(LEFT(E27,2)="ĐA",LEFT(E27,2)="DA",LEFT(E27,5)="Đồ án",LEFT(E27,5)="Đồán "),J27*0.5,(IF(H27>0,H27*K27,"0")+IF(I27>0,(I27*0.75)*L27,"0"))),1) -> 0
K28: =IF(OR(LEFT(E28,2)="ĐA",LEFT(E28,2)="DA",LEFT(E28,5)="Đồ án",LEFT(E28,5)="Đồán ",LEFT(E28,9)="Sinh hoạt",LEFT(E28,9)="sinh hoạt",LEFT(E28,6)="Cố vấn",LEFT(E28,6)="cố vấn",LEFT(E28,4)="cvht",LEFT(E28,4)="CVHT",LEFT(E28,4)="shcn",LEFT(E28,4)="SHCN"),0,(IF(AND(H28>0,J28>0),IF(J28>60,1.3,IF(J28>35,1.2,1)),0))) -> 0 | L28: =IF(OR(LEFT(E28,2)="ĐA",LEFT(E28,2)="DA",LEFT(E28,5)="Đồ án",LEFT(E28,5)="Đồán "),0,IF(AND(J28>0,I28>0),IF(AND(OR(LEFT(E28,4)="GDQP",LEFT(E28,4)="gdqp",LEFT(E28,19)="Giáo dục quốc phòng"),J28>50),1.3,IF(J28>35,1.2,IF(J28>29,1.1,1))),0)) -> 0 | M28: =ROUND(IF(OR(LEFT(E28,2)="ĐA",LEFT(E28,2)="DA",LEFT(E28,5)="Đồ án",LEFT(E28,5)="Đồán "),J28*0.5,(IF(H28>0,H28*K28,"0")+IF(I28>0,(I28*0.75)*L28,"0"))),1) -> 0
K29: =IF(OR(LEFT(E29,2)="ĐA",LEFT(E29,2)="DA",LEFT(E29,5)="Đồ án",LEFT(E29,5)="Đồán ",LEFT(E29,9)="Sinh hoạt",LEFT(E29,9)="sinh hoạt",LEFT(E29,6)="Cố vấn",LEFT(E29,6)="cố vấn",LEFT(E29,4)="cvht",LEFT(E29,4)="CVHT",LEFT(E29,4)="shcn",LEFT(E29,4)="SHCN"),0,(IF(AND(H29>0,J29>0),IF(J29>60,1.3,IF(J29>35,1.2,1)),0))) -> 0 | L29: =IF(OR(LEFT(E29,2)="ĐA",LEFT(E29,2)="DA",LEFT(E29,5)="Đồ án",LEFT(E29,5)="Đồán "),0,IF(AND(J29>0,I29>0),IF(AND(OR(LEFT(E29,4)="GDQP",LEFT(E29,4)="gdqp",LEFT(E29,19)="Giáo dục quốc phòng"),J29>50),1.3,IF(J29>35,1.2,IF(J29>29,1.1,1))),0)) -> 0 | M29: =ROUND(IF(OR(LEFT(E29,2)="ĐA",LEFT(E29,2)="DA",LEFT(E29,5)="Đồ án",LEFT(E29,5)="Đồán "),J29*0.5,(IF(H29>0,H29*K29,"0")+IF(I29>0,(I29*0.75)*L29,"0"))),1) -> 0
K30: =IF(OR(LEFT(E30,2)="ĐA",LEFT(E30,2)="DA",LEFT(E30,5)="Đồ án",LEFT(E30,5)="Đồán ",LEFT(E30,9)="Sinh hoạt",LEFT(E30,9)="sinh hoạt",LEFT(E30,6)="Cố vấn",LEFT(E30,6)="cố vấn",LEFT(E30,4)="cvht",LEFT(E30,4)="CVHT",LEFT(E30,4)="shcn",LEFT(E30,4)="SHCN"),0,(IF(AND(H30>0,J30>0),IF(J30>60,1.3,IF(J30>35,1.2,1)),0))) -> 0 | L30: =IF(OR(LEFT(E30,2)="ĐA",LEFT(E30,2)="DA",LEFT(E30,5)="Đồ án",LEFT(E30,5)="Đồán "),0,IF(AND(J30>0,I30>0),IF(AND(OR(LEFT(E30,4)="GDQP",LEFT(E30,4)="gdqp",LEFT(E30,19)="Giáo dục quốc phòng"),J30>50),1.3,IF(J30>35,1.2,IF(J30>29,1.1,1))),0)) -> 0 | M30: =ROUND(IF(OR(LEFT(E30,2)="ĐA",LEFT(E30,2)="DA",LEFT(E30,5)="Đồ án",LEFT(E30,5)="Đồán "),J30*0.5,(IF(H30>0,H30*K30,"0")+IF(I30>0,(I30*0.75)*L30,"0"))),1) -> 0
A31: 2 | B31: Nguyễn | C31: Khoa | D31: 50600115501 | E31: Hệ quản trị cơ sở dữ liệu Microsoft Access | F31: 16TCN-QTM1 | G31: 1 | H31: 30 | J31: 55 | K31: =IF(OR(LEFT(E31,2)="ĐA",LEFT(E31,2)="DA",LEFT(E31,5)="Đồ án",LEFT(E31,5)="Đồán ",LEFT(E31,9)="Sinh hoạt",LEFT(E31,9)="sinh hoạt",LEFT(E31,6)="Cố vấn",LEFT(E31,6)="cố vấn",LEFT(E31,4)="cvht",LEFT(E31,4)="CVHT",LEFT(E31,4)="shcn",LEFT(E31,4)="SHCN"),0,(IF(AND(H31>0,J31>0),IF(J31>60,1.3,IF(J31>35,1.2,1)),0))) -> 1.2 | L31: =IF(OR(LEFT(E31,2)="ĐA",LEFT(E31,2)="DA",LEFT(E31,5)="Đồ án",LEFT(E31,5)="Đồán "),0,IF(AND(J31>0,I31>0),IF(AND(OR(LEFT(E31,4)="GDQP",LEFT(E31,4)="gdqp",LEFT(E31,19)="Giáo dục quốc phòng"),J31>50),1.3,IF(J31>35,1.2,IF(J31>29,1.1,1))),0)) -> 0 | M31: =ROUND(IF(OR(LEFT(E31,2)="ĐA",LEFT(E31,2)="DA",LEFT(E31,5)="Đồ án",LEFT(E31,5)="Đồán "),J31*0.5,(IF(H31>0,H31*K31,"0")+IF(I31>0,(I31*0.75)*L31,"0"))),1) -> 36 | N31: =430*30% -> 129 | O31: 0 | P31: =SUM(M31:M50)+N31+O31 -> 865.1 | Q31: 21.4 | R31: 0 | S31: 430 | T31: 430 | U31: 112 | V31: 112 | W31: 56 | X31: 56 | Y31: =ROUND((P31-T31),1) -> 435.1 | Z31: =IF(OR(SUM(V31)="",SUM(Q31)=""),0,IF(OR(SUM(U31)=320,SUM(V31)>0),ROUND((SUM(Q31)-SUM(V31)),1),0)) -> -90.6 | AA31: =IF(OR(SUM(X31)="",SUM(R31)=""),0,IF(OR(SUM(W31)=160,SUM(X31)>0),ROUND((SUM(R31)-SUM(X31)),1),0)) -> -56 | AC31: =SUM(Y31:AA50) -> 288.5
E32: Hệ quản trị cơ sở dữ liệu Microsoft Access-N1 | F32: 16TCN-QTM2 | G32: 1 | I32: 60 | J32: 55 | K32: =IF(OR(LEFT(E32,2)="ĐA",LEFT(E32,2)="DA",LEFT(E32,5)="Đồ án",LEFT(E32,5)="Đồán ",LEFT(E32,9)="Sinh hoạt",LEFT(E32,9)="sinh hoạt",LEFT(E32,6)="Cố vấn",LEFT(E32,6)="cố vấn",LEFT(E32,4)="cvht",LEFT(E32,4)="CVHT",LEFT(E32,4)="shcn",LEFT(E32,4)="SHCN"),0,(IF(AND(H32>0,J32>0),IF(J32>60,1.3,IF(J32>35,1.2,1)),0))) -> 0 | L32: =IF(OR(LEFT(E32,2)="ĐA",LEFT(E32,2)="DA",LEFT(E32,5)="Đồ án",LEFT(E32,5)="Đồán "),0,IF(AND(J32>0,I32>0),IF(AND(OR(LEFT(E32,4)="GDQP",LEFT(E32,4)="gdqp",LEFT(E32,19)="Giáo dục quốc phòng"),J32>50),1.3,IF(J32>35,1.2,IF(J32>29,1.1,1))),0)) -> 1.2 | M32: =ROUND(IF(OR(LEFT(E32,2)="ĐA",LEFT(E32,2)="DA",LEFT(E32,5)="Đồ án",LEFT(E32,5)="Đồán "),J32*0.5,(IF(H32>0,H32*K32,"0")+IF(I32>0,(I32*0.75)*L32,"0"))),1) -> 54
E33: Hệ quản trị cơ sở dữ liệu Microsoft Access-N2 | F33: 16TCN-QTM3 | G33: 1 | I33: 60 | J33: 55 | K33: =IF(OR(LEFT(E33,2)="ĐA",LEFT(E33,2)="DA",LEFT(E33,5)="Đồ án",LEFT(E33,5)="Đồán ",LEFT(E33,9)="Sinh hoạt",LEFT(E33,9)="sinh hoạt",LEFT(E33,6)="Cố vấn",LEFT(E33,6)="cố vấn",LEFT(E33,4)="cvht",LEFT(E33,4)="CVHT",LEFT(E33,4)="shcn",LEFT(E33,4)="SHCN"),0,(IF(AND(H33>0,J33>0),IF(J33>60,1.3,IF(J33>35,1.2,1)),0))) -> 0 | L33: =IF(OR(LEFT(E33,2)="ĐA",LEFT(E33,2)="DA",LEFT(E33,5)="Đồ án",LEFT(E33,5)="Đồán "),0,IF(AND(J33>0,I33>0),IF(AND(OR(LEFT(E33,4)="GDQP",LEFT(E33,4)="gdqp",LEFT(E33,19)="Giáo dục quốc phòng"),J33>50),1.3,IF(J33>35,1.2,IF(J33>29,1.1,1))),0)) -> 1.2 | M33: =ROUND(IF(OR(LEFT(E33,2)="ĐA",LEFT(E33,2)="DA",LEFT(E33,5)="Đồ án",LEFT(E33,5)="Đồán "),J33*0.5,(IF(H33>0,H33*K33,"0")+IF(I33>0,(I33*0.75)*L33,"0"))),1) -> 54
D34: 41000092301 | E34: Lập trình quản lý | F34: 16TC-QTM | G34: 1 | H34: 30 | I34: 45 | J34: 30 | K34: =IF(OR(LEFT(E34,2)="ĐA",LEFT(E34,2)="DA",LEFT(E34,5)="Đồ án",LEFT(E34,5)="Đồán ",LEFT(E34,9)="Sinh hoạt",LEFT(E34,9)="sinh hoạt",LEFT(E34,6)="Cố vấn",LEFT(E34,6)="cố vấn",LEFT(E34,4)="cvht",LEFT(E34,4)="CVHT",LEFT(E34,4)="shcn",LEFT(E34,4)="SHCN"),0,(IF(AND(H34>0,J34>0),IF(J34>60,1.3,IF(J34>35,1.2,1)),0))) -> 1 | L34: =IF(OR(LEFT(E34,2)="ĐA",LEFT(E34,2)="DA",LEFT(E34,5)="Đồ án",LEFT(E34,5)="Đồán "),0,IF(AND(J34>0,I34>0),IF(AND(OR(LEFT(E34,4)="GDQP",LEFT(E34,4)="gdqp",LEFT(E34,19)="Giáo dục quốc phòng"),J34>50),1.3,IF(J34>35,1.2,IF(J34>29,1.1,1))),0)) -> 1.1 | M34: =ROUND(IF(OR(LEFT(E34,2)="ĐA",LEFT(E34,2)="DA",LEFT(E34,5)="Đồ án",LEFT(E34,5)="Đồán "),J34*0.5,(IF(H34>0,H34*K34,"0")+IF(I34>0,(I34*0.75)*L34,"0"))),1) -> 67.1
D35: 71400119919 | E35: Tin học | F35: 17T4-ĐĐT1 | G35: 1 | H35: 30 | I35: 60 | J35: 80 | K35: =IF(OR(LEFT(E35,2)="ĐA",LEFT(E35,2)="DA",LEFT(E35,5)="Đồ án",LEFT(E35,5)="Đồán ",LEFT(E35,9)="Sinh hoạt",LEFT(E35,9)="sinh hoạt",LEFT(E35,6)="Cố vấn",LEFT(E35,6)="cố vấn",LEFT(E35,4)="cvht",LEFT(E35,4)="CVHT",LEFT(E35,4)="shcn",LEFT(E35,4)="SHCN"),0,(IF(AND(H35>0,J35>0),IF(J35>60,1.3,IF(J35>35,1.2,1)),0))) -> 1.3 | L35: =IF(OR(LEFT(E35,2)="ĐA",LEFT(E35,2)="DA",LEFT(E35,5)="Đồ án",LEFT(E35,5)="Đồán "),0,IF(AND(J35>0,I35>0),IF(AND(OR(LEFT(E35,4)="GDQP",LEFT(E35,4)="gdqp",LEFT(E35,19)="Giáo dục quốc phòng"),J35>50),1.3,IF(J35>35,1.2,IF(J35>29,1.1,1))),0)) -> 1.2 | M35: =ROUND(IF(OR(LEFT(E35,2)="ĐA",LEFT(E35,2)="DA",LEFT(E35,5)="Đồ án",LEFT(E35,5)="Đồán "),J35*0.5,(IF(H35>0,H35*K35,"0")+IF(I35>0,(I35*0.75)*L35,"0"))),1) -> 93
E36: Hệ quản trị CSDL | F36: 18C1-TMĐ1 | G36: 2 | H36: 15 | I36: 60 | J36: 40 | K36: =IF(OR(LEFT(E36,2)="ĐA",LEFT(E36,2)="DA",LEFT(E36,5)="Đồ án",LEFT(E36,5)="Đồán ",LEFT(E36,9)="Sinh hoạt",LEFT(E36,9)="sinh hoạt",LEFT(E36,6)="Cố vấn",LEFT(E36,6)="cố vấn",LEFT(E36,4)="cvht",LEFT(E36,4)="CVHT",LEFT(E36,4)="shcn",LEFT(E36,4)="SHCN"),0,(IF(AND(H36>0,J36>0),IF(J36>60,1.3,IF(J36>35,1.2,1)),0))) -> 1.2 | L36: =IF(OR(LEFT(E36,2)="ĐA",LEFT(E36,2)="DA",LEFT(E36,5)="Đồ án",LEFT(E36,5)="Đồán "),0,IF(AND(J36>0,I36>0),IF(AND(OR(LEFT(E36,4)="GDQP",LEFT(E36,4)="gdqp",LEFT(E36,19)="Giáo dục quốc phòng"),J36>50),1.3,IF(J36>35,1.2,IF(J36>29,1.1,1))),0)) -> 1.2 | M36: =ROUND(IF(OR(LEFT(E36,2)="ĐA",LEFT(E36,2)="DA",LEFT(E36,5)="Đồ án",LEFT(E36,5)="Đồán "),J36*0.5,(IF(H36>0,H36*K36,"0")+IF(I36>0,(I36*0.75)*L36,"0"))),1) -> 72
E37: Tin học | F37: CĐ1 | G37: 2 | H37: 30 | I37: 60 | J37: 40 | K37: =IF(OR(LEFT(E37,2)="ĐA",LEFT(E37,2)="DA",LEFT(E37,5)="Đồ án",LEFT(E37,5)="Đồán ",LEFT(E37,9)="Sinh hoạt",LEFT(E37,9)="sinh hoạt",LEFT(E37,6)="Cố vấn",LEFT(E37,6)="cố vấn",LEFT(E37,4)="cvht",LEFT(E37,4)="CVHT",LEFT(E37,4)="shcn",LEFT(E37,4)="SHCN"),0,(IF(AND(H37>0,J37>0),IF(J37>60,1.3,IF(J37>35,1.2,1)),0))) -> 1.2 | L37: =IF(OR(LEFT(E37,2)="ĐA",LEFT(E37,2)="DA",LEFT(E37,5)="Đồ án",LEFT(E37,5)="Đồán "),0,IF(AND(J37>0,I37>0),IF(AND(OR(LEFT(E37,4)="GDQP",LEFT(E37,4)="gdqp",LEFT(E37,19)="Giáo dục quốc phòng"),J37>50),1.3,IF(J37>35,1.2,IF(J37>29,1.1,1))),0)) -> 1.2 | M37: =ROUND(IF(OR(LEFT(E37,2)="ĐA",LEFT(E37,2)="DA",LEFT(E37,5)="Đồ án",LEFT(E37,5)="Đồán "),J37*0.5,(IF(H37>0,H37*K37,"0")+IF(I37>0,(I37*0.75)*L37,"0"))),1) -> 90
E38: Tin học | F38: CĐ2 | G38: 2 | H38: 30 | I38: 60 | J38: 40 | K38: =IF(OR(LEFT(E38,2)="ĐA",LEFT(E38,2)="DA",LEFT(E38,5)="Đồ án",LEFT(E38,5)="Đồán ",LEFT(E38,9)="Sinh hoạt",LEFT(E38,9)="sinh hoạt",LEFT(E38,6)="Cố vấn",LEFT(E38,6)="cố vấn",LEFT(E38,4)="cvht",LEFT(E38,4)="CVHT",LEFT(E38,4)="shcn",LEFT(E38,4)="SHCN"),0,(IF(AND(H38>0,J38>0),IF(J38>60,1.3,IF(J38>35,1.2,1)),0))) -> 1.2 | L38: =IF(OR(LEFT(E38,2)="ĐA",LEFT(E38,2)="DA",LEFT(E38,5)="Đồ án",LEFT(E38,5)="Đồán "),0,IF(AND(J38>0,I38>0),IF(AND(OR(LEFT(E38,4)="GDQP",LEFT(E38,4)="gdqp",LEFT(E38,19)="Giáo dục quốc phòng"),J38>50),1.3,IF(J38>35,1.2,IF(J38>29,1.1,1))),0)) -> 1.2 | M38: =ROUND(IF(OR(LEFT(E38,2)="ĐA",LEFT(E38,2)="DA",LEFT(E38,5)="Đồ án",LEFT(E38,5)="Đồán "),J38*0.5,(IF(H38>0,H38*K38,"0")+IF(I38>0,(I38*0.75)*L38,"0"))),1) -> 90
E39: Tin học | F39: TC1 | G39: 2 | H39: 30 | I39: 60 | J39: 40 | K39: =IF(OR(LEFT(E39,2)="ĐA",LEFT(E39,2)="DA",LEFT(E39,5)="Đồ án",LEFT(E39,5)="Đồán ",LEFT(E39,9)="Sinh hoạt",LEFT(E39,9)="sinh hoạt",LEFT(E39,6)="Cố vấn",LEFT(E39,6)="cố vấn",LEFT(E39,4)="cvht",LEFT(E39,4)="CVHT",LEFT(E39,4)="shcn",LEFT(E39,4)="SHCN"),0,(IF(AND(H39>0,J39>0),IF(J39>60,1.3,IF(J39>35,1.2,1)),0))) -> 1.2 | L39: =IF(OR(LEFT(E39,2)="ĐA",LEFT(E39,2)="DA",LEFT(E39,5)="Đồ án",LEFT(E39,5)="Đồán "),0,IF(AND(J39>0,I39>0),IF(AND(OR(LEFT(E39,4)="GDQP",LEFT(E39,4)="gdqp",LEFT(E39,19)="Giáo dục quốc phòng"),J39>50),1.3,IF(J39>35,1.2,IF(J39>29,1.1,1))),0)) -> 1.2 | M39: =ROUND(IF(OR(LEFT(E39,2)="ĐA",LEFT(E39,2)="DA",LEFT(E39,5)="Đồ án",LEFT(E39,5)="Đồán "),J39*0.5,(IF(H39>0,H39*K39,"0")+IF(I39>0,(I39*0.75)*L39,"0"))),1) -> 90
E40: Tin học | F40: TC2 | G40: 2 | H40: 30 | I40: 60 | J40: 40 | K40: =IF(OR(LEFT(E40,2)="ĐA",LEFT(E40,2)="DA",LEFT(E40,5)="Đồ án",LEFT(E40,5)="Đồán ",LEFT(E40,9)="Sinh hoạt",LEFT(E40,9)="sinh hoạt",LEFT(E40,6)="Cố vấn",LEFT(E40,6)="cố vấn",LEFT(E40,4)="cvht",LEFT(E40,4)="CVHT",LEFT(E40,4)="shcn",LEFT(E40,4)="SHCN"),0,(IF(AND(H40>0,J40>0),IF(J40>60,1.3,IF(J40>35,1.2,1)),0))) -> 1.2 | L40: =IF(OR(LEFT(E40,2)="ĐA",LEFT(E40,2)="DA",LEFT(E40,5)="Đồ án",LEFT(E40,5)="Đồán "),0,IF(AND(J40>0,I40>0),IF(AND(OR(LEFT(E40,4)="GDQP",LEFT(E40,4)="gdqp",LEFT(E40,19)="Giáo dục quốc phòng"),J40>50),1.3,IF(J40>35,1.2,IF(J40>29,1.1,1))),0)) -> 1.2 | M40: =ROUND(IF(OR(LEFT(E40,2)="ĐA",LEFT(E40,2)="DA",LEFT(E40,5)="Đồ án",LEFT(E40,5)="Đồán "),J40*0.5,(IF(H40>0,H40*K40,"0")+IF(I40>0,(I40*0.75)*L40,"0"))),1) -> 90
K42: =IF(OR(LEFT(E42,2)="ĐA",LEFT(E42,2)="DA",LEFT(E42,5)="Đồ án",LEFT(E42,5)="Đồán ",LEFT(E42,9)="Sinh hoạt",LEFT(E42,9)="sinh hoạt",LEFT(E42,6)="Cố vấn",LEFT(E42,6)="cố vấn",LEFT(E42,4)="cvht",LEFT(E42,4)="CVHT",LEFT(E42,4)="shcn",LEFT(E42,4)="SHCN"),0,(IF(AND(H42>0,J42>0),IF(J42>60,1.3,IF(J42>35,1.2,1)),0))) -> 0 | L42: =IF(OR(LEFT(E42,2)="ĐA",LEFT(E42,2)="DA",LEFT(E42,5)="Đồ án",LEFT(E42,5)="Đồán "),0,IF(AND(J42>0,I42>0),IF(AND(OR(LEFT(E42,4)="GDQP",LEFT(E42,4)="gdqp",LEFT(E42,19)="Giáo dục quốc phòng"),J42>50),1.3,IF(J42>35,1.2,IF(J42>29,1.1,1))),0)) -> 0 | M42: =ROUND(IF(OR(LEFT(E42,2)="ĐA",LEFT(E42,2)="DA",LEFT(E42,5)="Đồ án",LEFT(E42,5)="Đồán "),J42*0.5,(IF(H42>0,H42*K42,"0")+IF(I42>0,(I42*0.75)*L42,"0"))),1) -> 0
K43: =IF(OR(LEFT(E43,2)="ĐA",LEFT(E43,2)="DA",LEFT(E43,5)="Đồ án",LEFT(E43,5)="Đồán ",LEFT(E43,9)="Sinh hoạt",LEFT(E43,9)="sinh hoạt",LEFT(E43,6)="Cố vấn",LEFT(E43,6)="cố vấn",LEFT(E43,4)="cvht",LEFT(E43,4)="CVHT",LEFT(E43,4)="shcn",LEFT(E43,4)="SHCN"),0,(IF(AND(H43>0,J43>0),IF(J43>60,1.3,IF(J43>35,1.2,1)),0))) -> 0 | L43: =IF(OR(LEFT(E43,2)="ĐA",LEFT(E43,2)="DA",LEFT(E43,5)="Đồ án",LEFT(E43,5)="Đồán "),0,IF(AND(J43>0,I43>0),IF(AND(OR(LEFT(E43,4)="GDQP",LEFT(E43,4)="gdqp",LEFT(E43,19)="Giáo dục quốc phòng"),J43>50),1.3,IF(J43>35,1.2,IF(J43>29,1.1,1))),0)) -> 0 | M43: =ROUND(IF(OR(LEFT(E43,2)="ĐA",LEFT(E43,2)="DA",LEFT(E43,5)="Đồ án",LEFT(E43,5)="Đồán "),J43*0.5,(IF(H43>0,H43*K43,"0")+IF(I43>0,(I43*0.75)*L43,"0"))),1) -> 0
K44: =IF(OR(LEFT(E44,2)="ĐA",LEFT(E44,2)="DA",LEFT(E44,5)="Đồ án",LEFT(E44,5)="Đồán ",LEFT(E44,9)="Sinh hoạt",LEFT(E44,9)="sinh hoạt",LEFT(E44,6)="Cố vấn",LEFT(E44,6)="cố vấn",LEFT(E44,4)="cvht",LEFT(E44,4)="CVHT",LEFT(E44,4)="shcn",LEFT(E44,4)="SHCN"),0,(IF(AND(H44>0,J44>0),IF(J44>60,1.3,IF(J44>35,1.2,1)),0))) -> 0 | L44: =IF(OR(LEFT(E44,2)="ĐA",LEFT(E44,2)="DA",LEFT(E44,5)="Đồ án",LEFT(E44,5)="Đồán "),0,IF(AND(J44>0,I44>0),IF(AND(OR(LEFT(E44,4)="GDQP",LEFT(E44,4)="gdqp",LEFT(E44,19)="Giáo dục quốc phòng"),J44>50),1.3,IF(J44>35,1.2,IF(J44>29,1.1,1))),0)) -> 0 | M44: =ROUND(IF(OR(LEFT(E44,2)="ĐA",LEFT(E44,2)="DA",LEFT(E44,5)="Đồ án",LEFT(E44,5)="Đồán "),J44*0.5,(IF(H44>0,H44*K44,"0")+IF(I44>0,(I44*0.75)*L44,"0"))),1) -> 0
K45: =IF(OR(LEFT(E45,2)="ĐA",LEFT(E45,2)="DA",LEFT(E45,5)="Đồ án",LEFT(E45,5)="Đồán ",LEFT(E45,9)="Sinh hoạt",LEFT(E45,9)="sinh hoạt",LEFT(E45,6)="Cố vấn",LEFT(E45,6)="cố vấn",LEFT(E45,4)="cvht",LEFT(E45,4)="CVHT",LEFT(E45,4)="shcn",LEFT(E45,4)="SHCN"),0,(IF(AND(H45>0,J45>0),IF(J45>60,1.3,IF(J45>35,1.2,1)),0))) -> 0 | L45: =IF(OR(LEFT(E45,2)="ĐA",LEFT(E45,2)="DA",LEFT(E45,5)="Đồ án",LEFT(E45,5)="Đồán "),0,IF(AND(J45>0,I45>0),IF(AND(OR(LEFT(E45,4)="GDQP",LEFT(E45,4)="gdqp",LEFT(E45,19)="Giáo dục quốc phòng"),J45>50),1.3,IF(J45>35,1.2,IF(J45>29,1.1,1))),0)) -> 0 | M45: =ROUND(IF(OR(LEFT(E45,2)="ĐA",LEFT(E45,2)="DA",LEFT(E45,5)="Đồ án",LEFT(E45,5)="Đồán "),J45*0.5,(IF(H45>0,H45*K45,"0")+IF(I45>0,(I45*0.75)*L45,"0"))),1) -> 0
K46: =IF(OR(LEFT(E46,2)="ĐA",LEFT(E46,2)="DA",LEFT(E46,5)="Đồ án",LEFT(E46,5)="Đồán ",LEFT(E46,9)="Sinh hoạt",LEFT(E46,9)="sinh hoạt",LEFT(E46,6)="Cố vấn",LEFT(E46,6)="cố vấn",LEFT(E46,4)="cvht",LEFT(E46,4)="CVHT",LEFT(E46,4)="shcn",LEFT(E46,4)="SHCN"),0,(IF(AND(H46>0,J46>0),IF(J46>60,1.3,IF(J46>35,1.2,1)),0))) -> 0 | L46: =IF(OR(LEFT(E46,2)="ĐA",LEFT(E46,2)="DA",LEFT(E46,5)="Đồ án",LEFT(E46,5)="Đồán "),0,IF(AND(J46>0,I46>0),IF(AND(OR(LEFT(E46,4)="GDQP",LEFT(E46,4)="gdqp",LEFT(E46,19)="Giáo dục quốc phòng"),J46>50),1.3,IF(J46>35,1.2,IF(J46>29,1.1,1))),0)) -> 0 | M46: =ROUND(IF(OR(LEFT(E46,2)="ĐA",LEFT(E46,2)="DA",LEFT(E46,5)="Đồ án",LEFT(E46,5)="Đồán "),J46*0.5,(IF(H46>0,H46*K46,"0")+IF(I46>0,(I46*0.75)*L46,"0"))),1) -> 0
K47: =IF(OR(LEFT(E47,2)="ĐA",LEFT(E47,2)="DA",LEFT(E47,5)="Đồ án",LEFT(E47,5)="Đồán ",LEFT(E47,9)="Sinh hoạt",LEFT(E47,9)="sinh hoạt",LEFT(E47,6)="Cố vấn",LEFT(E47,6)="cố vấn",LEFT(E47,4)="cvht",LEFT(E47,4)="CVHT",LEFT(E47,4)="shcn",LEFT(E47,4)="SHCN"),0,(IF(AND(H47>0,J47>0),IF(J47>60,1.3,IF(J47>35,1.2,1)),0))) -> 0 | L47: =IF(OR(LEFT(E47,2)="ĐA",LEFT(E47,2)="DA",LEFT(E47,5)="Đồ án",LEFT(E47,5)="Đồán "),0,IF(AND(J47>0,I47>0),IF(AND(OR(LEFT(E47,4)="GDQP",LEFT(E47,4)="gdqp",LEFT(E47,19)="Giáo dục quốc phòng"),J47>50),1.3,IF(J47>35,1.2,IF(J47>29,1.1,1))),0)) -> 0 | M47: =ROUND(IF(OR(LEFT(E47,2)="ĐA",LEFT(E47,2)="DA",LEFT(E47,5)="Đồ án",LEFT(E47,5)="Đồán "),J47*0.5,(IF(H47>0,H47*K47,"0")+IF(I47>0,(I47*0.75)*L47,"0"))),1) -> 0
K48: =IF(OR(LEFT(E48,2)="ĐA",LEFT(E48,2)="DA",LEFT(E48,5)="Đồ án",LEFT(E48,5)="Đồán ",LEFT(E48,9)="Sinh hoạt",LEFT(E48,9)="sinh hoạt",LEFT(E48,6)="Cố vấn",LEFT(E48,6)="cố vấn",LEFT(E48,4)="cvht",LEFT(E48,4)="CVHT",LEFT(E48,4)="shcn",LEFT(E48,4)="SHCN"),0,(IF(AND(H48>0,J48>0),IF(J48>60,1.3,IF(J48>35,1.2,1)),0))) -> 0 | L48: =IF(OR(LEFT(E48,2)="ĐA",LEFT(E48,2)="DA",LEFT(E48,5)="Đồ án",LEFT(E48,5)="Đồán "),0,IF(AND(J48>0,I48>0),IF(AND(OR(LEFT(E48,4)="GDQP",LEFT(E48,4)="gdqp",LEFT(E48,19)="Giáo dục quốc phòng"),J48>50),1.3,IF(J48>35,1.2,IF(J48>29,1.1,1))),0)) -> 0 | M48: =ROUND(IF(OR(LEFT(E48,2)="ĐA",LEFT(E48,2)="DA",LEFT(E48,5)="Đồ án",LEFT(E48,5)="Đồán "),J48*0.5,(IF(H48>0,H48*K48,"0")+IF(I48>0,(I48*0.75)*L48,"0"))),1) -> 0
K49: =IF(OR(LEFT(E49,2)="ĐA",LEFT(E49,2)="DA",LEFT(E49,5)="Đồ án",LEFT(E49,5)="Đồán ",LEFT(E49,9)="Sinh hoạt",LEFT(E49,9)="sinh hoạt",LEFT(E49,6)="Cố vấn",LEFT(E49,6)="cố vấn",LEFT(E49,4)="cvht",LEFT(E49,4)="CVHT",LEFT(E49,4)="shcn",LEFT(E49,4)="SHCN"),0,(IF(AND(H49>0,J49>0),IF(J49>60,1.3,IF(J49>35,1.2,1)),0))) -> 0 | L49: =IF(OR(LEFT(E49,2)="ĐA",LEFT(E49,2)="DA",LEFT(E49,5)="Đồ án",LEFT(E49,5)="Đồán "),0,IF(AND(J49>0,I49>0),IF(AND(OR(LEFT(E49,4)="GDQP",LEFT(E49,4)="gdqp",LEFT(E49,19)="Giáo dục quốc phòng"),J49>50),1.3,IF(J49>35,1.2,IF(J49>29,1.1,1))),0)) -> 0 | M49: =ROUND(IF(OR(LEFT(E49,2)="ĐA",LEFT(E49,2)="DA",LEFT(E49,5)="Đồ án",LEFT(E49,5)="Đồán "),J49*0.5,(IF(H49>0,H49*K49,"0")+IF(I49>0,(I49*0.75)*L49,"0"))),1) -> 0
K50: =IF(OR(LEFT(E50,2)="ĐA",LEFT(E50,2)="DA",LEFT(E50,5)="Đồ án",LEFT(E50,5)="Đồán ",LEFT(E50,9)="Sinh hoạt",LEFT(E50,9)="sinh hoạt",LEFT(E50,6)="Cố vấn",LEFT(E50,6)="cố vấn",LEFT(E50,4)="cvht",LEFT(E50,4)="CVHT",LEFT(E50,4)="shcn",LEFT(E50,4)="SHCN"),0,(IF(AND(H50>0,J50>0),IF(J50>60,1.3,IF(J50>35,1.2,1)),0))) -> 0 | L50: =IF(OR(LEFT(E50,2)="ĐA",LEFT(E50,2)="DA",LEFT(E50,5)="Đồ án",LEFT(E50,5)="Đồán "),0,IF(AND(J50>0,I50>0),IF(AND(OR(LEFT(E50,4)="GDQP",LEFT(E50,4)="gdqp",LEFT(E50,19)="Giáo dục quốc phòng"),J50>50),1.3,IF(J50>35,1.2,IF(J50>29,1.1,1))),0)) -> 0 | M50: =ROUND(IF(OR(LEFT(E50,2)="ĐA",LEFT(E50,2)="DA",LEFT(E50,5)="Đồ án",LEFT(E50,5)="Đồán "),J50*0.5,(IF(H50>0,H50*K50,"0")+IF(I50>0,(I50*0.75)*L50,"0"))),1) -> 0
A51: 3 | B51: Nguyễn Văn | C51: Minh | D51: 21100094401 | E51: Cấu trúc dữ liệu & giải thuật | F51: 17C1-ANM1 | G51: 1 | H51: 15 | I51: 60 | J51: 22 | K51: =IF(OR(LEFT(E51,2)="ĐA",LEFT(E51,2)="DA",LEFT(E51,5)="Đồ án",LEFT(E51,5)="Đồán ",LEFT(E51,9)="Sinh hoạt",LEFT(E51,9)="sinh hoạt",LEFT(E51,6)="Cố vấn",LEFT(E51,6)="cố vấn",LEFT(E51,4)="cvht",LEFT(E51,4)="CVHT",LEFT(E51,4)="shcn",LEFT(E51,4)="SHCN"),0,(IF(AND(H51>0,J51>0),IF(J51>60,1.3,IF(J51>35,1.2,1)),0))) -> 1 | L51: =IF(OR(LEFT(E51,2)="ĐA",LEFT(E51,2)="DA",LEFT(E51,5)="Đồ án",LEFT(E51,5)="Đồán "),0,IF(AND(J51>0,I51>0),IF(AND(OR(LEFT(E51,4)="GDQP",LEFT(E51,4)="gdqp",LEFT(E51,19)="Giáo dục quốc phòng"),J51>50),1.3,IF(J51>35,1.2,IF(J51>29,1.1,1))),0)) -> 1 | M51: =ROUND(IF(OR(LEFT(E51,2)="ĐA",LEFT(E51,2)="DA",LEFT(E51,5)="Đồ án",LEFT(E51,5)="Đồán "),J51*0.5,(IF(H51>0,H51*K51,"0")+IF(I51>0,(I51*0.75)*L51,"0"))),1) -> 60 | N51: =430*15% -> 64.5 | O51: 0 | P51: =SUM(M51:M70)+N51+O51 -> 891 | Q51: 0 | R51: 0 | S51: 430 | T51: 430 | U51: 112 | V51: 112 | W51: 56 | X51: 56 | Y51: =ROUND((P51-T51),1) -> 461 | Z51: =IF(OR(SUM(V51:V70)="",SUM(Q51:Q70)=""),0,IF(OR(SUM(U51:U70)=320,SUM(V51:V70)>0),ROUND((SUM(Q51:Q70)-SUM(V51:V70)),1),0)) -> -112 | AA51: =IF(OR(SUM(X51:X70)="",SUM(R51:R70)=""),0,IF(OR(SUM(W51:W70)=160,SUM(X51:X70)>0),ROUND((SUM(R51:R70)-SUM(X51:X70)),1),0)) -> -56 | AC51: =SUM(Y51:AA70) -> 293
D52: 21100094404 | E52: Cấu trúc dữ liệu & giải thuật | F52: 17C1-QTM1 | G52: 1 | H52: 15 | I52: 60 | J52: 53 | K52: =IF(OR(LEFT(E52,2)="ĐA",LEFT(E52,2)="DA",LEFT(E52,5)="Đồ án",LEFT(E52,5)="Đồán ",LEFT(E52,9)="Sinh hoạt",LEFT(E52,9)="sinh hoạt",LEFT(E52,6)="Cố vấn",LEFT(E52,6)="cố vấn",LEFT(E52,4)="cvht",LEFT(E52,4)="CVHT",LEFT(E52,4)="shcn",LEFT(E52,4)="SHCN"),0,(IF(AND(H52>0,J52>0),IF(J52>60,1.3,IF(J52>35,1.2,1)),0))) -> 1.2 | L52: =IF(OR(LEFT(E52,2)="ĐA",LEFT(E52,2)="DA",LEFT(E52,5)="Đồ án",LEFT(E52,5)="Đồán "),0,IF(AND(J52>0,I52>0),IF(AND(OR(LEFT(E52,4)="GDQP",LEFT(E52,4)="gdqp",LEFT(E52,19)="Giáo dục quốc phòng"),J52>50),1.3,IF(J52>35,1.2,IF(J52>29,1.1,1))),0)) -> 1.2 | M52: =ROUND(IF(OR(LEFT(E52,2)="ĐA",LEFT(E52,2)="DA",LEFT(E52,5)="Đồ án",LEFT(E52,5)="Đồán "),J52*0.5,(IF(H52>0,H52*K52,"0")+IF(I52>0,(I52*0.75)*L52,"0"))),1) -> 72
D53: 71400106702 | E53: Kỹ thuật lập trình 1 | F53: 18T4-THU1 | G53: 1 | H53: 15 | I53: 0 | J53: 77 | K53: =IF(OR(LEFT(E53,2)="ĐA",LEFT(E53,2)="DA",LEFT(E53,5)="Đồ án",LEFT(E53,5)="Đồán ",LEFT(E53,9)="Sinh hoạt",LEFT(E53,9)="sinh hoạt",LEFT(E53,6)="Cố vấn",LEFT(E53,6)="cố vấn",LEFT(E53,4)="cvht",LEFT(E53,4)="CVHT",LEFT(E53,4)="shcn",LEFT(E53,4)="SHCN"),0,(IF(AND(H53>0,J53>0),IF(J53>60,1.3,IF(J53>35,1.2,1)),0))) -> 1.3 | L53: =IF(OR(LEFT(E53,2)="ĐA",LEFT(E53,2)="DA",LEFT(E53,5)="Đồ án",LEFT(E53,5)="Đồán "),0,IF(AND(J53>0,I53>0),IF(AND(OR(LEFT(E53,4)="GDQP",LEFT(E53,4)="gdqp",LEFT(E53,19)="Giáo dục quốc phòng"),J53>50),1.3,IF(J53>35,1.2,IF(J53>29,1.1,1))),0)) -> 0 | M53: =ROUND(IF(OR(LEFT(E53,2)="ĐA",LEFT(E53,2)="DA",LEFT(E53,5)="Đồ án",LEFT(E53,5)="Đồán "),J53*0.5,(IF(H53>0,H53*K53,"0")+IF(I53>0,(I53*0.75)*L53,"0"))),1) -> 19.5
D54: 71400106702 | E54: Kỹ thuật lập trình 1 | F54: 18T4-THU1 | G54: 1 | H54: 0 | I54: 60 | J54: 39 | K54: =IF(OR(LEFT(E54,2)="ĐA",LEFT(E54,2)="DA",LEFT(E54,5)="Đồ án",LEFT(E54,5)="Đồán ",LEFT(E54,9)="Sinh hoạt",LEFT(E54,9)="sinh hoạt",LEFT(E54,6)="Cố vấn",LEFT(E54,6)="cố vấn",LEFT(E54,4)="cvht",LEFT(E54,4)="CVHT",LEFT(E54,4)="shcn",LEFT(E54,4)="SHCN"),0,(IF(AND(H54>0,J54>0),IF(J54>60,1.3,IF(J54>35,1.2,1)),0))) -> 0 | L54: =IF(OR(LEFT(E54,2)="ĐA",LEFT(E54,2)="DA",LEFT(E54,5)="Đồ án",LEFT(E54,5)="Đồán "),0,IF(AND(J54>0,I54>0),IF(AND(OR(LEFT(E54,4)="GDQP",LEFT(E54,4)="gdqp",LEFT(E54,19)="Giáo dục quốc phòng"),J54>50),1.3,IF(J54>35,1.2,IF(J54>29,1.1,1))),0)) -> 1.2 | M54: =ROUND(IF(OR(LEFT(E54,2)="ĐA",LEFT(E54,2)="DA",LEFT(E54,5)="Đồ án",LEFT(E54,5)="Đồán "),J54*0.5,(IF(H54>0,H54*K54,"0")+IF(I54>0,(I54*0.75)*L54,"0"))),1) -> 54
D55: 71400106708 | E55: Kỹ thuật lập trình 1 | F55: 18T4-THU2 | G55: 1 | H55: 0 | I55: 60 | J55: 38 | K55: =IF(OR(LEFT(E55,2)="ĐA",LEFT(E55,2)="DA",LEFT(E55,5)="Đồ án",LEFT(E55,5)="Đồán ",LEFT(E55,9)="Sinh hoạt",LEFT(E55,9)="sinh hoạt",LEFT(E55,6)="Cố vấn",LEFT(E55,6)="cố vấn",LEFT(E55,4)="cvht",LEFT(E55,4)="CVHT",LEFT(E55,4)="shcn",LEFT(E55,4)="SHCN"),0,(IF(AND(H55>0,J55>0),IF(J55>60,1.3,IF(J55>35,1.2,1)),0))) -> 0 | L55: =IF(OR(LEFT(E55,2)="ĐA",LEFT(E55,2)="DA",LEFT(E55,5)="Đồ án",LEFT(E55,5)="Đồán "),0,IF(AND(J55>0,I55>0),IF(AND(OR(LEFT(E55,4)="GDQP",LEFT(E55,4)="gdqp",LEFT(E55,19)="Giáo dục quốc phòng"),J55>50),1.3,IF(J55>35,1.2,IF(J55>29,1.1,1))),0)) -> 1.2 | M55: =ROUND(IF(OR(LEFT(E55,2)="ĐA",LEFT(E55,2)="DA",LEFT(E55,5)="Đồ án",LEFT(E55,5)="Đồán "),J55*0.5,(IF(H55>0,H55*K55,"0")+IF(I55>0,(I55*0.75)*L55,"0"))),1) -> 54
D56: 21100093906 | E56: Cơ sở dữ liệu | F56: 18C1-LTM2 | G56: 1 | H56: 15 | I56: 30 | J56: 54 | K56: =IF(OR(LEFT(E56,2)="ĐA",LEFT(E56,2)="DA",LEFT(E56,5)="Đồ án",LEFT(E56,5)="Đồán ",LEFT(E56,9)="Sinh hoạt",LEFT(E56,9)="sinh hoạt",LEFT(E56,6)="Cố vấn",LEFT(E56,6)="cố vấn",LEFT(E56,4)="cvht",LEFT(E56,4)="CVHT",LEFT(E56,4)="shcn",LEFT(E56,4)="SHCN"),0,(IF(AND(H56>0,J56>0),IF(J56>60,1.3,IF(J56>35,1.2,1)),0))) -> 1.2 | L56: =IF(OR(LEFT(E56,2)="ĐA",LEFT(E56,2)="DA",LEFT(E56,5)="Đồ án",LEFT(E56,5)="Đồán "),0,IF(AND(J56>0,I56>0),IF(AND(OR(LEFT(E56,4)="GDQP",LEFT(E56,4)="gdqp",LEFT(E56,19)="Giáo dục quốc phòng"),J56>50),1.3,IF(J56>35,1.2,IF(J56>29,1.1,1))),0)) -> 1.2 | M56: =ROUND(IF(OR(LEFT(E56,2)="ĐA",LEFT(E56,2)="DA",LEFT(E56,5)="Đồ án",LEFT(E56,5)="Đồán "),J56*0.5,(IF(H56>0,H56*K56,"0")+IF(I56>0,(I56*0.75)*L56,"0"))),1) -> 45
D57: 21100119809 | E57: Tin học | F57: 18C1-TMĐ1 | G57: 1 | H57: 30 | I57: 60 | J57: 17 | K57: =IF(OR(LEFT(E57,2)="ĐA",LEFT(E57,2)="DA",LEFT(E57,5)="Đồ án",LEFT(E57,5)="Đồán ",LEFT(E57,9)="Sinh hoạt",LEFT(E57,9)="sinh hoạt",LEFT(E57,6)="Cố vấn",LEFT(E57,6)="cố vấn",LEFT(E57,4)="cvht",LEFT(E57,4)="CVHT",LEFT(E57,4)="shcn",LEFT(E57,4)="SHCN"),0,(IF(AND(H57>0,J57>0),IF(J57>60,1.3,IF(J57>35,1.2,1)),0))) -> 1 | L57: =IF(OR(LEFT(E57,2)="ĐA",LEFT(E57,2)="DA",LEFT(E57,5)="Đồ án",LEFT(E57,5)="Đồán "),0,IF(AND(J57>0,I57>0),IF(AND(OR(LEFT(E57,4)="GDQP",LEFT(E57,4)="gdqp",LEFT(E57,19)="Giáo dục quốc phòng"),J57>50),1.3,IF(J57>35,1.2,IF(J57>29,1.1,1))),0)) -> 1 | M57: =ROUND(IF(OR(LEFT(E57,2)="ĐA",LEFT(E57,2)="DA",LEFT(E57,5)="Đồ án",LEFT(E57,5)="Đồán "),J57*0.5,(IF(H57>0,H57*K57,"0")+IF(I57>0,(I57*0.75)*L57,"0"))),1) -> 75
E58: Sinh hoạt chủ nhiệm | F58: 18C1-TMĐ1 | K58: =IF(OR(LEFT(E58,2)="ĐA",LEFT(E58,2)="DA",LEFT(E58,5)="Đồ án",LEFT(E58,5)="Đồán ",LEFT(E58,9)="Sinh hoạt",LEFT(E58,9)="sinh hoạt",LEFT(E58,6)="Cố vấn",LEFT(E58,6)="cố vấn",LEFT(E58,4)="cvht",LEFT(E58,4)="CVHT",LEFT(E58,4)="shcn",LEFT(E58,4)="SHCN"),0,(IF(AND(H58>0,J58>0),IF(J58>60,1.3,IF(J58>35,1.2,1)),0))) -> 0 | L58: =IF(OR(LEFT(E58,2)="ĐA",LEFT(E58,2)="DA",LEFT(E58,5)="Đồ án",LEFT(E58,5)="Đồán "),0,IF(AND(J58>0,I58>0),IF(AND(OR(LEFT(E58,4)="GDQP",LEFT(E58,4)="gdqp",LEFT(E58,19)="Giáo dục quốc phòng"),J58>50),1.3,IF(J58>35,1.2,IF(J58>29,1.1,1))),0)) -> 0 | M58: =ROUND(IF(OR(LEFT(E58,2)="ĐA",LEFT(E58,2)="DA",LEFT(E58,5)="Đồ án",LEFT(E58,5)="Đồán "),J58*0.5,(IF(H58>0,H58*K58,"0")+IF(I58>0,(I58*0.75)*L58,"0"))),1) -> 0
E59: Cấu trúc dữ liệu và giải thuật | F59: 18C2-QTM | G59: 2 | H59: 15 | I59: 60 | J59: 40 | K59: =IF(OR(LEFT(E59,2)="ĐA",LEFT(E59,2)="DA",LEFT(E59,5)="Đồ án",LEFT(E59,5)="Đồán ",LEFT(E59,9)="Sinh hoạt",LEFT(E59,9)="sinh hoạt",LEFT(E59,6)="Cố vấn",LEFT(E59,6)="cố vấn",LEFT(E59,4)="cvht",LEFT(E59,4)="CVHT",LEFT(E59,4)="shcn",LEFT(E59,4)="SHCN"),0,(IF(AND(H59>0,J59>0),IF(J59>60,1.3,IF(J59>35,1.2,1)),0))) -> 1.2 | L59: =IF(OR(LEFT(E59,2)="ĐA",LEFT(E59,2)="DA",LEFT(E59,5)="Đồ án",LEFT(E59,5)="Đồán "),0,IF(AND(J59>0,I59>0),IF(AND(OR(LEFT(E59,4)="GDQP",LEFT(E59,4)="gdqp",LEFT(E59,19)="Giáo dục quốc phòng"),J59>50),1.3,IF(J59>35,1.2,IF(J59>29,1.1,1))),0)) -> 1.2 | M59: =ROUND(IF(OR(LEFT(E59,2)="ĐA",LEFT(E59,2)="DA",LEFT(E59,5)="Đồ án",LEFT(E59,5)="Đồán "),J59*0.5,(IF(H59>0,H59*K59,"0")+IF(I59>0,(I59*0.75)*L59,"0"))),1) -> 72
D60: 71400135405 | E60: Kỹ thuật lập trình 2 | F60: 18T4-THU2 | G60: 2 | H60: 15 | I60: 60 | J60: 38 | K60: =IF(OR(LEFT(E60,2)="ĐA",LEFT(E60,2)="DA",LEFT(E60,5)="Đồ án",LEFT(E60,5)="Đồán ",LEFT(E60,9)="Sinh hoạt",LEFT(E60,9)="sinh hoạt",LEFT(E60,6)="Cố vấn",LEFT(E60,6)="cố vấn",LEFT(E60,4)="cvht",LEFT(E60,4)="CVHT",LEFT(E60,4)="shcn",LEFT(E60,4)="SHCN"),0,(IF(AND(H60>0,J60>0),IF(J60>60,1.3,IF(J60>35,1.2,1)),0))) -> 1.2 | L60: =IF(OR(LEFT(E60,2)="ĐA",LEFT(E60,2)="DA",LEFT(E60,5)="Đồ án",LEFT(E60,5)="Đồán "),0,IF(AND(J60>0,I60>0),IF(AND(OR(LEFT(E60,4)="GDQP",LEFT(E60,4)="gdqp",LEFT(E60,19)="Giáo dục quốc phòng"),J60>50),1.3,IF(J60>35,1.2,IF(J60>29,1.1,1))),0)) -> 1.2 | M60: =ROUND(IF(OR(LEFT(E60,2)="ĐA",LEFT(E60,2)="DA",LEFT(E60,5)="Đồ án",LEFT(E60,5)="Đồán "),J60*0.5,(IF(H60>0,H60*K60,"0")+IF(I60>0,(I60*0.75)*L60,"0"))),1) -> 72
D61: 21100094305 | E61: Kỹ thuật lập trình | F61: 18C1-CMT1 | G61: 2 | H61: 30 | I61: 60 | J61: 40 | K61: =IF(OR(LEFT(E61,2)="ĐA",LEFT(E61,2)="DA",LEFT(E61,5)="Đồ án",LEFT(E61,5)="Đồán ",LEFT(E61,9)="Sinh hoạt",LEFT(E61,9)="sinh hoạt",LEFT(E61,6)="Cố vấn",LEFT(E61,6)="cố vấn",LEFT(E61,4)="cvht",LEFT(E61,4)="CVHT",LEFT(E61,4)="shcn",LEFT(E61,4)="SHCN"),0,(IF(AND(H61>0,J61>0),IF(J61>60,1.3,IF(J61>35,1.2,1)),0))) -> 1.2 | L61: =IF(OR(LEFT(E61,2)="ĐA",LEFT(E61,2)="DA",LEFT(E61,5)="Đồ án",LEFT(E61,5)="Đồán "),0,IF(AND(J61>0,I61>0),IF(AND(OR(LEFT(E61,4)="GDQP",LEFT(E61,4)="gdqp",LEFT(E61,19)="Giáo dục quốc phòng"),J61>50),1.3,IF(J61>35,1.2,IF(J61>29,1.1,1))),0)) -> 1.2 | M61: =ROUND(IF(OR(LEFT(E61,2)="ĐA",LEFT(E61,2)="DA",LEFT(E61,5)="Đồ án",LEFT(E61,5)="Đồán "),J61*0.5,(IF(H61>0,H61*K61,"0")+IF(I61>0,(I61*0.75)*L61,"0"))),1) -> 90
D62: 21100094306 | E62: Kỹ thuật lập trình | F62: 18C1-TMĐ1 | G62: 2 | H62: 30 | I62: 60 | J62: 17 | K62: =IF(OR(LEFT(E62,2)="ĐA",LEFT(E62,2)="DA",LEFT(E62,5)="Đồ án",LEFT(E62,5)="Đồán ",LEFT(E62,9)="Sinh hoạt",LEFT(E62,9)="sinh hoạt",LEFT(E62,6)="Cố vấn",LEFT(E62,6)="cố vấn",LEFT(E62,4)="cvht",LEFT(E62,4)="CVHT",LEFT(E62,4)="shcn",LEFT(E62,4)="SHCN"),0,(IF(AND(H62>0,J62>0),IF(J62>60,1.3,IF(J62>35,1.2,1)),0))) -> 1 | L62: =IF(OR(LEFT(E62,2)="ĐA",LEFT(E62,2)="DA",LEFT(E62,5)="Đồ án",LEFT(E62,5)="Đồán "),0,IF(AND(J62>0,I62>0),IF(AND(OR(LEFT(E62,4)="GDQP",LEFT(E62,4)="gdqp",LEFT(E62,19)="Giáo dục quốc phòng"),J62>50),1.3,IF(J62>35,1.2,IF(J62>29,1.1,1))),0)) -> 1 | M62: =ROUND(IF(OR(LEFT(E62,2)="ĐA",LEFT(E62,2)="DA",LEFT(E62,5)="Đồ án",LEFT(E62,5)="Đồán "),J62*0.5,(IF(H62>0,H62*K62,"0")+IF(I62>0,(I62*0.75)*L62,"0"))),1) -> 75
D63: 21100119906 | E63: Tin học | F63: 18C1-ĐĐT2 | G63: 2 | H63: 30 | J63: 66 | K63: =IF(OR(LEFT(E63,2)="ĐA",LEFT(E63,2)="DA",LEFT(E63,5)="Đồ án",LEFT(E63,5)="Đồán ",LEFT(E63,9)="Sinh hoạt",LEFT(E63,9)="sinh hoạt",LEFT(E63,6)="Cố vấn",LEFT(E63,6)="cố vấn",LEFT(E63,4)="cvht",LEFT(E63,4)="CVHT",LEFT(E63,4)="shcn",LEFT(E63,4)="SHCN"),0,(IF(AND(H63>0,J63>0),IF(J63>60,1.3,IF(J63>35,1.2,1)),0))) -> 1.3 | L63: =IF(OR(LEFT(E63,2)="ĐA",LEFT(E63,2)="DA",LEFT(E63,5)="Đồ án",LEFT(E63,5)="Đồán "),0,IF(AND(J63>0,I63>0),IF(AND(OR(LEFT(E63,4)="GDQP",LEFT(E63,4)="gdqp",LEFT(E63,19)="Giáo dục quốc phòng"),J63>50),1.3,IF(J63>35,1.2,IF(J63>29,1.1,1))),0)) -> 0 | M63: =ROUND(IF(OR(LEFT(E63,2)="ĐA",LEFT(E63,2)="DA",LEFT(E63,5)="Đồ án",LEFT(E63,5)="Đồán "),J63*0.5,(IF(H63>0,H63*K63,"0")+IF(I63>0,(I63*0.75)*L63,"0"))),1) -> 39
D64: 21100119906 | E64: Tin học | F64: CĐ4 | G64: 2 | I64: 60 | J64: 33 | K64: =IF(OR(LEFT(E64,2)="ĐA",LEFT(E64,2)="DA",LEFT(E64,5)="Đồ án",LEFT(E64,5)="Đồán ",LEFT(E64,9)="Sinh hoạt",LEFT(E64,9)="sinh hoạt",LEFT(E64,6)="Cố vấn",LEFT(E64,6)="cố vấn",LEFT(E64,4)="cvht",LEFT(E64,4)="CVHT",LEFT(E64,4)="shcn",LEFT(E64,4)="SHCN"),0,(IF(AND(H64>0,J64>0),IF(J64>60,1.3,IF(J64>35,1.2,1)),0))) -> 0 | L64: =IF(OR(LEFT(E64,2)="ĐA",LEFT(E64,2)="DA",LEFT(E64,5)="Đồ án",LEFT(E64,5)="Đồán "),0,IF(AND(J64>0,I64>0),IF(AND(OR(LEFT(E64,4)="GDQP",LEFT(E64,4)="gdqp",LEFT(E64,19)="Giáo dục quốc phòng"),J64>50),1.3,IF(J64>35,1.2,IF(J64>29,1.1,1))),0)) -> 1.1 | M64: =ROUND(IF(OR(LEFT(E64,2)="ĐA",LEFT(E64,2)="DA",LEFT(E64,5)="Đồ án",LEFT(E64,5)="Đồán "),J64*0.5,(IF(H64>0,H64*K64,"0")+IF(I64>0,(I64*0.75)*L64,"0"))),1) -> 49.5
D65: 21100119906 | E65: Tin học | F65: CĐ5 | G65: 2 | I65: 60 | J65: 33 | K65: =IF(OR(LEFT(E65,2)="ĐA",LEFT(E65,2)="DA",LEFT(E65,5)="Đồ án",LEFT(E65,5)="Đồán ",LEFT(E65,9)="Sinh hoạt",LEFT(E65,9)="sinh hoạt",LEFT(E65,6)="Cố vấn",LEFT(E65,6)="cố vấn",LEFT(E65,4)="cvht",LEFT(E65,4)="CVHT",LEFT(E65,4)="shcn",LEFT(E65,4)="SHCN"),0,(IF(AND(H65>0,J65>0),IF(J65>60,1.3,IF(J65>35,1.2,1)),0))) -> 0 | L65: =IF(OR(LEFT(E65,2)="ĐA",LEFT(E65,2)="DA",LEFT(E65,5)="Đồ án",LEFT(E65,5)="Đồán "),0,IF(AND(J65>0,I65>0),IF(AND(OR(LEFT(E65,4)="GDQP",LEFT(E65,4)="gdqp",LEFT(E65,19)="Giáo dục quốc phòng"),J65>50),1.3,IF(J65>35,1.2,IF(J65>29,1.1,1))),0)) -> 1.1 | M65: =ROUND(IF(OR(LEFT(E65,2)="ĐA",LEFT(E65,2)="DA",LEFT(E65,5)="Đồ án",LEFT(E65,5)="Đồán "),J65*0.5,(IF(H65>0,H65*K65,"0")+IF(I65>0,(I65*0.75)*L65,"0"))),1) -> 49.5
K69: =IF(OR(LEFT(E69,2)="ĐA",LEFT(E69,2)="DA",LEFT(E69,5)="Đồ án",LEFT(E69,5)="Đồán ",LEFT(E69,9)="Sinh hoạt",LEFT(E69,9)="sinh hoạt",LEFT(E69,6)="Cố vấn",LEFT(E69,6)="cố vấn",LEFT(E69,4)="cvht",LEFT(E69,4)="CVHT",LEFT(E69,4)="shcn",LEFT(E69,4)="SHCN"),0,(IF(AND(H69>0,J69>0),IF(J69>60,1.3,IF(J69>35,1.2,1)),0))) -> 0 | L69: =IF(OR(LEFT(E69,2)="ĐA",LEFT(E69,2)="DA",LEFT(E69,5)="Đồ án",LEFT(E69,5)="Đồán "),0,IF(AND(J69>0,I69>0),IF(AND(OR(LEFT(E69,4)="GDQP",LEFT(E69,4)="gdqp",LEFT(E69,19)="Giáo dục quốc phòng"),J69>50),1.3,IF(J69>35,1.2,IF(J69>29,1.1,1))),0)) -> 0 | M69: =ROUND(IF(OR(LEFT(E69,2)="ĐA",LEFT(E69,2)="DA",LEFT(E69,5)="Đồ án",LEFT(E69,5)="Đồán "),J69*0.5,(IF(H69>0,H69*K69,"0")+IF(I69>0,(I69*0.75)*L69,"0"))),1) -> 0
K70: =IF(OR(LEFT(E70,2)="ĐA",LEFT(E70,2)="DA",LEFT(E70,5)="Đồ án",LEFT(E70,5)="Đồán ",LEFT(E70,9)="Sinh hoạt",LEFT(E70,9)="sinh hoạt",LEFT(E70,6)="Cố vấn",LEFT(E70,6)="cố vấn",LEFT(E70,4)="cvht",LEFT(E70,4)="CVHT",LEFT(E70,4)="shcn",LEFT(E70,4)="SHCN"),0,(IF(AND(H70>0,J70>0),IF(J70>60,1.3,IF(J70>35,1.2,1)),0))) -> 0 | L70: =IF(OR(LEFT(E70,2)="ĐA",LEFT(E70,2)="DA",LEFT(E70,5)="Đồ án",LEFT(E70,5)="Đồán "),0,IF(AND(J70>0,I70>0),IF(AND(OR(LEFT(E70,4)="GDQP",LEFT(E70,4)="gdqp",LEFT(E70,19)="Giáo dục quốc phòng"),J70>50),1.3,IF(J70>35,1.2,IF(J70>29,1.1,1))),0)) -> 0 | M70: =ROUND(IF(OR(LEFT(E70,2)="ĐA",LEFT(E70,2)="DA",LEFT(E70,5)="Đồ án",LEFT(E70,5)="Đồán "),J70*0.5,(IF(H70>0,H70*K70,"0")+IF(I70>0,(I70*0.75)*L70,"0"))),1) -> 0
A71: 4 | B71: Vũ Thị Thái | C71: Linh | D71: 71400174003 | E71: Anh văn chuyên ngành | F71: 17T4-LTM, TKW | G71: 1 | H71: 30 | I71: 0 | J71: 60 | K71: =IF(OR(LEFT(E71,2)="ĐA",LEFT(E71,2)="DA",LEFT(E71,5)="Đồ án",LEFT(E71,5)="Đồán ",LEFT(E71,9)="Sinh hoạt",LEFT(E71,9)="sinh hoạt",LEFT(E71,6)="Cố vấn",LEFT(E71,6)="cố vấn",LEFT(E71,4)="cvht",LEFT(E71,4)="CVHT",LEFT(E71,4)="shcn",LEFT(E71,4)="SHCN"),0,(IF(AND(H71>0,J71>0),IF(J71>60,1.3,IF(J71>35,1.2,1)),0))) -> 1.2 | L71: =IF(OR(LEFT(E71,2)="ĐA",LEFT(E71,2)="DA",LEFT(E71,5)="Đồ án",LEFT(E71,5)="Đồán "),0,IF(AND(J71>0,I71>0),IF(AND(OR(LEFT(E71,4)="GDQP",LEFT(E71,4)="gdqp",LEFT(E71,19)="Giáo dục quốc phòng"),J71>50),1.3,IF(J71>35,1.2,IF(J71>29,1.1,1))),0)) -> 0 | M71: =ROUND(IF(OR(LEFT(E71,2)="ĐA",LEFT(E71,2)="DA",LEFT(E71,5)="Đồ án",LEFT(E71,5)="Đồán "),J71*0.5,(IF(H71>0,H71*K71,"0")+IF(I71>0,(I71*0.75)*L71,"0"))),1) -> 36 | N71: 64.5 | O71: 0 | P71: =SUM(M71:M90)+N71+O71 -> 769.5 | Q71: 0 | R71: 0 | S71: 430 | T71: 430 | U71: 112 | V71: 112 | W71: 56 | X71: 56 | Y71: =ROUND((P71-T71),1) -> 339.5 | Z71: =IF(OR(SUM(V71:V90)="",SUM(Q71:Q90)=""),0,IF(OR(SUM(U71:U90)=320,SUM(V71:V90)>0),ROUND((SUM(Q71:Q90)-SUM(V71:V90)),1),0)) -> -112 | AA71: =IF(OR(SUM(X71:X90)="",SUM(R71:R90)=""),0,IF(OR(SUM(W71:W90)=160,SUM(X71:X90)>0),ROUND((SUM(R71:R90)-SUM(X71:X90)),1),0)) -> -56 | AC71: =SUM(Y71:AA90) -> 171.5
D72: 71400174004 | E72: Anh văn chuyên ngành | F72: 17T4-QTM1,2 | G72: 1 | H72: 30 | I72: 0 | J72: 60 | K72: =IF(OR(LEFT(E72,2)="ĐA",LEFT(E72,2)="DA",LEFT(E72,5)="Đồ án",LEFT(E72,5)="Đồán ",LEFT(E72,9)="Sinh hoạt",LEFT(E72,9)="sinh hoạt",LEFT(E72,6)="Cố vấn",LEFT(E72,6)="cố vấn",LEFT(E72,4)="cvht",LEFT(E72,4)="CVHT",LEFT(E72,4)="shcn",LEFT(E72,4)="SHCN"),0,(IF(AND(H72>0,J72>0),IF(J72>60,1.3,IF(J72>35,1.2,1)),0))) -> 1.2 | L72: =IF(OR(LEFT(E72,2)="ĐA",LEFT(E72,2)="DA",LEFT(E72,5)="Đồ án",LEFT(E72,5)="Đồán "),0,IF(AND(J72>0,I72>0),IF(AND(OR(LEFT(E72,4)="GDQP",LEFT(E72,4)="gdqp",LEFT(E72,19)="Giáo dục quốc phòng"),J72>50),1.3,IF(J72>35,1.2,IF(J72>29,1.1,1))),0)) -> 0 | M72: =ROUND(IF(OR(LEFT(E72,2)="ĐA",LEFT(E72,2)="DA",LEFT(E72,5)="Đồ án",LEFT(E72,5)="Đồán "),J72*0.5,(IF(H72>0,H72*K72,"0")+IF(I72>0,(I72*0.75)*L72,"0"))),1) -> 36
D73: 71400174001 | E73: Anh văn chuyên ngành | F73: 17T4-CMT1 | G73: 1 | H73: 30 | I73: 0 | J73: 74 | K73: =IF(OR(LEFT(E73,2)="ĐA",LEFT(E73,2)="DA",LEFT(E73,5)="Đồ án",LEFT(E73,5)="Đồán ",LEFT(E73,9)="Sinh hoạt",LEFT(E73,9)="sinh hoạt",LEFT(E73,6)="Cố vấn",LEFT(E73,6)="cố vấn",LEFT(E73,4)="cvht",LEFT(E73,4)="CVHT",LEFT(E73,4)="shcn",LEFT(E73,4)="SHCN"),0,(IF(AND(H73>0,J73>0),IF(J73>60,1.3,IF(J73>35,1.2,1)),0))) -> 1.3 | L73: =IF(OR(LEFT(E73,2)="ĐA",LEFT(E73,2)="DA",LEFT(E73,5)="Đồ án",LEFT(E73,5)="Đồán "),0,IF(AND(J73>0,I73>0),IF(AND(OR(LEFT(E73,4)="GDQP",LEFT(E73,4)="gdqp",LEFT(E73,19)="Giáo dục quốc phòng"),J73>50),1.3,IF(J73>35,1.2,IF(J73>29,1.1,1))),0)) -> 0 | M73: =ROUND(IF(OR(LEFT(E73,2)="ĐA",LEFT(E73,2)="DA",LEFT(E73,5)="Đồ án",LEFT(E73,5)="Đồán "),J73*0.5,(IF(H73>0,H73*K73,"0")+IF(I73>0,(I73*0.75)*L73,"0"))),1) -> 39
D74: 21100001401 | E74: Anh văn chuyên ngành | F74: 17C1-THU1 | G74: 1 | H74: 30 | I74: 0 | J74: 33 | K74: =IF(OR(LEFT(E74,2)="ĐA",LEFT(E74,2)="DA",LEFT(E74,5)="Đồ án",LEFT(E74,5)="Đồán ",LEFT(E74,9)="Sinh hoạt",LEFT(E74,9)="sinh hoạt",LEFT(E74,6)="Cố vấn",LEFT(E74,6)="cố vấn",LEFT(E74,4)="cvht",LEFT(E74,4)="CVHT",LEFT(E74,4)="shcn",LEFT(E74,4)="SHCN"),0,(IF(AND(H74>0,J74>0),IF(J74>60,1.3,IF(J74>35,1.2,1)),0))) -> 1 | L74: =IF(OR(LEFT(E74,2)="ĐA",LEFT(E74,2)="DA",LEFT(E74,5)="Đồ án",LEFT(E74,5)="Đồán "),0,IF(AND(J74>0,I74>0),IF(AND(OR(LEFT(E74,4)="GDQP",LEFT(E74,4)="gdqp",LEFT(E74,19)="Giáo dục quốc phòng"),J74>50),1.3,IF(J74>35,1.2,IF(J74>29,1.1,1))),0)) -> 0 | M74: =ROUND(IF(OR(LEFT(E74,2)="ĐA",LEFT(E74,2)="DA",LEFT(E74,5)="Đồ án",LEFT(E74,5)="Đồán "),J74*0.5,(IF(H74>0,H74*K74,"0")+IF(I74>0,(I74*0.75)*L74,"0"))),1) -> 30
D75: 21100119806 | E75: Tin học | F75: 18C1-QTM1 | G75: 1 | H75: 30 | I75: 0 | J75: 62 | K75: =IF(OR(LEFT(E75,2)="ĐA",LEFT(E75,2)="DA",LEFT(E75,5)="Đồ án",LEFT(E75,5)="Đồán ",LEFT(E75,9)="Sinh hoạt",LEFT(E75,9)="sinh hoạt",LEFT(E75,6)="Cố vấn",LEFT(E75,6)="cố vấn",LEFT(E75,4)="cvht",LEFT(E75,4)="CVHT",LEFT(E75,4)="shcn",LEFT(E75,4)="SHCN"),0,(IF(AND(H75>0,J75>0),IF(J75>60,1.3,IF(J75>35,1.2,1)),0))) -> 1.3 | L75: =IF(OR(LEFT(E75,2)="ĐA",LEFT(E75,2)="DA",LEFT(E75,5)="Đồ án",LEFT(E75,5)="Đồán "),0,IF(AND(J75>0,I75>0),IF(AND(OR(LEFT(E75,4)="GDQP",LEFT(E75,4)="gdqp",LEFT(E75,19)="Giáo dục quốc phòng"),J75>50),1.3,IF(J75>35,1.2,IF(J75>29,1.1,1))),0)) -> 0 | M75: =ROUND(IF(OR(LEFT(E75,2)="ĐA",LEFT(E75,2)="DA",LEFT(E75,5)="Đồ án",LEFT(E75,5)="Đồán "),J75*0.5,(IF(H75>0,H75*K75,"0")+IF(I75>0,(I75*0.75)*L75,"0"))),1) -> 39
D76: 21100119806 | E76: Tin học_N1 | F76: 18C1-QTM | G76: 1 | H76: 0 | I76: 60 | J76: 35 | K76: =IF(OR(LEFT(E76,2)="ĐA",LEFT(E76,2)="DA",LEFT(E76,5)="Đồ án",LEFT(E76,5)="Đồán ",LEFT(E76,9)="Sinh hoạt",LEFT(E76,9)="sinh hoạt",LEFT(E76,6)="Cố vấn",LEFT(E76,6)="cố vấn",LEFT(E76,4)="cvht",LEFT(E76,4)="CVHT",LEFT(E76,4)="shcn",LEFT(E76,4)="SHCN"),0,(IF(AND(H76>0,J76>0),IF(J76>60,1.3,IF(J76>35,1.2,1)),0))) -> 0 | L76: =IF(OR(LEFT(E76,2)="ĐA",LEFT(E76,2)="DA",LEFT(E76,5)="Đồ án",LEFT(E76,5)="Đồán "),0,IF(AND(J76>0,I76>0),IF(AND(OR(LEFT(E76,4)="GDQP",LEFT(E76,4)="gdqp",LEFT(E76,19)="Giáo dục quốc phòng"),J76>50),1.3,IF(J76>35,1.2,IF(J76>29,1.1,1))),0)) -> 1.1 | M76: =ROUND(IF(OR(LEFT(E76,2)="ĐA",LEFT(E76,2)="DA",LEFT(E76,5)="Đồ án",LEFT(E76,5)="Đồán "),J76*0.5,(IF(H76>0,H76*K76,"0")+IF(I76>0,(I76*0.75)*L76,"0"))),1) -> 49.5
D77: 21100094301 | E77: Kỹ thuật lập trình | F77: 18C1-THU1 | G77: 1 | H77: 30 | I77: 60 | J77: 33 | K77: =IF(OR(LEFT(E77,2)="ĐA",LEFT(E77,2)="DA",LEFT(E77,5)="Đồ án",LEFT(E77,5)="Đồán ",LEFT(E77,9)="Sinh hoạt",LEFT(E77,9)="sinh hoạt",LEFT(E77,6)="Cố vấn",LEFT(E77,6)="cố vấn",LEFT(E77,4)="cvht",LEFT(E77,4)="CVHT",LEFT(E77,4)="shcn",LEFT(E77,4)="SHCN"),0,(IF(AND(H77>0,J77>0),IF(J77>60,1.3,IF(J77>35,1.2,1)),0))) -> 1 | L77: =IF(OR(LEFT(E77,2)="ĐA",LEFT(E77,2)="DA",LEFT(E77,5)="Đồ án",LEFT(E77,5)="Đồán "),0,IF(AND(J77>0,I77>0),IF(AND(OR(LEFT(E77,4)="GDQP",LEFT(E77,4)="gdqp",LEFT(E77,19)="Giáo dục quốc phòng"),J77>50),1.3,IF(J77>35,1.2,IF(J77>29,1.1,1))),0)) -> 1.1 | M77: =ROUND(IF(OR(LEFT(E77,2)="ĐA",LEFT(E77,2)="DA",LEFT(E77,5)="Đồ án",LEFT(E77,5)="Đồán "),J77*0.5,(IF(H77>0,H77*K77,"0")+IF(I77>0,(I77*0.75)*L77,"0"))),1) -> 79.5
D78: 71400174001 | E78: Anh văn chuyên ngành | F78: 17T4-THU1 | G78: 2 | H78: 30 | I78: 0 | J78: 70 | K78: =IF(OR(LEFT(E78,2)="ĐA",LEFT(E78,2)="DA",LEFT(E78,5)="Đồ án",LEFT(E78,5)="Đồán ",LEFT(E78,9)="Sinh hoạt",LEFT(E78,9)="sinh hoạt",LEFT(E78,6)="Cố vấn",LEFT(E78,6)="cố vấn",LEFT(E78,4)="cvht",LEFT(E78,4)="CVHT",LEFT(E78,4)="shcn",LEFT(E78,4)="SHCN"),0,(IF(AND(H78>0,J78>0),IF(J78>60,1.3,IF(J78>35,1.2,1)),0))) -> 1.3 | L78: =IF(OR(LEFT(E78,2)="ĐA",LEFT(E78,2)="DA",LEFT(E78,5)="Đồ án",LEFT(E78,5)="Đồán "),0,IF(AND(J78>0,I78>0),IF(AND(OR(LEFT(E78,4)="GDQP",LEFT(E78,4)="gdqp",LEFT(E78,19)="Giáo dục quốc phòng"),J78>50),1.3,IF(J78>35,1.2,IF(J78>29,1.1,1))),0)) -> 0 | M78: =ROUND(IF(OR(LEFT(E78,2)="ĐA",LEFT(E78,2)="DA",LEFT(E78,5)="Đồ án",LEFT(E78,5)="Đồán "),J78*0.5,(IF(H78>0,H78*K78,"0")+IF(I78>0,(I78*0.75)*L78,"0"))),1) -> 39
D79: 021100094301 | E79: Kỹ thuật lập trình | F79: 18C1-CMT1 | G79: 2 | H79: 30 | I79: 60 | J79: 50 | K79: =IF(OR(LEFT(E79,2)="ĐA",LEFT(E79,2)="DA",LEFT(E79,5)="Đồ án",LEFT(E79,5)="Đồán ",LEFT(E79,9)="Sinh hoạt",LEFT(E79,9)="sinh hoạt",LEFT(E79,6)="Cố vấn",LEFT(E79,6)="cố vấn",LEFT(E79,4)="cvht",LEFT(E79,4)="CVHT",LEFT(E79,4)="shcn",LEFT(E79,4)="SHCN"),0,(IF(AND(H79>0,J79>0),IF(J79>60,1.3,IF(J79>35,1.2,1)),0))) -> 1.2 | L79: =IF(OR(LEFT(E79,2)="ĐA",LEFT(E79,2)="DA",LEFT(E79,5)="Đồ án",LEFT(E79,5)="Đồán "),0,IF(AND(J79>0,I79>0),IF(AND(OR(LEFT(E79,4)="GDQP",LEFT(E79,4)="gdqp",LEFT(E79,19)="Giáo dục quốc phòng"),J79>50),1.3,IF(J79>35,1.2,IF(J79>29,1.1,1))),0)) -> 1.2 | M79: =ROUND(IF(OR(LEFT(E79,2)="ĐA",LEFT(E79,2)="DA",LEFT(E79,5)="Đồ án",LEFT(E79,5)="Đồán "),J79*0.5,(IF(H79>0,H79*K79,"0")+IF(I79>0,(I79*0.75)*L79,"0"))),1) -> 90
D80: 21100094303 | E80: Kỹ thuật lập trình | F80: 18C1-QTM1 | G80: 2 | H80: 30 | I80: 0 | J80: 70 | K80: =IF(OR(LEFT(E80,2)="ĐA",LEFT(E80,2)="DA",LEFT(E80,5)="Đồ án",LEFT(E80,5)="Đồán ",LEFT(E80,9)="Sinh hoạt",LEFT(E80,9)="sinh hoạt",LEFT(E80,6)="Cố vấn",LEFT(E80,6)="cố vấn",LEFT(E80,4)="cvht",LEFT(E80,4)="CVHT",LEFT(E80,4)="shcn",LEFT(E80,4)="SHCN"),0,(IF(AND(H80>0,J80>0),IF(J80>60,1.3,IF(J80>35,1.2,1)),0))) -> 1.3 | L80: =IF(OR(LEFT(E80,2)="ĐA",LEFT(E80,2)="DA",LEFT(E80,5)="Đồ án",LEFT(E80,5)="Đồán "),0,IF(AND(J80>0,I80>0),IF(AND(OR(LEFT(E80,4)="GDQP",LEFT(E80,4)="gdqp",LEFT(E80,19)="Giáo dục quốc phòng"),J80>50),1.3,IF(J80>35,1.2,IF(J80>29,1.1,1))),0)) -> 0 | M80: =ROUND(IF(OR(LEFT(E80,2)="ĐA",LEFT(E80,2)="DA",LEFT(E80,5)="Đồ án",LEFT(E80,5)="Đồán "),J80*0.5,(IF(H80>0,H80*K80,"0")+IF(I80>0,(I80*0.75)*L80,"0"))),1) -> 39
D81: 21100094303 | E81: Kỹ thuật lập trình _N1 | F81: 18C1-QTM1 | G81: 2 | H81: 0 | I81: 60 | J81: 35 | K81: =IF(OR(LEFT(E81,2)="ĐA",LEFT(E81,2)="DA",LEFT(E81,5)="Đồ án",LEFT(E81,5)="Đồán ",LEFT(E81,9)="Sinh hoạt",LEFT(E81,9)="sinh hoạt",LEFT(E81,6)="Cố vấn",LEFT(E81,6)="cố vấn",LEFT(E81,4)="cvht",LEFT(E81,4)="CVHT",LEFT(E81,4)="shcn",LEFT(E81,4)="SHCN"),0,(IF(AND(H81>0,J81>0),IF(J81>60,1.3,IF(J81>35,1.2,1)),0))) -> 0 | L81: =IF(OR(LEFT(E81,2)="ĐA",LEFT(E81,2)="DA",LEFT(E81,5)="Đồ án",LEFT(E81,5)="Đồán "),0,IF(AND(J81>0,I81>0),IF(AND(OR(LEFT(E81,4)="GDQP",LEFT(E81,4)="gdqp",LEFT(E81,19)="Giáo dục quốc phòng"),J81>50),1.3,IF(J81>35,1.2,IF(J81>29,1.1,1))),0)) -> 1.1 | M81: =ROUND(IF(OR(LEFT(E81,2)="ĐA",LEFT(E81,2)="DA",LEFT(E81,5)="Đồ án",LEFT(E81,5)="Đồán "),J81*0.5,(IF(H81>0,H81*K81,"0")+IF(I81>0,(I81*0.75)*L81,"0"))),1) -> 49.5
D82: 21100094303 | E82: Kỹ thuật lập trình_N2 | F82: 18C1-QTM1 | G82: 2 | H82: 0 | I82: 60 | J82: 35 | K82: =IF(OR(LEFT(E82,2)="ĐA",LEFT(E82,2)="DA",LEFT(E82,5)="Đồ án",LEFT(E82,5)="Đồán ",LEFT(E82,9)="Sinh hoạt",LEFT(E82,9)="sinh hoạt",LEFT(E82,6)="Cố vấn",LEFT(E82,6)="cố vấn",LEFT(E82,4)="cvht",LEFT(E82,4)="CVHT",LEFT(E82,4)="shcn",LEFT(E82,4)="SHCN"),0,(IF(AND(H82>0,J82>0),IF(J82>60,1.3,IF(J82>35,1.2,1)),0))) -> 0 | L82: =IF(OR(LEFT(E82,2)="ĐA",LEFT(E82,2)="DA",LEFT(E82,5)="Đồ án",LEFT(E82,5)="Đồán "),0,IF(AND(J82>0,I82>0),IF(AND(OR(LEFT(E82,4)="GDQP",LEFT(E82,4)="gdqp",LEFT(E82,19)="Giáo dục quốc phòng"),J82>50),1.3,IF(J82>35,1.2,IF(J82>29,1.1,1))),0)) -> 1.1 | M82: =ROUND(IF(OR(LEFT(E82,2)="ĐA",LEFT(E82,2)="DA",LEFT(E82,5)="Đồ án",LEFT(E82,5)="Đồán "),J82*0.5,(IF(H82>0,H82*K82,"0")+IF(I82>0,(I82*0.75)*L82,"0"))),1) -> 49.5
D83: 021100119916 | E83: Tin học | F83: 18C1-KXD1 | G83: 2 | H83: 30 | I83: 0 | J83: 70 | K83: =IF(OR(LEFT(E83,2)="ĐA",LEFT(E83,2)="DA",LEFT(E83,5)="Đồ án",LEFT(E83,5)="Đồán ",LEFT(E83,9)="Sinh hoạt",LEFT(E83,9)="sinh hoạt",LEFT(E83,6)="Cố vấn",LEFT(E83,6)="cố vấn",LEFT(E83,4)="cvht",LEFT(E83,4)="CVHT",LEFT(E83,4)="shcn",LEFT(E83,4)="SHCN"),0,(IF(AND(H83>0,J83>0),IF(J83>60,1.3,IF(J83>35,1.2,1)),0))) -> 1.3 | L83: =IF(OR(LEFT(E83,2)="ĐA",LEFT(E83,2)="DA",LEFT(E83,5)="Đồ án",LEFT(E83,5)="Đồán "),0,IF(AND(J83>0,I83>0),IF(AND(OR(LEFT(E83,4)="GDQP",LEFT(E83,4)="gdqp",LEFT(E83,19)="Giáo dục quốc phòng"),J83>50),1.3,IF(J83>35,1.2,IF(J83>29,1.1,1))),0)) -> 0 | M83: =ROUND(IF(OR(LEFT(E83,2)="ĐA",LEFT(E83,2)="DA",LEFT(E83,5)="Đồ án",LEFT(E83,5)="Đồán "),J83*0.5,(IF(H83>0,H83*K83,"0")+IF(I83>0,(I83*0.75)*L83,"0"))),1) -> 39
D84: 071800119901 | E84: Tin học | F84: 18T5-ĐCN1 | G84: 2 | H84: 30 | I84: 60 | J84: 50 | K84: =IF(OR(LEFT(E84,2)="ĐA",LEFT(E84,2)="DA",LEFT(E84,5)="Đồ án",LEFT(E84,5)="Đồán ",LEFT(E84,9)="Sinh hoạt",LEFT(E84,9)="sinh hoạt",LEFT(E84,6)="Cố vấn",LEFT(E84,6)="cố vấn",LEFT(E84,4)="cvht",LEFT(E84,4)="CVHT",LEFT(E84,4)="shcn",LEFT(E84,4)="SHCN"),0,(IF(AND(H84>0,J84>0),IF(J84>60,1.3,IF(J84>35,1.2,1)),0))) -> 1.2 | L84: =IF(OR(LEFT(E84,2)="ĐA",LEFT(E84,2)="DA",LEFT(E84,5)="Đồ án",LEFT(E84,5)="Đồán "),0,IF(AND(J84>0,I84>0),IF(AND(OR(LEFT(E84,4)="GDQP",LEFT(E84,4)="gdqp",LEFT(E84,19)="Giáo dục quốc phòng"),J84>50),1.3,IF(J84>35,1.2,IF(J84>29,1.1,1))),0)) -> 1.2 | M84: =ROUND(IF(OR(LEFT(E84,2)="ĐA",LEFT(E84,2)="DA",LEFT(E84,5)="Đồ án",LEFT(E84,5)="Đồán "),J84*0.5,(IF(H84>0,H84*K84,"0")+IF(I84>0,(I84*0.75)*L84,"0"))),1) -> 90
A91: 5 | B91: Nguyễn Văn | C91: Danh | D91: 21100093905 | E91: Cơ sở dữ liệu | F91: 18C1-QTM1 | G91: 1 | H91: 15 | I91: 30 | J91: 62 | K91: =IF(OR(LEFT(E91,2)="ĐA",LEFT(E91,2)="DA",LEFT(E91,5)="Đồ án",LEFT(E91,5)="Đồán ",LEFT(E91,9)="Sinh hoạt",LEFT(E91,9)="sinh hoạt",LEFT(E91,6)="Cố vấn",LEFT(E91,6)="cố vấn",LEFT(E91,4)="cvht",LEFT(E91,4)="CVHT",LEFT(E91,4)="shcn",LEFT(E91,4)="SHCN"),0,(IF(AND(H91>0,J91>0),IF(J91>60,1.3,IF(J91>35,1.2,1)),0))) -> 1.3 | L91: =IF(OR(LEFT(E91,2)="ĐA",LEFT(E91,2)="DA",LEFT(E91,5)="Đồ án",LEFT(E91,5)="Đồán "),0,IF(AND(J91>0,I91>0),IF(AND(OR(LEFT(E91,4)="GDQP",LEFT(E91,4)="gdqp",LEFT(E91,19)="Giáo dục quốc phòng"),J91>50),1.3,IF(J91>35,1.2,IF(J91>29,1.1,1))),0)) -> 1.2 | M91: =ROUND(IF(OR(LEFT(E91,2)="ĐA",LEFT(E91,2)="DA",LEFT(E91,5)="Đồ án",LEFT(E91,5)="Đồán "),J91*0.5,(IF(H91>0,H91*K91,"0")+IF(I91>0,(I91*0.75)*L91,"0"))),1) -> 46.5 | N91: 64.5 | O91: 0 | P91: =SUM(M91:M120)+N91+O91 -> 1386.1 | Q91: 0 | R91: 0 | S91: 430 | T91: 430 | U91: 112 | V91: 112 | W91: 56 | X91: 56 | Y91: =ROUND((P91-T91),1) -> 956.1 | Z91: =IF(OR(SUM(V91:V120)="",SUM(Q91:Q120)=""),0,IF(OR(SUM(U91:U120)=320,SUM(V91:V120)>0),ROUND((SUM(Q91:Q120)-SUM(V91:V120)),1),0)) -> -112 | AA91: =IF(OR(SUM(X91:X120)="",SUM(R91:R120)=""),0,IF(OR(SUM(W91:W120)=160,SUM(X91:X120)>0),ROUND((SUM(R91:R120)-SUM(X91:X120)),1),0)) -> -56 | AC91: =SUM(Y91:AA120) -> 788.1
D92: 71400119003 | E92: Cơ sở dữ liệu | F92: 17T4-THU1 | G92: 1 | H92: 15 | I92: 30 | J92: 70 | K92: =IF(OR(LEFT(E92,2)="ĐA",LEFT(E92,2)="DA",LEFT(E92,5)="Đồ án",LEFT(E92,5)="Đồán ",LEFT(E92,9)="Sinh hoạt",LEFT(E92,9)="sinh hoạt",LEFT(E92,6)="Cố vấn",LEFT(E92,6)="cố vấn",LEFT(E92,4)="cvht",LEFT(E92,4)="CVHT",LEFT(E92,4)="shcn",LEFT(E92,4)="SHCN"),0,(IF(AND(H92>0,J92>0),IF(J92>60,1.3,IF(J92>35,1.2,1)),0))) -> 1.3 | L92: =IF(OR(LEFT(E92,2)="ĐA",LEFT(E92,2)="DA",LEFT(E92,5)="Đồ án",LEFT(E92,5)="Đồán "),0,IF(AND(J92>0,I92>0),IF(AND(OR(LEFT(E92,4)="GDQP",LEFT(E92,4)="gdqp",LEFT(E92,19)="Giáo dục quốc phòng"),J92>50),1.3,IF(J92>35,1.2,IF(J92>29,1.1,1))),0)) -> 1.2 | M92: =ROUND(IF(OR(LEFT(E92,2)="ĐA",LEFT(E92,2)="DA",LEFT(E92,5)="Đồ án",LEFT(E92,5)="Đồán "),J92*0.5,(IF(H92>0,H92*K92,"0")+IF(I92>0,(I92*0.75)*L92,"0"))),1) -> 46.5
D93: 21100119804 | E93: Tin học | F93: 18C1-LTM1 | G93: 1 | H93: 30 | J93: 57 | K93: =IF(OR(LEFT(E93,2)="ĐA",LEFT(E93,2)="DA",LEFT(E93,5)="Đồ án",LEFT(E93,5)="Đồán ",LEFT(E93,9)="Sinh hoạt",LEFT(E93,9)="sinh hoạt",LEFT(E93,6)="Cố vấn",LEFT(E93,6)="cố vấn",LEFT(E93,4)="cvht",LEFT(E93,4)="CVHT",LEFT(E93,4)="shcn",LEFT(E93,4)="SHCN"),0,(IF(AND(H93>0,J93>0),IF(J93>60,1.3,IF(J93>35,1.2,1)),0))) -> 1.2 | L93: =IF(OR(LEFT(E93,2)="ĐA",LEFT(E93,2)="DA",LEFT(E93,5)="Đồ án",LEFT(E93,5)="Đồán "),0,IF(AND(J93>0,I93>0),IF(AND(OR(LEFT(E93,4)="GDQP",LEFT(E93,4)="gdqp",LEFT(E93,19)="Giáo dục quốc phòng"),J93>50),1.3,IF(J93>35,1.2,IF(J93>29,1.1,1))),0)) -> 0 | M93: =ROUND(IF(OR(LEFT(E93,2)="ĐA",LEFT(E93,2)="DA",LEFT(E93,5)="Đồ án",LEFT(E93,5)="Đồán "),J93*0.5,(IF(H93>0,H93*K93,"0")+IF(I93>0,(I93*0.75)*L93,"0"))),1) -> 36
D94: 21100119804 | E94: Tin học | F94: 18C1-LTM1 | G94: 1 | I94: 60 | J94: 30 | K94: =IF(OR(LEFT(E94,2)="ĐA",LEFT(E94,2)="DA",LEFT(E94,5)="Đồ án",LEFT(E94,5)="Đồán ",LEFT(E94,9)="Sinh hoạt",LEFT(E94,9)="sinh hoạt",LEFT(E94,6)="Cố vấn",LEFT(E94,6)="cố vấn",LEFT(E94,4)="cvht",LEFT(E94,4)="CVHT",LEFT(E94,4)="shcn",LEFT(E94,4)="SHCN"),0,(IF(AND(H94>0,J94>0),IF(J94>60,1.3,IF(J94>35,1.2,1)),0))) -> 0 | L94: =IF(OR(LEFT(E94,2)="ĐA",LEFT(E94,2)="DA",LEFT(E94,5)="Đồ án",LEFT(E94,5)="Đồán "),0,IF(AND(J94>0,I94>0),IF(AND(OR(LEFT(E94,4)="GDQP",LEFT(E94,4)="gdqp",LEFT(E94,19)="Giáo dục quốc phòng"),J94>50),1.3,IF(J94>35,1.2,IF(J94>29,1.1,1))),0)) -> 1.1 | M94: =ROUND(IF(OR(LEFT(E94,2)="ĐA",LEFT(E94,2)="DA",LEFT(E94,5)="Đồ án",LEFT(E94,5)="Đồán "),J94*0.5,(IF(H94>0,H94*K94,"0")+IF(I94>0,(I94*0.75)*L94,"0"))),1) -> 49.5
D95: 21100124401 | E95: Phân tích và thiết kế hệ thống | F95: 18C1-CMT1 | G95: 1 | H95: 15 | I95: 30 | J95: 39 | K95: =IF(OR(LEFT(E95,2)="ĐA",LEFT(E95,2)="DA",LEFT(E95,5)="Đồ án",LEFT(E95,5)="Đồán ",LEFT(E95,9)="Sinh hoạt",LEFT(E95,9)="sinh hoạt",LEFT(E95,6)="Cố vấn",LEFT(E95,6)="cố vấn",LEFT(E95,4)="cvht",LEFT(E95,4)="CVHT",LEFT(E95,4)="shcn",LEFT(E95,4)="SHCN"),0,(IF(AND(H95>0,J95>0),IF(J95>60,1.3,IF(J95>35,1.2,1)),0))) -> 1.2 | L95: =IF(OR(LEFT(E95,2)="ĐA",LEFT(E95,2)="DA",LEFT(E95,5)="Đồ án",LEFT(E95,5)="Đồán "),0,IF(AND(J95>0,I95>0),IF(AND(OR(LEFT(E95,4)="GDQP",LEFT(E95,4)="gdqp",LEFT(E95,19)="Giáo dục quốc phòng"),J95>50),1.3,IF(J95>35,1.2,IF(J95>29,1.1,1))),0)) -> 1.2 | M95: =ROUND(IF(OR(LEFT(E95,2)="ĐA",LEFT(E95,2)="DA",LEFT(E95,5)="Đồ án",LEFT(E95,5)="Đồán "),J95*0.5,(IF(H95>0,H95*K95,"0")+IF(I95>0,(I95*0.75)*L95,"0"))),1) -> 45
D96: 21100124402 | E96: Phân tích và thiết kế hệ thống | F96: 17C1-LTM1 | G96: 1 | H96: 15 | I96: 30 | J96: 38 | K96: =IF(OR(LEFT(E96,2)="ĐA",LEFT(E96,2)="DA",LEFT(E96,5)="Đồ án",LEFT(E96,5)="Đồán ",LEFT(E96,9)="Sinh hoạt",LEFT(E96,9)="sinh hoạt",LEFT(E96,6)="Cố vấn",LEFT(E96,6)="cố vấn",LEFT(E96,4)="cvht",LEFT(E96,4)="CVHT",LEFT(E96,4)="shcn",LEFT(E96,4)="SHCN"),0,(IF(AND(H96>0,J96>0),IF(J96>60,1.3,IF(J96>35,1.2,1)),0))) -> 1.2 | L96: =IF(OR(LEFT(E96,2)="ĐA",LEFT(E96,2)="DA",LEFT(E96,5)="Đồ án",LEFT(E96,5)="Đồán "),0,IF(AND(J96>0,I96>0),IF(AND(OR(LEFT(E96,4)="GDQP",LEFT(E96,4)="gdqp",LEFT(E96,19)="Giáo dục quốc phòng"),J96>50),1.3,IF(J96>35,1.2,IF(J96>29,1.1,1))),0)) -> 1.2 | M96: =ROUND(IF(OR(LEFT(E96,2)="ĐA",LEFT(E96,2)="DA",LEFT(E96,5)="Đồ án",LEFT(E96,5)="Đồán "),J96*0.5,(IF(H96>0,H96*K96,"0")+IF(I96>0,(I96*0.75)*L96,"0"))),1) -> 45
D97: 21100124403 | E97: Phân tích và thiết kế hệ thống | F97: 17C1-LTM2 | G97: 1 | H97: 15 | I97: 30 | J97: 43 | K97: =IF(OR(LEFT(E97,2)="ĐA",LEFT(E97,2)="DA",LEFT(E97,5)="Đồ án",LEFT(E97,5)="Đồán ",LEFT(E97,9)="Sinh hoạt",LEFT(E97,9)="sinh hoạt",LEFT(E97,6)="Cố vấn",LEFT(E97,6)="cố vấn",LEFT(E97,4)="cvht",LEFT(E97,4)="CVHT",LEFT(E97,4)="shcn",LEFT(E97,4)="SHCN"),0,(IF(AND(H97>0,J97>0),IF(J97>60,1.3,IF(J97>35,1.2,1)),0))) -> 1.2 | L97: =IF(OR(LEFT(E97,2)="ĐA",LEFT(E97,2)="DA",LEFT(E97,5)="Đồ án",LEFT(E97,5)="Đồán "),0,IF(AND(J97>0,I97>0),IF(AND(OR(LEFT(E97,4)="GDQP",LEFT(E97,4)="gdqp",LEFT(E97,19)="Giáo dục quốc phòng"),J97>50),1.3,IF(J97>35,1.2,IF(J97>29,1.1,1))),0)) -> 1.2 | M97: =ROUND(IF(OR(LEFT(E97,2)="ĐA",LEFT(E97,2)="DA",LEFT(E97,5)="Đồ án",LEFT(E97,5)="Đồán "),J97*0.5,(IF(H97>0,H97*K97,"0")+IF(I97>0,(I97*0.75)*L97,"0"))),1) -> 45
D98: 21100124404 | E98: Phân tích và thiết kế hệ thống | F98: 17C1-TKW1 | G98: 1 | H98: 15 | I98: 30 | J98: 24 | K98: =IF(OR(LEFT(E98,2)="ĐA",LEFT(E98,2)="DA",LEFT(E98,5)="Đồ án",LEFT(E98,5)="Đồán ",LEFT(E98,9)="Sinh hoạt",LEFT(E98,9)="sinh hoạt",LEFT(E98,6)="Cố vấn",LEFT(E98,6)="cố vấn",LEFT(E98,4)="cvht",LEFT(E98,4)="CVHT",LEFT(E98,4)="shcn",LEFT(E98,4)="SHCN"),0,(IF(AND(H98>0,J98>0),IF(J98>60,1.3,IF(J98>35,1.2,1)),0))) -> 1 | L98: =IF(OR(LEFT(E98,2)="ĐA",LEFT(E98,2)="DA",LEFT(E98,5)="Đồ án",LEFT(E98,5)="Đồán "),0,IF(AND(J98>0,I98>0),IF(AND(OR(LEFT(E98,4)="GDQP",LEFT(E98,4)="gdqp",LEFT(E98,19)="Giáo dục quốc phòng"),J98>50),1.3,IF(J98>35,1.2,IF(J98>29,1.1,1))),0)) -> 1 | M98: =ROUND(IF(OR(LEFT(E98,2)="ĐA",LEFT(E98,2)="DA",LEFT(E98,5)="Đồ án",LEFT(E98,5)="Đồán "),J98*0.5,(IF(H98>0,H98*K98,"0")+IF(I98>0,(I98*0.75)*L98,"0"))),1) -> 37.5
D99: 21100124406 | E99: Phân tích và thiết kế hệ thống | F99: 18C1-QTM1 | G99: 1 | H99: 15 | I99: 30 | J99: 62 | K99: =IF(OR(LEFT(E99,2)="ĐA",LEFT(E99,2)="DA",LEFT(E99,5)="Đồ án",LEFT(E99,5)="Đồán ",LEFT(E99,9)="Sinh hoạt",LEFT(E99,9)="sinh hoạt",LEFT(E99,6)="Cố vấn",LEFT(E99,6)="cố vấn",LEFT(E99,4)="cvht",LEFT(E99,4)="CVHT",LEFT(E99,4)="shcn",LEFT(E99,4)="SHCN"),0,(IF(AND(H99>0,J99>0),IF(J99>60,1.3,IF(J99>35,1.2,1)),0))) -> 1.3 | L99: =IF(OR(LEFT(E99,2)="ĐA",LEFT(E99,2)="DA",LEFT(E99,5)="Đồ án",LEFT(E99,5)="Đồán "),0,IF(AND(J99>0,I99>0),IF(AND(OR(LEFT(E99,4)="GDQP",LEFT(E99,4)="gdqp",LEFT(E99,19)="Giáo dục quốc phòng"),J99>50),1.3,IF(J99>35,1.2,IF(J99>29,1.1,1))),0)) -> 1.2 | M99: =ROUND(IF(OR(LEFT(E99,2)="ĐA",LEFT(E99,2)="DA",LEFT(E99,5)="Đồ án",LEFT(E99,5)="Đồán "),J99*0.5,(IF(H99>0,H99*K99,"0")+IF(I99>0,(I99*0.75)*L99,"0"))),1) -> 46.5
D100: 21100124407 | E100: Phân tích và thiết kế hệ thống | F100: 18C1-CMT2 | G100: 1 | H100: 15 | I100: 30 | J100: 40 | K100: =IF(OR(LEFT(E100,2)="ĐA",LEFT(E100,2)="DA",LEFT(E100,5)="Đồ án",LEFT(E100,5)="Đồán ",LEFT(E100,9)="Sinh hoạt",LEFT(E100,9)="sinh hoạt",LEFT(E100,6)="Cố vấn",LEFT(E100,6)="cố vấn",LEFT(E100,4)="cvht",LEFT(E100,4)="CVHT",LEFT(E100,4)="shcn",LEFT(E100,4)="SHCN"),0,(IF(AND(H100>0,J100>0),IF(J100>60,1.3,IF(J100>35,1.2,1)),0))) -> 1.2 | L100: =IF(OR(LEFT(E100,2)="ĐA",LEFT(E100,2)="DA",LEFT(E100,5)="Đồ án",LEFT(E100,5)="Đồán "),0,IF(AND(J100>0,I100>0),IF(AND(OR(LEFT(E100,4)="GDQP",LEFT(E100,4)="gdqp",LEFT(E100,19)="Giáo dục quốc phòng"),J100>50),1.3,IF(J100>35,1.2,IF(J100>29,1.1,1))),0)) -> 1.2 | M100: =ROUND(IF(OR(LEFT(E100,2)="ĐA",LEFT(E100,2)="DA",LEFT(E100,5)="Đồ án",LEFT(E100,5)="Đồán "),J100*0.5,(IF(H100>0,H100*K100,"0")+IF(I100>0,(I100*0.75)*L100,"0"))),1) -> 45
D101: 21100149101 | E101: Công nghệ phần mềm | F101: 17C1-LTM1 | G101: 1 | H101: 30 | I101: 30 | J101: 39 | K101: =IF(OR(LEFT(E101,2)="ĐA",LEFT(E101,2)="DA",LEFT(E101,5)="Đồ án",LEFT(E101,5)="Đồán ",LEFT(E101,9)="Sinh hoạt",LEFT(E101,9)="sinh hoạt",LEFT(E101,6)="Cố vấn",LEFT(E101,6)="cố vấn",LEFT(E101,4)="cvht",LEFT(E101,4)="CVHT",LEFT(E101,4)="shcn",LEFT(E101,4)="SHCN"),0,(IF(AND(H101>0,J101>0),IF(J101>60,1.3,IF(J101>35,1.2,1)),0))) -> 1.2 | L101: =IF(OR(LEFT(E101,2)="ĐA",LEFT(E101,2)="DA",LEFT(E101,5)="Đồ án",LEFT(E101,5)="Đồán "),0,IF(AND(J101>0,I101>0),IF(AND(OR(LEFT(E101,4)="GDQP",LEFT(E101,4)="gdqp",LEFT(E101,19)="Giáo dục quốc phòng"),J101>50),1.3,IF(J101>35,1.2,IF(J101>29,1.1,1))),0)) -> 1.2 | M101: =ROUND(IF(OR(LEFT(E101,2)="ĐA",LEFT(E101,2)="DA",LEFT(E101,5)="Đồ án",LEFT(E101,5)="Đồán "),J101*0.5,(IF(H101>0,H101*K101,"0")+IF(I101>0,(I101*0.75)*L101,"0"))),1) -> 63
D102: 21100149102 | E102: Công nghệ phần mềm | F102: 17C1-LTM2 | G102: 1 | H102: 30 | I102: 30 | J102: 47 | K102: =IF(OR(LEFT(E102,2)="ĐA",LEFT(E102,2)="DA",LEFT(E102,5)="Đồ án",LEFT(E102,5)="Đồán ",LEFT(E102,9)="Sinh hoạt",LEFT(E102,9)="sinh hoạt",LEFT(E102,6)="Cố vấn",LEFT(E102,6)="cố vấn",LEFT(E102,4)="cvht",LEFT(E102,4)="CVHT",LEFT(E102,4)="shcn",LEFT(E102,4)="SHCN"),0,(IF(AND(H102>0,J102>0),IF(J102>60,1.3,IF(J102>35,1.2,1)),0))) -> 1.2 | L102: =IF(OR(LEFT(E102,2)="ĐA",LEFT(E102,2)="DA",LEFT(E102,5)="Đồ án",LEFT(E102,5)="Đồán "),0,IF(AND(J102>0,I102>0),IF(AND(OR(LEFT(E102,4)="GDQP",LEFT(E102,4)="gdqp",LEFT(E102,19)="Giáo dục quốc phòng"),J102>50),1.3,IF(J102>35,1.2,IF(J102>29,1.1,1))),0)) -> 1.2 | M102: =ROUND(IF(OR(LEFT(E102,2)="ĐA",LEFT(E102,2)="DA",LEFT(E102,5)="Đồ án",LEFT(E102,5)="Đồán "),J102*0.5,(IF(H102>0,H102*K102,"0")+IF(I102>0,(I102*0.75)*L102,"0"))),1) -> 63
D103: 50600115201 | E103: Phân tích và thiết kế hệ thống | F103: 16TCN-QTM1 | G103: 1 | H103: 45 | I103: 0 | J103: 64 | K103: =IF(OR(LEFT(E103,2)="ĐA",LEFT(E103,2)="DA",LEFT(E103,5)="Đồ án",LEFT(E103,5)="Đồán ",LEFT(E103,9)="Sinh hoạt",LEFT(E103,9)="sinh hoạt",LEFT(E103,6)="Cố vấn",LEFT(E103,6)="cố vấn",LEFT(E103,4)="cvht",LEFT(E103,4)="CVHT",LEFT(E103,4)="shcn",LEFT(E103,4)="SHCN"),0,(IF(AND(H103>0,J103>0),IF(J103>60,1.3,IF(J103>35,1.2,1)),0))) -> 1.3 | L103: =IF(OR(LEFT(E103,2)="ĐA",LEFT(E103,2)="DA",LEFT(E103,5)="Đồ án",LEFT(E103,5)="Đồán "),0,IF(AND(J103>0,I103>0),IF(AND(OR(LEFT(E103,4)="GDQP",LEFT(E103,4)="gdqp",LEFT(E103,19)="Giáo dục quốc phòng"),J103>50),1.3,IF(J103>35,1.2,IF(J103>29,1.1,1))),0)) -> 0 | M103: =ROUND(IF(OR(LEFT(E103,2)="ĐA",LEFT(E103,2)="DA",LEFT(E103,5)="Đồ án",LEFT(E103,5)="Đồán "),J103*0.5,(IF(H103>0,H103*K103,"0")+IF(I103>0,(I103*0.75)*L103,"0"))),1) -> 58.5
D104: SHCN(12+)81 | E104: Sinh hoạt chủ nhiệm | F104: 16CĐ-TW1 | G104: 1 | K104: =IF(OR(LEFT(E104,2)="ĐA",LEFT(E104,2)="DA",LEFT(E104,5)="Đồ án",LEFT(E104,5)="Đồán ",LEFT(E104,9)="Sinh hoạt",LEFT(E104,9)="sinh hoạt",LEFT(E104,6)="Cố vấn",LEFT(E104,6)="cố vấn",LEFT(E104,4)="cvht",LEFT(E104,4)="CVHT",LEFT(E104,4)="shcn",LEFT(E104,4)="SHCN"),0,(IF(AND(H104>0,J104>0),IF(J104>60,1.3,IF(J104>35,1.2,1)),0))) -> 0 | L104: =IF(OR(LEFT(E104,2)="ĐA",LEFT(E104,2)="DA",LEFT(E104,5)="Đồ án",LEFT(E104,5)="Đồán "),0,IF(AND(J104>0,I104>0),IF(AND(OR(LEFT(E104,4)="GDQP",LEFT(E104,4)="gdqp",LEFT(E104,19)="Giáo dục quốc phòng"),J104>50),1.3,IF(J104>35,1.2,IF(J104>29,1.1,1))),0)) -> 0 | M104: =ROUND(IF(OR(LEFT(E104,2)="ĐA",LEFT(E104,2)="DA",LEFT(E104,5)="Đồ án",LEFT(E104,5)="Đồán "),J104*0.5,(IF(H104>0,H104*K104,"0")+IF(I104>0,(I104*0.75)*L104,"0"))),1) -> 0
D105: 20400138401 | E105: Phân tích và thiết kế hệ thống | F105: 18C2-QTM | G105: 1 | H105: 45 | I105: 0 | J105: 44 | K105: =IF(OR(LEFT(E105,2)="ĐA",LEFT(E105,2)="DA",LEFT(E105,5)="Đồ án",LEFT(E105,5)="Đồán ",LEFT(E105,9)="Sinh hoạt",LEFT(E105,9)="sinh hoạt",LEFT(E105,6)="Cố vấn",LEFT(E105,6)="cố vấn",LEFT(E105,4)="cvht",LEFT(E105,4)="CVHT",LEFT(E105,4)="shcn",LEFT(E105,4)="SHCN"),0,(IF(AND(H105>0,J105>0),IF(J105>60,1.3,IF(J105>35,1.2,1)),0))) -> 1.2 | L105: =IF(OR(LEFT(E105,2)="ĐA",LEFT(E105,2)="DA",LEFT(E105,5)="Đồ án",LEFT(E105,5)="Đồán "),0,IF(AND(J105>0,I105>0),IF(AND(OR(LEFT(E105,4)="GDQP",LEFT(E105,4)="gdqp",LEFT(E105,19)="Giáo dục quốc phòng"),J105>50),1.3,IF(J105>35,1.2,IF(J105>29,1.1,1))),0)) -> 0 | M105: =ROUND(IF(OR(LEFT(E105,2)="ĐA",LEFT(E105,2)="DA",LEFT(E105,5)="Đồ án",LEFT(E105,5)="Đồán "),J105*0.5,(IF(H105>0,H105*K105,"0")+IF(I105>0,(I105*0.75)*L105,"0"))),1) -> 54
D106: 21100093901 | E106: Cơ sở dữ liệu | F106: 18C1-THU1 | G106: 2 | H106: 15 | I106: 30 | J106: 32 | K106: =IF(OR(LEFT(E106,2)="ĐA",LEFT(E106,2)="DA",LEFT(E106,5)="Đồ án",LEFT(E106,5)="Đồán ",LEFT(E106,9)="Sinh hoạt",LEFT(E106,9)="sinh hoạt",LEFT(E106,6)="Cố vấn",LEFT(E106,6)="cố vấn",LEFT(E106,4)="cvht",LEFT(E106,4)="CVHT",LEFT(E106,4)="shcn",LEFT(E106,4)="SHCN"),0,(IF(AND(H106>0,J106>0),IF(J106>60,1.3,IF(J106>35,1.2,1)),0))) -> 1 | L106: =IF(OR(LEFT(E106,2)="ĐA",LEFT(E106,2)="DA",LEFT(E106,5)="Đồ án",LEFT(E106,5)="Đồán "),0,IF(AND(J106>0,I106>0),IF(AND(OR(LEFT(E106,4)="GDQP",LEFT(E106,4)="gdqp",LEFT(E106,19)="Giáo dục quốc phòng"),J106>50),1.3,IF(J106>35,1.2,IF(J106>29,1.1,1))),0)) -> 1.1 | M106: =ROUND(IF(OR(LEFT(E106,2)="ĐA",LEFT(E106,2)="DA",LEFT(E106,5)="Đồ án",LEFT(E106,5)="Đồán "),J106*0.5,(IF(H106>0,H106*K106,"0")+IF(I106>0,(I106*0.75)*L106,"0"))),1) -> 39.8
D107: 21100124401 | E107: Phân tích và thiết kế hệ thống | F107: 18C1-THU1 | G107: 2 | H107: 15 | I107: 30 | J107: 32 | K107: =IF(OR(LEFT(E107,2)="ĐA",LEFT(E107,2)="DA",LEFT(E107,5)="Đồ án",LEFT(E107,5)="Đồán ",LEFT(E107,9)="Sinh hoạt",LEFT(E107,9)="sinh hoạt",LEFT(E107,6)="Cố vấn",LEFT(E107,6)="cố vấn",LEFT(E107,4)="cvht",LEFT(E107,4)="CVHT",LEFT(E107,4)="shcn",LEFT(E107,4)="SHCN"),0,(IF(AND(H107>0,J107>0),IF(J107>60,1.3,IF(J107>35,1.2,1)),0))) -> 1 | L107: =IF(OR(LEFT(E107,2)="ĐA",LEFT(E107,2)="DA",LEFT(E107,5)="Đồ án",LEFT(E107,5)="Đồán "),0,IF(AND(J107>0,I107>0),IF(AND(OR(LEFT(E107,4)="GDQP",LEFT(E107,4)="gdqp",LEFT(E107,19)="Giáo dục quốc phòng"),J107>50),1.3,IF(J107>35,1.2,IF(J107>29,1.1,1))),0)) -> 1.1 | M107: =ROUND(IF(OR(LEFT(E107,2)="ĐA",LEFT(E107,2)="DA",LEFT(E107,5)="Đồ án",LEFT(E107,5)="Đồán "),J107*0.5,(IF(H107>0,H107*K107,"0")+IF(I107>0,(I107*0.75)*L107,"0"))),1) -> 39.8
D108: 21100149601 | E108: Lập trình trên thiết bị di động | F108: 17C1-LTM1 | G108: 2 | H108: 45 | I108: 30 | J108: 38 | K108: =IF(OR(LEFT(E108,2)="ĐA",LEFT(E108,2)="DA",LEFT(E108,5)="Đồ án",LEFT(E108,5)="Đồán ",LEFT(E108,9)="Sinh hoạt",LEFT(E108,9)="sinh hoạt",LEFT(E108,6)="Cố vấn",LEFT(E108,6)="cố vấn",LEFT(E108,4)="cvht",LEFT(E108,4)="CVHT",LEFT(E108,4)="shcn",LEFT(E108,4)="SHCN"),0,(IF(AND(H108>0,J108>0),IF(J108>60,1.3,IF(J108>35,1.2,1)),0))) -> 1.2 | L108: =IF(OR(LEFT(E108,2)="ĐA",LEFT(E108,2)="DA",LEFT(E108,5)="Đồ án",LEFT(E108,5)="Đồán "),0,IF(AND(J108>0,I108>0),IF(AND(OR(LEFT(E108,4)="GDQP",LEFT(E108,4)="gdqp",LEFT(E108,19)="Giáo dục quốc phòng"),J108>50),1.3,IF(J108>35,1.2,IF(J108>29,1.1,1))),0)) -> 1.2 | M108: =ROUND(IF(OR(LEFT(E108,2)="ĐA",LEFT(E108,2)="DA",LEFT(E108,5)="Đồ án",LEFT(E108,5)="Đồán "),J108*0.5,(IF(H108>0,H108*K108,"0")+IF(I108>0,(I108*0.75)*L108,"0"))),1) -> 81
D109: 71400135401 | E109: Kỹ thuật lập trình 2 | F109: 18T4-THU1 | G109: 2 | H109: 15 | I109: 60 | J109: 47 | K109: =IF(OR(LEFT(E109,2)="ĐA",LEFT(E109,2)="DA",LEFT(E109,5)="Đồ án",LEFT(E109,5)="Đồán ",LEFT(E109,9)="Sinh hoạt",LEFT(E109,9)="sinh hoạt",LEFT(E109,6)="Cố vấn",LEFT(E109,6)="cố vấn",LEFT(E109,4)="cvht",LEFT(E109,4)="CVHT",LEFT(E109,4)="shcn",LEFT(E109,4)="SHCN"),0,(IF(AND(H109>0,J109>0),IF(J109>60,1.3,IF(J109>35,1.2,1)),0))) -> 1.2 | L109: =IF(OR(LEFT(E109,2)="ĐA",LEFT(E109,2)="DA",LEFT(E109,5)="Đồ án",LEFT(E109,5)="Đồán "),0,IF(AND(J109>0,I109>0),IF(AND(OR(LEFT(E109,4)="GDQP",LEFT(E109,4)="gdqp",LEFT(E109,19)="Giáo dục quốc phòng"),J109>50),1.3,IF(J109>35,1.2,IF(J109>29,1.1,1))),0)) -> 1.2 | M109: =ROUND(IF(OR(LEFT(E109,2)="ĐA",LEFT(E109,2)="DA",LEFT(E109,5)="Đồ án",LEFT(E109,5)="Đồán "),J109*0.5,(IF(H109>0,H109*K109,"0")+IF(I109>0,(I109*0.75)*L109,"0"))),1) -> 72
D110: 20200003501 | E110: Công nghệ phần mềm | F110: 16CĐ-TP1 | G110: 2 | H110: 45 | I110: 0 | J110: 64 | K110: =IF(OR(LEFT(E110,2)="ĐA",LEFT(E110,2)="DA",LEFT(E110,5)="Đồ án",LEFT(E110,5)="Đồán ",LEFT(E110,9)="Sinh hoạt",LEFT(E110,9)="sinh hoạt",LEFT(E110,6)="Cố vấn",LEFT(E110,6)="cố vấn",LEFT(E110,4)="cvht",LEFT(E110,4)="CVHT",LEFT(E110,4)="shcn",LEFT(E110,4)="SHCN"),0,(IF(AND(H110>0,J110>0),IF(J110>60,1.3,IF(J110>35,1.2,1)),0))) -> 1.3 | L110: =IF(OR(LEFT(E110,2)="ĐA",LEFT(E110,2)="DA",LEFT(E110,5)="Đồ án",LEFT(E110,5)="Đồán "),0,IF(AND(J110>0,I110>0),IF(AND(OR(LEFT(E110,4)="GDQP",LEFT(E110,4)="gdqp",LEFT(E110,19)="Giáo dục quốc phòng"),J110>50),1.3,IF(J110>35,1.2,IF(J110>29,1.1,1))),0)) -> 0 | M110: =ROUND(IF(OR(LEFT(E110,2)="ĐA",LEFT(E110,2)="DA",LEFT(E110,5)="Đồ án",LEFT(E110,5)="Đồán "),J110*0.5,(IF(H110>0,H110*K110,"0")+IF(I110>0,(I110*0.75)*L110,"0"))),1) -> 58.5
D111: 21100119919 | E111: Tin học (N1) | F111: 18C1-CCK2 | G111: 2 | H111: 30 | I111: 60 | J111: 29 | K111: =IF(OR(LEFT(E111,2)="ĐA",LEFT(E111,2)="DA",LEFT(E111,5)="Đồ án",LEFT(E111,5)="Đồán ",LEFT(E111,9)="Sinh hoạt",LEFT(E111,9)="sinh hoạt",LEFT(E111,6)="Cố vấn",LEFT(E111,6)="cố vấn",LEFT(E111,4)="cvht",LEFT(E111,4)="CVHT",LEFT(E111,4)="shcn",LEFT(E111,4)="SHCN"),0,(IF(AND(H111>0,J111>0),IF(J111>60,1.3,IF(J111>35,1.2,1)),0))) -> 1 | L111: =IF(OR(LEFT(E111,2)="ĐA",LEFT(E111,2)="DA",LEFT(E111,5)="Đồ án",LEFT(E111,5)="Đồán "),0,IF(AND(J111>0,I111>0),IF(AND(OR(LEFT(E111,4)="GDQP",LEFT(E111,4)="gdqp",LEFT(E111,19)="Giáo dục quốc phòng"),J111>50),1.3,IF(J111>35,1.2,IF(J111>29,1.1,1))),0)) -> 1 | M111: =ROUND(IF(OR(LEFT(E111,2)="ĐA",LEFT(E111,2)="DA",LEFT(E111,5)="Đồ án",LEFT(E111,5)="Đồán "),J111*0.5,(IF(H111>0,H111*K111,"0")+IF(I111>0,(I111*0.75)*L111,"0"))),1) -> 75
...

Sheet Sheet1
A1: 18T4-QTM | B1: 60
A2: 18C1-TKĐ1 | B2: 70
A3: 18C1-QTM | B3: 62
A4: 16CĐTP | B4: 65
A5: 16CĐ-TW | B5: 54
A6: 16TCN
